BEGIN:VCALENDAR
VERSION:2.0
PRODID:-//Mountain BizWorks - ECPv6.15.20//NONSGML v1.0//EN
CALSCALE:GREGORIAN
METHOD:PUBLISH
X-WR-CALNAME:Mountain BizWorks
X-ORIGINAL-URL:https://wpengine.mountainbizworks.org
X-WR-CALDESC:Events for Mountain BizWorks
REFRESH-INTERVAL;VALUE=DURATION:PT1H
X-Robots-Tag:noindex
X-PUBLISHED-TTL:PT1H
BEGIN:VTIMEZONE
TZID:America/New_York
BEGIN:DAYLIGHT
TZOFFSETFROM:-0500
TZOFFSETTO:-0400
TZNAME:EDT
DTSTART:20230312T070000
END:DAYLIGHT
BEGIN:STANDARD
TZOFFSETFROM:-0400
TZOFFSETTO:-0500
TZNAME:EST
DTSTART:20231105T060000
END:STANDARD
BEGIN:DAYLIGHT
TZOFFSETFROM:-0500
TZOFFSETTO:-0400
TZNAME:EDT
DTSTART:20240310T070000
END:DAYLIGHT
BEGIN:STANDARD
TZOFFSETFROM:-0400
TZOFFSETTO:-0500
TZNAME:EST
DTSTART:20241103T060000
END:STANDARD
BEGIN:DAYLIGHT
TZOFFSETFROM:-0500
TZOFFSETTO:-0400
TZNAME:EDT
DTSTART:20250309T070000
END:DAYLIGHT
BEGIN:STANDARD
TZOFFSETFROM:-0400
TZOFFSETTO:-0500
TZNAME:EST
DTSTART:20251102T060000
END:STANDARD
BEGIN:DAYLIGHT
TZOFFSETFROM:-0500
TZOFFSETTO:-0400
TZNAME:EDT
DTSTART:20260308T070000
END:DAYLIGHT
BEGIN:STANDARD
TZOFFSETFROM:-0400
TZOFFSETTO:-0500
TZNAME:EST
DTSTART:20261101T060000
END:STANDARD
BEGIN:DAYLIGHT
TZOFFSETFROM:-0500
TZOFFSETTO:-0400
TZNAME:EDT
DTSTART:20270314T070000
END:DAYLIGHT
BEGIN:STANDARD
TZOFFSETFROM:-0400
TZOFFSETTO:-0500
TZNAME:EST
DTSTART:20271107T060000
END:STANDARD
END:VTIMEZONE
BEGIN:VTIMEZONE
TZID:UTC
BEGIN:STANDARD
TZOFFSETFROM:+0000
TZOFFSETTO:+0000
TZNAME:UTC
DTSTART:20250101T000000
END:STANDARD
END:VTIMEZONE
BEGIN:VEVENT
DTSTART;TZID=America/New_York:20260320T100000
DTEND;TZID=America/New_York:20260320T110000
DTSTAMP:20260424T154348
CREATED:20260123T190010Z
LAST-MODIFIED:20260123T190039Z
UID:10002898-1774000800-1774004400@wpengine.mountainbizworks.org
SUMMARY:Orientation Session
DESCRIPTION:Join us for an information session to discover what resources are available at Mountain BizWorks that will help you start\, grow\, and thrive in your business. Hosted by our Learning Programs Manager\, Holly Rivers\, this session is a great opportunity to learn more about Mountain BizWorks’ small business lending and learning programs.
URL:https://wpengine.mountainbizworks.org/event/orientation-session-70/
LOCATION:Virtual\, Online — Zoom\, NC
CATEGORIES:Event,Learn,Online,Orientation Session
END:VEVENT
BEGIN:VEVENT
DTSTART;TZID=America/New_York:20260202T180000
DTEND;TZID=America/New_York:20260202T190000
DTSTAMP:20260424T154348
CREATED:20251121T221102Z
LAST-MODIFIED:20251121T221151Z
UID:10002887-1770055200-1770058800@wpengine.mountainbizworks.org
SUMMARY:Orientation Session
DESCRIPTION:Join us for an information session to discover what resources are available at Mountain BizWorks that will help you start\, grow\, and thrive in your business. Hosted by our Learning Programs Manager\, Holly Rivers\, this session is a great opportunity to learn more about Mountain BizWorks’ small business lending and learning programs.
URL:https://wpengine.mountainbizworks.org/event/orientation-session-68/
LOCATION:Mountain BizWorks\, 153 S Lexington Ave\, Asheville\, NC\, 28801\, United States
CATEGORIES:Event,In-Person,Learn,Orientation Session
END:VEVENT
BEGIN:VEVENT
DTSTART;TZID=America/New_York:20260126T173000
DTEND;TZID=America/New_York:20260126T183000
DTSTAMP:20260424T154348
CREATED:20251121T220820Z
LAST-MODIFIED:20251121T220901Z
UID:10002886-1769448600-1769452200@wpengine.mountainbizworks.org
SUMMARY:Orientation Session
DESCRIPTION:Join us for an information session to discover what resources are available at Mountain BizWorks that will help you start\, grow\, and thrive in your business. Hosted by our Learning Programs Coordinator\, Amanda Ross\, this session is a great opportunity to learn more about Mountain BizWorks’ small business lending and learning programs.
URL:https://wpengine.mountainbizworks.org/event/orientation-session-67/
LOCATION:Virtual\, Online — Zoom\, NC
CATEGORIES:Event,Learn,Online,Orientation Session
END:VEVENT
BEGIN:VEVENT
DTSTART;TZID=UTC:20260115T173000
DTEND;TZID=UTC:20260115T183000
DTSTAMP:20260424T154348
CREATED:20251205T205725Z
LAST-MODIFIED:20251205T213641Z
UID:10002891-1768498200-1768501800@wpengine.mountainbizworks.org
SUMMARY:Orientación para el Curso de Planeación de Negocios Fundaciones
DESCRIPTION:Sesión de Orientación en Persona:\nÚnase a nosotros para una sesión de orientación e información en persona para el Curso de Planeación de Negocios Fundaciones el 15 de enero de 5:30pm a 6:30pm en Hola Carolina\, Hendersonville. Durante esta sesión\, podrá obtener más información sobre el curso Fundaciones\, hacer preguntas\, registrarse y pagar en efectivo. \nPresentada por nuestra Gerente del Programa de Emprendimiento Latino\, Jenny Forero.
URL:https://wpengine.mountainbizworks.org/event/orientacion-para-el-curso-de-planeacion-de-negocios-fundaciones/
LOCATION:Hola Carolina\, 801 4th avenue\, East Hendersonville\, NC\, 28792
CATEGORIES:Event,In-Person,Latinx Entrepreneurship Programming,Learn,Orientacion,Orientation Session
END:VEVENT
BEGIN:VEVENT
DTSTART;TZID=America/New_York:20260106T100000
DTEND;TZID=America/New_York:20260106T110000
DTSTAMP:20260424T154348
CREATED:20251121T220615Z
LAST-MODIFIED:20260105T132155Z
UID:10002885-1767693600-1767697200@wpengine.mountainbizworks.org
SUMMARY:FULL - Orientation Session
DESCRIPTION:Join us for an information session to discover what resources are available at Mountain BizWorks that will help you start\, grow\, and thrive in your business. Hosted by our Learning Programs Manager\, Holly Rivers\, this session is a great opportunity to learn more about Mountain BizWorks’ small business lending and learning programs.
URL:https://wpengine.mountainbizworks.org/event/orientation-session-66/
LOCATION:Mountain BizWorks\, 153 S Lexington Ave\, Asheville\, NC\, 28801\, United States
CATEGORIES:Event,In-Person,Learn,Orientation Session
END:VEVENT
BEGIN:VEVENT
DTSTART;TZID=America/New_York:20251203T100000
DTEND;TZID=America/New_York:20251203T110000
DTSTAMP:20260424T154348
CREATED:20251014T132910Z
LAST-MODIFIED:20251014T132951Z
UID:10002872-1764756000-1764759600@wpengine.mountainbizworks.org
SUMMARY:Orientation Session
DESCRIPTION:Join us for an information session to discover what resources are available at Mountain BizWorks that will help you start\, grow\, and thrive in your business. Hosted by our Learning Programs Coordinator\, Amanda Ross\, this session is a great opportunity to learn more about Mountain BizWorks’ small business lending and learning programs.
URL:https://wpengine.mountainbizworks.org/event/orientation-session-65/
LOCATION:Virtual\, Online — Zoom\, NC
CATEGORIES:Event,Learn,Online,Orientation Session
END:VEVENT
BEGIN:VEVENT
DTSTART;TZID=America/New_York:20251117T180000
DTEND;TZID=America/New_York:20251117T190000
DTSTAMP:20260424T154348
CREATED:20250917T133933Z
LAST-MODIFIED:20250917T133949Z
UID:10002868-1763402400-1763406000@wpengine.mountainbizworks.org
SUMMARY:Orientation Session
DESCRIPTION:Join us for an information session to discover what resources are available at Mountain BizWorks that will help you start\, grow\, and thrive in your business. Hosted by our Learning Programs Manager\, Holly Rivers\, this session is a great opportunity to learn more about Mountain BizWorks’ small business lending and learning programs.
URL:https://wpengine.mountainbizworks.org/event/orientation-session-64/
LOCATION:Mountain BizWorks\, 153 S Lexington Ave\, Asheville\, NC\, 28801\, United States
CATEGORIES:Event,In-Person,Learn,Orientation Session
END:VEVENT
BEGIN:VEVENT
DTSTART;TZID=America/New_York:20251029T173000
DTEND;TZID=America/New_York:20251029T183000
DTSTAMP:20260424T154348
CREATED:20250911T001110Z
LAST-MODIFIED:20250911T001151Z
UID:10002866-1761759000-1761762600@wpengine.mountainbizworks.org
SUMMARY:Orientation Session
DESCRIPTION:Join us for an information session to discover what resources are available at Mountain BizWorks that will help you start\, grow\, and thrive in your business. Hosted by our Learning Programs Coordinator\, Amanda Ross\, this session is a great opportunity to learn more about Mountain BizWorks’ small business lending and learning programs.
URL:https://wpengine.mountainbizworks.org/event/orientation-session-63/
LOCATION:Virtual\, Online — Zoom\, NC
CATEGORIES:Event,Learn,Online,Orientation Session
END:VEVENT
BEGIN:VEVENT
DTSTART;TZID=America/New_York:20251008T180000
DTEND;TZID=America/New_York:20251008T190000
DTSTAMP:20260424T154348
CREATED:20250911T000838Z
LAST-MODIFIED:20250911T000904Z
UID:10002865-1759946400-1759950000@wpengine.mountainbizworks.org
SUMMARY:Orientation Session
DESCRIPTION:Join us for an information session to discover what resources are available at Mountain BizWorks that will help you start\, grow\, and thrive in your business. Hosted by our Learning Programs Manager\, Holly Rivers\, this session is a great opportunity to learn more about Mountain BizWorks’ small business lending and learning programs.
URL:https://wpengine.mountainbizworks.org/event/orientation-session-62/
LOCATION:Mountain BizWorks\, 153 S Lexington Ave\, Asheville\, NC\, 28801\, United States
CATEGORIES:Event,In-Person,Learn,Orientation Session
END:VEVENT
BEGIN:VEVENT
DTSTART;TZID=America/New_York:20250924T100000
DTEND;TZID=America/New_York:20250924T110000
DTSTAMP:20260424T154348
CREATED:20250617T153652Z
LAST-MODIFIED:20250617T153705Z
UID:10002833-1758708000-1758711600@wpengine.mountainbizworks.org
SUMMARY:Orientation Session
DESCRIPTION:Join us for an information session to discover what resources are available at Mountain BizWorks that will help you start\, grow\, and thrive in your business. Hosted by our Learning Programs Coordinator\, Amanda Ross\, this session is a great opportunity to learn more about Mountain BizWorks’ small business lending and learning programs.
URL:https://wpengine.mountainbizworks.org/event/orientation-session-61/
LOCATION:Virtual\, Online — Zoom\, NC
CATEGORIES:Event,Learn,Online,Orientation Session
END:VEVENT
BEGIN:VEVENT
DTSTART;TZID=America/New_York:20250912T100000
DTEND;TZID=America/New_York:20250912T110000
DTSTAMP:20260424T154348
CREATED:20250617T014314Z
LAST-MODIFIED:20250911T134146Z
UID:10002831-1757671200-1757674800@wpengine.mountainbizworks.org
SUMMARY:FULL - Orientation Session
DESCRIPTION:Join us for an information session to discover what resources are available at Mountain BizWorks that will help you start\, grow\, and thrive in your business. Hosted by our Learning Programs Manager\, Holly Rivers\, this session is a great opportunity to learn more about Mountain BizWorks’ small business lending and learning programs.
URL:https://wpengine.mountainbizworks.org/event/orientation-session-59/
LOCATION:Mountain BizWorks\, 153 S Lexington Ave\, Asheville\, NC\, 28801\, United States
CATEGORIES:Event,In-Person,Learn,Orientation Session
END:VEVENT
BEGIN:VEVENT
DTSTART;TZID=America/New_York:20250825T173000
DTEND;TZID=America/New_York:20250825T183000
DTSTAMP:20260424T154348
CREATED:20250617T153337Z
LAST-MODIFIED:20250617T153406Z
UID:10002832-1756143000-1756146600@wpengine.mountainbizworks.org
SUMMARY:Orientation Session
DESCRIPTION:Join us for an information session to discover what resources are available at Mountain BizWorks that will help you start\, grow\, and thrive in your business. Hosted by our Learning Programs Coordinator\, Amanda Ross\, this session is a great opportunity to learn more about Mountain BizWorks’ small business lending and learning programs.
URL:https://wpengine.mountainbizworks.org/event/orientation-session-60/
LOCATION:Virtual\, Online — Zoom\, NC
CATEGORIES:Event,Learn,Online,Orientation Session
END:VEVENT
BEGIN:VEVENT
DTSTART;TZID=America/New_York:20250806T180000
DTEND;TZID=America/New_York:20250806T190000
DTSTAMP:20260424T154348
CREATED:20250617T013941Z
LAST-MODIFIED:20250806T160320Z
UID:10002830-1754503200-1754506800@wpengine.mountainbizworks.org
SUMMARY:FULL - Orientation Session
DESCRIPTION:Join us for an information session to discover what resources are available at Mountain BizWorks that will help you start\, grow\, and thrive in your business. Hosted by our Learning Programs Manager\, Holly Rivers\, this session is a great opportunity to learn more about Mountain BizWorks’ small business lending and learning programs.
URL:https://wpengine.mountainbizworks.org/event/orientation-session-58/
LOCATION:Mountain BizWorks\, 153 S Lexington Ave\, Asheville\, NC\, 28801\, United States
CATEGORIES:Event,In-Person,Learn,Orientation Session
END:VEVENT
BEGIN:VEVENT
DTSTART;TZID=America/New_York:20250729T100000
DTEND;TZID=America/New_York:20250729T110000
DTSTAMP:20260424T154348
CREATED:20250502T215519Z
LAST-MODIFIED:20250502T215532Z
UID:10002814-1753783200-1753786800@wpengine.mountainbizworks.org
SUMMARY:Orientation Session
DESCRIPTION:Join us for an information session to discover what resources are available at Mountain BizWorks that will help you start\, grow\, and thrive in your business. Hosted by our Learning Programs Coordinator\, Amanda Ross\, this session is a great opportunity to learn more about Mountain BizWorks’ small business lending and learning programs.
URL:https://wpengine.mountainbizworks.org/event/orientation-session-57/
LOCATION:Virtual\, Online — Zoom\, NC
CATEGORIES:Event,Learn,Online,Orientation Session
END:VEVENT
BEGIN:VEVENT
DTSTART;TZID=America/New_York:20250703T100000
DTEND;TZID=America/New_York:20250703T110000
DTSTAMP:20260424T154348
CREATED:20250502T215322Z
LAST-MODIFIED:20250630T144614Z
UID:10002813-1751536800-1751540400@wpengine.mountainbizworks.org
SUMMARY:FULL - Orientation Session
DESCRIPTION:Join us for an information session to discover what resources are available at Mountain BizWorks that will help you start\, grow\, and thrive in your business. Hosted by our Learning Programs Manager\, Holly Rivers\, this session is a great opportunity to learn more about Mountain BizWorks’ small business lending and learning programs.
URL:https://wpengine.mountainbizworks.org/event/orientation-session-56/
LOCATION:Mountain BizWorks\, 153 S Lexington Ave\, Asheville\, NC\, 28801\, United States
CATEGORIES:Event,In-Person,Learn,Orientation Session
END:VEVENT
BEGIN:VEVENT
DTSTART;TZID=America/New_York:20250527T173000
DTEND;TZID=America/New_York:20250527T183000
DTSTAMP:20260424T154348
CREATED:20250402T181932Z
LAST-MODIFIED:20250402T183734Z
UID:10002806-1748367000-1748370600@wpengine.mountainbizworks.org
SUMMARY:Orientation Session
DESCRIPTION:Join us for an information session to discover what resources are available at Mountain BizWorks that will help you start\, grow\, and thrive in your business. Hosted by our Learning Programs Coordinator\, Amanda Ross\, this session is a great opportunity to learn more about Mountain BizWorks’ small business lending and learning programs.
URL:https://wpengine.mountainbizworks.org/event/orientation-session-55/
LOCATION:Virtual\, Online — Zoom\, NC
CATEGORIES:Event,Learn,Online,Orientation Session
END:VEVENT
BEGIN:VEVENT
DTSTART;TZID=America/New_York:20250512T180000
DTEND;TZID=America/New_York:20250512T190000
DTSTAMP:20260424T154348
CREATED:20250402T181457Z
LAST-MODIFIED:20250402T181509Z
UID:10002805-1747072800-1747076400@wpengine.mountainbizworks.org
SUMMARY:Orientation Session
DESCRIPTION:Join us for an information session to discover what resources are available at Mountain BizWorks that will help you start\, grow\, and thrive in your business. Hosted by our Learning Programs Manager\, Holly Rivers\, this session is a great opportunity to learn more about Mountain BizWorks’ small business lending and learning programs.
URL:https://wpengine.mountainbizworks.org/event/orientation-session-54/
LOCATION:Mountain BizWorks\, 153 S Lexington Ave\, Asheville\, NC\, 28801\, United States
CATEGORIES:Event,In-Person,Learn,Orientation Session
END:VEVENT
BEGIN:VEVENT
DTSTART;TZID=America/New_York:20250423T100000
DTEND;TZID=America/New_York:20250423T110000
DTSTAMP:20260424T154348
CREATED:20250311T181032Z
LAST-MODIFIED:20250319T171211Z
UID:10002783-1745402400-1745406000@wpengine.mountainbizworks.org
SUMMARY:Orientation Session
DESCRIPTION:Join us for an information session to discover what resources are available at Mountain BizWorks that will help you start\, grow\, and thrive in your business. Hosted by our Learning Programs Coordinator\, Amanda Ross\, this session is a great opportunity to learn more about Mountain BizWorks’ small business lending and learning programs.
URL:https://wpengine.mountainbizworks.org/event/orientation-session-53/
LOCATION:Virtual\, Online — Zoom\, NC
CATEGORIES:Event,Learn,Online,Orientation Session
END:VEVENT
BEGIN:VEVENT
DTSTART;TZID=America/New_York:20250403T100000
DTEND;TZID=America/New_York:20250403T110000
DTSTAMP:20260424T154348
CREATED:20250214T184302Z
LAST-MODIFIED:20250331T151742Z
UID:10002778-1743674400-1743678000@wpengine.mountainbizworks.org
SUMMARY:FULL - Orientation Session
DESCRIPTION:Join us for an information session to discover what resources are available at Mountain BizWorks that will help you start\, grow\, and thrive in your business. Hosted by our Learning Programs Manager\, Holly Rivers\, this session is a great opportunity to learn more about Mountain BizWorks’ small business lending and learning programs.
URL:https://wpengine.mountainbizworks.org/event/orientation-session-52/
LOCATION:Mountain BizWorks\, 153 S Lexington Ave\, Asheville\, NC\, 28801\, United States
CATEGORIES:Event,Learn,Orientation Session
END:VEVENT
BEGIN:VEVENT
DTSTART;TZID=America/New_York:20250313T180000
DTEND;TZID=America/New_York:20250313T190000
DTSTAMP:20260424T154348
CREATED:20250116T154311Z
LAST-MODIFIED:20250225T201211Z
UID:10002773-1741888800-1741892400@wpengine.mountainbizworks.org
SUMMARY:Orientation Session
DESCRIPTION:Join us for an information session to discover what resources are available at Mountain BizWorks that will help you start\, grow\, and thrive in your business. Hosted by our Learning Programs Coordinator\, Amanda Ross\, this session is a great opportunity to learn more about Mountain BizWorks’ small business lending and learning programs.
URL:https://wpengine.mountainbizworks.org/event/orientation-session-51/
LOCATION:Virtual\, Online — Zoom\, NC
CATEGORIES:Event,Learn,Online,Orientation Session
END:VEVENT
BEGIN:VEVENT
DTSTART;TZID=America/New_York:20250226T180000
DTEND;TZID=America/New_York:20250226T190000
DTSTAMP:20260424T154348
CREATED:20241213T235754Z
LAST-MODIFIED:20250221T004000Z
UID:10002769-1740592800-1740596400@wpengine.mountainbizworks.org
SUMMARY:(FULL) Orientation Session
DESCRIPTION:Join us for an information session to discover what resources are available at Mountain BizWorks that will help you start\, grow\, and thrive in your business. Hosted by our Learning Program Manager\, Holly Rivers\, this session is a great opportunity to learn more about Mountain BizWorks’ small business lending and learning programs.
URL:https://wpengine.mountainbizworks.org/event/orientation-session-avl-3/
LOCATION:Mountain BizWorks Asheville Office\, 153 Lexington Ave\, Asheville\, 28801\, United States
CATEGORIES:Event,Learn,Online,Orientation Session
END:VEVENT
BEGIN:VEVENT
DTSTART;TZID=America/New_York:20250204T100000
DTEND;TZID=America/New_York:20250204T110000
DTSTAMP:20260424T154348
CREATED:20241212T223410Z
LAST-MODIFIED:20241216T181958Z
UID:10002768-1738663200-1738666800@wpengine.mountainbizworks.org
SUMMARY:Orientation Session
DESCRIPTION:Join us for an information session to discover what resources are available at Mountain BizWorks that will help you start\, grow\, and thrive in your business. Hosted by our Learning Program Coordinator\, Amanda Ross\, this session is a great opportunity to learn more about Mountain BizWorks’ small business lending and learning programs. 
URL:https://wpengine.mountainbizworks.org/event/orientation-session-virtual-12/
CATEGORIES:Event,Learn,Online,Orientation Session
END:VEVENT
BEGIN:VEVENT
DTSTART;TZID=America/New_York:20250121T100000
DTEND;TZID=America/New_York:20250121T110000
DTSTAMP:20260424T154348
CREATED:20241201T214104Z
LAST-MODIFIED:20250110T192743Z
UID:10002759-1737453600-1737457200@wpengine.mountainbizworks.org
SUMMARY:FULL - Orientation Session
DESCRIPTION:Join us for an information session to discover what resources are available at Mountain BizWorks that will help you start\, grow\, and thrive in your business. Hosted by our Learning Program Manager\, Holly Rivers\, this session is a great opportunity to learn more about Mountain BizWorks’ small business lending and learning programs. 
URL:https://wpengine.mountainbizworks.org/event/orientation-session-avl-2/
LOCATION:Mountain BizWorks Asheville Office\, 153 Lexington Ave\, Asheville\, 28801\, United States
CATEGORIES:Event,Learn,Online,Orientation Session
END:VEVENT
BEGIN:VEVENT
DTSTART;TZID=America/New_York:20250106T180000
DTEND;TZID=America/New_York:20250106T190000
DTSTAMP:20260424T154348
CREATED:20241201T212236Z
LAST-MODIFIED:20250106T160737Z
UID:10002758-1736186400-1736190000@wpengine.mountainbizworks.org
SUMMARY:Orientation Session - FULL
DESCRIPTION:Join us for an information session to discover what resources are available at Mountain BizWorks that will help you start\, grow\, and thrive in your business. Hosted by our Learning Program Manager\, Holly Rivers\, this session is a great opportunity to learn more about Mountain BizWorks’ small business lending and learning programs. 
URL:https://wpengine.mountainbizworks.org/event/orientation-session-virtual-11/
CATEGORIES:Event,Learn,Online,Orientation Session
END:VEVENT
BEGIN:VEVENT
DTSTART;TZID=America/New_York:20241205T100000
DTEND;TZID=America/New_York:20241205T110000
DTSTAMP:20260424T154348
CREATED:20240819T173912Z
LAST-MODIFIED:20241203T171828Z
UID:10002729-1733392800-1733396400@wpengine.mountainbizworks.org
SUMMARY:Orientation Session (AVL) - FULL
DESCRIPTION:Join us for an information session to discover what resources are available at Mountain BizWorks that will help you start\, grow\, and thrive in your business. Hosted by our Learning Program Manager\, Holly Rivers\, this session is a great opportunity to learn more about Mountain BizWorks’ small business lending and learning programs. 
URL:https://wpengine.mountainbizworks.org/event/orientation-session-avl-in-person-4/
LOCATION:Mountain BizWorks Asheville Office\, 153 Lexington Ave\, Asheville\, 28801\, United States
CATEGORIES:Event,Learn,Online,Orientation Session
END:VEVENT
BEGIN:VEVENT
DTSTART;TZID=America/New_York:20241113T180000
DTEND;TZID=America/New_York:20241113T190000
DTSTAMP:20260424T154348
CREATED:20240819T173223Z
LAST-MODIFIED:20240819T173223Z
UID:10002728-1731520800-1731524400@wpengine.mountainbizworks.org
SUMMARY:Orientation Session (Virtual)
DESCRIPTION:Join us for an information session to discover what resources are available at Mountain BizWorks that will help you start\, grow\, and thrive in your business. Hosted by our Learning Program Manager\, Holly Rivers\, this session is a great opportunity to learn more about Mountain BizWorks’ small business lending and learning programs. 
URL:https://wpengine.mountainbizworks.org/event/orientation-session-virtual-10/
LOCATION:153 South Lexington Ave\, Asheville\, 28801\, United States
CATEGORIES:Event,Learn,Online,Orientation Session
END:VEVENT
BEGIN:VEVENT
DTSTART;TZID=America/New_York:20241029T100000
DTEND;TZID=America/New_York:20241029T110000
DTSTAMP:20260424T154348
CREATED:20240715T005554Z
LAST-MODIFIED:20241004T233227Z
UID:10002722-1730196000-1730199600@wpengine.mountainbizworks.org
SUMMARY:CANCELLED - Orientation Session (AVL - In Person)
DESCRIPTION:Join us for an information session to discover what resources are available at Mountain BizWorks that will help you start\, grow\, and thrive in your business. Hosted by our Learning Program Manager\, Holly Rivers\, this session is a great opportunity to learn more about Mountain BizWorks’ small business lending and learning programs. 
URL:https://wpengine.mountainbizworks.org/event/orientation-session-avl-in-person-3/
LOCATION:Mountain BizWorks Asheville Office\, 153 Lexington Ave\, Asheville\, 28801\, United States
CATEGORIES:Event,Learn,Online,Orientation Session
END:VEVENT
BEGIN:VEVENT
DTSTART;TZID=America/New_York:20241009T100000
DTEND;TZID=America/New_York:20241009T110000
DTSTAMP:20260424T154348
CREATED:20240715T004108Z
LAST-MODIFIED:20241004T232729Z
UID:10002720-1728468000-1728471600@wpengine.mountainbizworks.org
SUMMARY:CANCELLED - Orientation Session (Virtual)
DESCRIPTION:Join us for an information session to discover what resources are available at Mountain BizWorks that will help you start\, grow\, and thrive in your business. Hosted by our Learning Program Manager\, Holly Rivers\, this session is a great opportunity to learn more about Mountain BizWorks’ small business lending and learning programs. 
URL:https://wpengine.mountainbizworks.org/event/orientation-session-virtual-9/
LOCATION:153 South Lexington Ave\, Asheville\, 28801\, United States
CATEGORIES:Event,Learn,Online,Orientation Session
END:VEVENT
BEGIN:VEVENT
DTSTART;TZID=America/New_York:20241002T180000
DTEND;TZID=America/New_York:20241002T190000
DTSTAMP:20260424T154348
CREATED:20240715T003001Z
LAST-MODIFIED:20240926T135303Z
UID:10002719-1727892000-1727895600@wpengine.mountainbizworks.org
SUMMARY:Orientation Session (AVL - In Person) - RESCHEDULED from 9/26
DESCRIPTION:Due to inclement weather\, we have rescheduled the Sept 26th Orientation to Oct. 2nd.  Due to some participant’s schedules\, this has opened up some space and we are taking new registrations.   \nJoin us for an information session to discover what resources are available at Mountain BizWorks that will help you start\, grow\, and thrive in your business. Hosted by our Learning Program Manager\, Holly Rivers\, this session is a great opportunity to learn more about Mountain BizWorks’ small business lending and learning programs. 
URL:https://wpengine.mountainbizworks.org/event/orientation-session-avl-in-person-2/
LOCATION:Mountain BizWorks Asheville Office\, 153 Lexington Ave\, Asheville\, 28801\, United States
CATEGORIES:Event,Learn,Online,Orientation Session
END:VEVENT
BEGIN:VEVENT
DTSTART;TZID=America/New_York:20240909T180000
DTEND;TZID=America/New_York:20240909T190000
DTSTAMP:20260424T154348
CREATED:20240715T001624Z
LAST-MODIFIED:20240905T145230Z
UID:10002718-1725904800-1725908400@wpengine.mountainbizworks.org
SUMMARY:Orientation Session (Virtual) FULL & CLOSED
DESCRIPTION:Join us for an information session to discover what resources are available at Mountain BizWorks that will help you start\, grow\, and thrive in your business. Hosted by our Learning Program Manager\, Holly Rivers\, this session is a great opportunity to learn more about Mountain BizWorks’ small business lending and learning programs. 
URL:https://wpengine.mountainbizworks.org/event/orientation-session-virtual-8/
LOCATION:153 South Lexington Ave\, Asheville\, 28801\, United States
CATEGORIES:Event,Learn,Online,Orientation Session
END:VEVENT
END:VCALENDAR