BEGIN:VCALENDAR
VERSION:2.0
PRODID:-//Mountain BizWorks - ECPv6.15.20//NONSGML v1.0//EN
CALSCALE:GREGORIAN
METHOD:PUBLISH
X-WR-CALNAME:Mountain BizWorks
X-ORIGINAL-URL:https://wpengine.mountainbizworks.org
X-WR-CALDESC:Events for Mountain BizWorks
REFRESH-INTERVAL;VALUE=DURATION:PT1H
X-Robots-Tag:noindex
X-PUBLISHED-TTL:PT1H
BEGIN:VTIMEZONE
TZID:America/New_York
BEGIN:DAYLIGHT
TZOFFSETFROM:-0500
TZOFFSETTO:-0400
TZNAME:EDT
DTSTART:20250309T070000
END:DAYLIGHT
BEGIN:STANDARD
TZOFFSETFROM:-0400
TZOFFSETTO:-0500
TZNAME:EST
DTSTART:20251102T060000
END:STANDARD
BEGIN:DAYLIGHT
TZOFFSETFROM:-0500
TZOFFSETTO:-0400
TZNAME:EDT
DTSTART:20260308T070000
END:DAYLIGHT
BEGIN:STANDARD
TZOFFSETFROM:-0400
TZOFFSETTO:-0500
TZNAME:EST
DTSTART:20261101T060000
END:STANDARD
BEGIN:DAYLIGHT
TZOFFSETFROM:-0500
TZOFFSETTO:-0400
TZNAME:EDT
DTSTART:20270314T070000
END:DAYLIGHT
BEGIN:STANDARD
TZOFFSETFROM:-0400
TZOFFSETTO:-0500
TZNAME:EST
DTSTART:20271107T060000
END:STANDARD
END:VTIMEZONE
BEGIN:VEVENT
DTSTART;TZID=America/New_York:20260114T173000
DTEND;TZID=America/New_York:20260114T203000
DTSTAMP:20260425T094114
CREATED:20251117T164222Z
LAST-MODIFIED:20260108T195412Z
UID:10002880-1768411800-1768422600@wpengine.mountainbizworks.org
SUMMARY:FULL - Foundations Business Planning Course
DESCRIPTION:Our Foundations business planning course helps guide ideas from concept to reality in a participatory\, supportive learning environment.\nJoin a cohort of aspiring and existing entrepreneurs to gain an aerial perspective of your vision and the comprehensive business skills necessary to help bring your visions into reality. Participants will gain a clear aerial perspective of their business operations\, financials\, research and development\, and marketing strategies and you have the opportunity to leave the course with a business plan\, a clear vision for your business\, and concrete tasks for your future work. \nThroughout the course\, emphasis will be placed on developing the social capital of the group. Participants will be encouraged to gather feedback from their peers\, creating a strong network of deep support and synergy. For more info\, visit the Foundations Business Planning overview page. \nIf you have any questions please contact our team\,  classes@mountainbizworks.org. \nRegistration\nComplete the online registration form to hold your seat.  We will follow up with you within a few days. You are welcome to contact us with any follow-up questions or ask about the status of your request. \n 
URL:https://wpengine.mountainbizworks.org/event/foundations-business-planning-course-17/
LOCATION:Virtual\, Online — Zoom\, NC
CATEGORIES:Course,Foundations Business Planning,Learn,Online,Online Learning
END:VEVENT
BEGIN:VEVENT
DTSTART;TZID=America/New_York:20260120T180000
DTEND;TZID=America/New_York:20260120T203000
DTSTAMP:20260425T094114
CREATED:20251105T211448Z
LAST-MODIFIED:20260114T161056Z
UID:10002876-1768932000-1768941000@wpengine.mountainbizworks.org
SUMMARY:FULL - Marketing & Branding Essentials Course
DESCRIPTION:Ready to Market Your Business? Start Here! \nYou’ve got a product or service you’re excited to share with the world—but how do you get the word out? With so many marketing options available\, it can feel overwhelming to create a strategy that’s both effective and affordable. \nJoin us for a 6-week course that will help you master the basics of branding and marketing. Together\, we’ll explore the fundamentals of: \n\nBranding: Build recognition and trust by establishing a strong identity and creating a connection with your audience.\nMarketing: Learn which tools and strategies will attract\, engage\, and convert customers effectively.\n\nThis course includes interactive\, hands-on exercises to help you: \n\nDevelop a marketing plan tailored to your business.\nCraft website copy that captures your message.\nCreate engaging social media content and refine your brand’s aesthetic.\n\nBy the end of this course\, you’ll walk away with actionable tools to market your business confidently today—and a roadmap to grow into an enduring\, memorable brand! \nThis course is perfect for: \n\nBusiness owners with an established concept or business model.\nEntrepreneurs ready to bring their product or service to market.\nAnyone eager to learn the essentials of marketing and branding while creating a practical\, tactical marketing plan.\n\nRecommended but not required: Completion of our Foundations Course or prior business coaching.
URL:https://wpengine.mountainbizworks.org/event/marketing-branding-essentials-course-3/
LOCATION:Virtual\, Online — Zoom\, NC
CATEGORIES:Class,Course,Learn,Marketing,Online
END:VEVENT
BEGIN:VEVENT
DTSTART;TZID=America/New_York:20260126T173000
DTEND;TZID=America/New_York:20260126T183000
DTSTAMP:20260425T094114
CREATED:20251121T220820Z
LAST-MODIFIED:20251121T220901Z
UID:10002886-1769448600-1769452200@wpengine.mountainbizworks.org
SUMMARY:Orientation Session
DESCRIPTION:Join us for an information session to discover what resources are available at Mountain BizWorks that will help you start\, grow\, and thrive in your business. Hosted by our Learning Programs Coordinator\, Amanda Ross\, this session is a great opportunity to learn more about Mountain BizWorks’ small business lending and learning programs.
URL:https://wpengine.mountainbizworks.org/event/orientation-session-67/
LOCATION:Virtual\, Online — Zoom\, NC
CATEGORIES:Event,Learn,Online,Orientation Session
END:VEVENT
END:VCALENDAR