BEGIN:VCALENDAR
VERSION:2.0
PRODID:-//Mountain BizWorks - ECPv6.15.20//NONSGML v1.0//EN
CALSCALE:GREGORIAN
METHOD:PUBLISH
X-WR-CALNAME:Mountain BizWorks
X-ORIGINAL-URL:https://wpengine.mountainbizworks.org
X-WR-CALDESC:Events for Mountain BizWorks
REFRESH-INTERVAL;VALUE=DURATION:PT1H
X-Robots-Tag:noindex
X-PUBLISHED-TTL:PT1H
BEGIN:VTIMEZONE
TZID:America/Halifax
BEGIN:DAYLIGHT
TZOFFSETFROM:-0400
TZOFFSETTO:-0300
TZNAME:ADT
DTSTART:20190310T060000
END:DAYLIGHT
BEGIN:STANDARD
TZOFFSETFROM:-0300
TZOFFSETTO:-0400
TZNAME:AST
DTSTART:20191103T050000
END:STANDARD
BEGIN:DAYLIGHT
TZOFFSETFROM:-0400
TZOFFSETTO:-0300
TZNAME:ADT
DTSTART:20200308T060000
END:DAYLIGHT
BEGIN:STANDARD
TZOFFSETFROM:-0300
TZOFFSETTO:-0400
TZNAME:AST
DTSTART:20201101T050000
END:STANDARD
BEGIN:DAYLIGHT
TZOFFSETFROM:-0400
TZOFFSETTO:-0300
TZNAME:ADT
DTSTART:20210314T060000
END:DAYLIGHT
BEGIN:STANDARD
TZOFFSETFROM:-0300
TZOFFSETTO:-0400
TZNAME:AST
DTSTART:20211107T050000
END:STANDARD
END:VTIMEZONE
BEGIN:VEVENT
DTSTART;TZID=America/Halifax:20200521T153000
DTEND;TZID=America/Halifax:20200521T163000
DTSTAMP:20260421T141135
CREATED:20200518T180206Z
LAST-MODIFIED:20200518T182203Z
UID:10002108-1590075000-1590078600@wpengine.mountainbizworks.org
SUMMARY:Webinar: Question and Answer Session for the Buncombe County Tourism Jobs Recovery Fund
DESCRIPTION:Join this live question-and-answer session to walk through frequently asked questions\, learn how to navigate the application process more efficiently\, and find out where you can access application counseling resources for the Buncombe County Tourism Jobs Recovery Fund. \n  \nContinue to the Webinar Registration Form »\n \nPlease check your email after you’ve registered for information on how to join the webinar.
URL:https://wpengine.mountainbizworks.org/event/webinar-question-and-answer-session-for-the-buncombe-county-tourism-jobs-recovery-fund/
LOCATION:153 South Lexington Ave\, Asheville\, NC\, 28801\, United States
CATEGORIES:Class,Coronavirus Response,Tourism Fund
END:VEVENT
BEGIN:VEVENT
DTSTART;TZID=America/Halifax:20200519T153000
DTEND;TZID=America/Halifax:20200519T163000
DTSTAMP:20260421T141135
CREATED:20200518T175600Z
LAST-MODIFIED:20200520T142211Z
UID:10002107-1589902200-1589905800@wpengine.mountainbizworks.org
SUMMARY:Webinar: Question and Answer Session for the Buncombe County Tourism Jobs Recovery Fund
DESCRIPTION:Join this live question-and-answer session to walk through frequently asked questions\, learn how to navigate the application process more efficiently\, and find out where you can access application counseling resources for the Buncombe County Tourism Jobs Recovery Fund. \nYou can view a recording of the webinar here.
URL:https://wpengine.mountainbizworks.org/event/webinar-faq-answer-session-for-the-buncombe-county-tourism-jobs-recovery-fund/
LOCATION:153 South Lexington Ave\, Asheville\, NC\, 28801\, United States
CATEGORIES:Class,Coronavirus Response,Tourism Fund
END:VEVENT
BEGIN:VEVENT
DTSTART;TZID=America/Halifax:20200515T130000
DTEND;TZID=America/Halifax:20200515T143000
DTSTAMP:20260421T141135
CREATED:20200514T133326Z
LAST-MODIFIED:20200518T174218Z
UID:10002106-1589547600-1589553000@wpengine.mountainbizworks.org
SUMMARY:Webinar: Application Walk Through for the Buncombe County Tourism Jobs Recovery Fund
DESCRIPTION:Join us to learn more about the Buncombe County Tourism Jobs Recovery Fund\, a grant program created with the Buncombe County TDA to preserve and safely reopen area small businesses in the tourism industry. In this webinar\, our team will walk through the application form\, go over frequently asked questions\, and share ways that you can get help applying. \nApplications for the Tourism Fund open Friday\, May 15th. Visit www.tourismfund.org to sign up to receive updates and submit your questions. \n  \nThis event has now passed. You can view the recording here. 
URL:https://wpengine.mountainbizworks.org/event/webinar-application-walk-through-for-the-buncombe-county-tourism-jobs-recovery-fund/
LOCATION:153 South Lexington Ave\, Asheville\, NC\, 28801\, United States
CATEGORIES:Class,Coronavirus Response,Tourism Fund
END:VEVENT
BEGIN:VEVENT
DTSTART;TZID=America/Halifax:20200514T150000
DTEND;TZID=America/Halifax:20200514T160000
DTSTAMP:20260421T141135
CREATED:20200514T072826Z
LAST-MODIFIED:20200515T142704Z
UID:10002105-1589468400-1589472000@wpengine.mountainbizworks.org
SUMMARY:Webinar: Eligibility and How Your Application Will be Evaluated for the Buncombe County Tourism Jobs Recovery Fund
DESCRIPTION:Join us to learn more about the Buncombe County Tourism Jobs Recovery Fund\, a grant program created with the Buncombe County TDA to preserve and safely reopen area small businesses in the tourism industry. In this webinar\, our team will go over eligibility\, walk through how your application will be evaluated\, and answer questions. \nApplications for the Tourism Fund open Friday\, May 15th. Visit www.tourismfund.org to sign up to receive updates and submit your questions. \nThis event has already passed. You can view a recording of the webinar here. 
URL:https://wpengine.mountainbizworks.org/event/webinar-application-bctjrf/
LOCATION:153 South Lexington Ave\, Asheville\, NC\, 28801\, United States
CATEGORIES:Class,Coronavirus Response,Tourism Fund
END:VEVENT
END:VCALENDAR