BEGIN:VCALENDAR
VERSION:2.0
PRODID:-//Mountain BizWorks - ECPv6.15.20//NONSGML v1.0//EN
CALSCALE:GREGORIAN
METHOD:PUBLISH
X-WR-CALNAME:Mountain BizWorks
X-ORIGINAL-URL:https://wpengine.mountainbizworks.org
X-WR-CALDESC:Events for Mountain BizWorks
REFRESH-INTERVAL;VALUE=DURATION:PT1H
X-Robots-Tag:noindex
X-PUBLISHED-TTL:PT1H
BEGIN:VTIMEZONE
TZID:America/New_York
BEGIN:DAYLIGHT
TZOFFSETFROM:-0500
TZOFFSETTO:-0400
TZNAME:EDT
DTSTART:20240310T070000
END:DAYLIGHT
BEGIN:STANDARD
TZOFFSETFROM:-0400
TZOFFSETTO:-0500
TZNAME:EST
DTSTART:20241103T060000
END:STANDARD
BEGIN:DAYLIGHT
TZOFFSETFROM:-0500
TZOFFSETTO:-0400
TZNAME:EDT
DTSTART:20250309T070000
END:DAYLIGHT
BEGIN:STANDARD
TZOFFSETFROM:-0400
TZOFFSETTO:-0500
TZNAME:EST
DTSTART:20251102T060000
END:STANDARD
BEGIN:DAYLIGHT
TZOFFSETFROM:-0500
TZOFFSETTO:-0400
TZNAME:EDT
DTSTART:20260308T070000
END:DAYLIGHT
BEGIN:STANDARD
TZOFFSETFROM:-0400
TZOFFSETTO:-0500
TZNAME:EST
DTSTART:20261101T060000
END:STANDARD
END:VTIMEZONE
BEGIN:VEVENT
DTSTART;TZID=America/New_York:20251103T173000
DTEND;TZID=America/New_York:20251103T203000
DTSTAMP:20260422T051810
CREATED:20250627T173615Z
LAST-MODIFIED:20250627T173615Z
UID:10002845-1762191000-1762201800@wpengine.mountainbizworks.org
SUMMARY:Future Forward Capstone Workshop: Forward by Design; Building Your Resilience Roadmap
DESCRIPTION:This culminating session invites participants to step back and look at the full arc of their building resilience journey. Through guided reflection\, peer exchange\, and strategic planning exercises\, they will distill key takeaways from the series and build a customized Resilience Roadmap – a living plan that brings together their assessments\, strategies\, and next-step goals for long-term growth. This is more than a summary – it’s a launchpad. \nParticipants will leave feeling reenergized\, reconnected to purpose\, and equipped with a clear direction forward.
URL:https://wpengine.mountainbizworks.org/event/future-forward-capstone-workshop-forward-by-design-building-your-resilience-roadmap/
LOCATION:Mountain BizWorks Asheville Office\, 153 S Lexington Avenue\, Asheville\, NC\, 28801\, United States
CATEGORIES:Event,In-Person,Learn,Mountain BizWorks Event,Recovery Workshop
GEO:35.590696;-82.552115
X-APPLE-STRUCTURED-LOCATION;VALUE=URI;X-ADDRESS=Mountain BizWorks Asheville Office 153 S Lexington Avenue Asheville NC 28801 United States;X-APPLE-RADIUS=500;X-TITLE=153 S Lexington Avenue:geo:-82.552115,35.590696
END:VEVENT
END:VCALENDAR