BEGIN:VCALENDAR
VERSION:2.0
PRODID:-//Mountain BizWorks - ECPv6.15.20//NONSGML v1.0//EN
CALSCALE:GREGORIAN
METHOD:PUBLISH
X-WR-CALNAME:Mountain BizWorks
X-ORIGINAL-URL:https://wpengine.mountainbizworks.org
X-WR-CALDESC:Events for Mountain BizWorks
REFRESH-INTERVAL;VALUE=DURATION:PT1H
X-Robots-Tag:noindex
X-PUBLISHED-TTL:PT1H
BEGIN:VTIMEZONE
TZID:America/Halifax
BEGIN:DAYLIGHT
TZOFFSETFROM:-0400
TZOFFSETTO:-0300
TZNAME:ADT
DTSTART:20220313T060000
END:DAYLIGHT
BEGIN:STANDARD
TZOFFSETFROM:-0300
TZOFFSETTO:-0400
TZNAME:AST
DTSTART:20221106T050000
END:STANDARD
BEGIN:DAYLIGHT
TZOFFSETFROM:-0400
TZOFFSETTO:-0300
TZNAME:ADT
DTSTART:20230312T060000
END:DAYLIGHT
BEGIN:STANDARD
TZOFFSETFROM:-0300
TZOFFSETTO:-0400
TZNAME:AST
DTSTART:20231105T050000
END:STANDARD
BEGIN:DAYLIGHT
TZOFFSETFROM:-0400
TZOFFSETTO:-0300
TZNAME:ADT
DTSTART:20240310T060000
END:DAYLIGHT
BEGIN:STANDARD
TZOFFSETFROM:-0300
TZOFFSETTO:-0400
TZNAME:AST
DTSTART:20241103T050000
END:STANDARD
END:VTIMEZONE
BEGIN:VEVENT
DTSTART;TZID=America/Halifax:20230907T170000
DTEND;TZID=America/Halifax:20230907T180000
DTSTAMP:20260421T215259
CREATED:20230801T125744Z
LAST-MODIFIED:20230829T163914Z
UID:10002360-1694106000-1694109600@wpengine.mountainbizworks.org
SUMMARY:B Corp Q and A Panel
DESCRIPTION:Learn about the process to become a certified B Corp\, while connecting with established local B Corps and other like-minded businesses.\n\n\n\n\n\n\n\n\n  \nLeaders from certified B Corps will also answer your questions about their journey toward using their businesses as a force for good. We will also share information on the B Corp movement and certification process. Don’t miss this opportunity to explore the most well recognized standard for businesses that stand behind their values and support a more just society for all. \nThe event is free and open to the public\, but advance registration is required to ensure we can accommodate everyone.
URL:https://wpengine.mountainbizworks.org/event/b-corp-qa-panel/
LOCATION:Virtual\, Online — Zoom\, NC
CATEGORIES:B Corp Series,B Local Asheville & WNC,Class,In-Person,Panel Discussion
END:VEVENT
END:VCALENDAR