BEGIN:VCALENDAR
VERSION:2.0
PRODID:-//Mountain BizWorks - ECPv6.15.20//NONSGML v1.0//EN
CALSCALE:GREGORIAN
METHOD:PUBLISH
X-WR-CALNAME:Mountain BizWorks
X-ORIGINAL-URL:https://wpengine.mountainbizworks.org
X-WR-CALDESC:Events for Mountain BizWorks
REFRESH-INTERVAL;VALUE=DURATION:PT1H
X-Robots-Tag:noindex
X-PUBLISHED-TTL:PT1H
BEGIN:VTIMEZONE
TZID:America/Halifax
BEGIN:DAYLIGHT
TZOFFSETFROM:-0400
TZOFFSETTO:-0300
TZNAME:ADT
DTSTART:20160313T060000
END:DAYLIGHT
BEGIN:STANDARD
TZOFFSETFROM:-0300
TZOFFSETTO:-0400
TZNAME:AST
DTSTART:20161106T050000
END:STANDARD
BEGIN:DAYLIGHT
TZOFFSETFROM:-0400
TZOFFSETTO:-0300
TZNAME:ADT
DTSTART:20170312T060000
END:DAYLIGHT
BEGIN:STANDARD
TZOFFSETFROM:-0300
TZOFFSETTO:-0400
TZNAME:AST
DTSTART:20171105T050000
END:STANDARD
BEGIN:DAYLIGHT
TZOFFSETFROM:-0400
TZOFFSETTO:-0300
TZNAME:ADT
DTSTART:20180311T060000
END:DAYLIGHT
BEGIN:STANDARD
TZOFFSETFROM:-0300
TZOFFSETTO:-0400
TZNAME:AST
DTSTART:20181104T050000
END:STANDARD
BEGIN:DAYLIGHT
TZOFFSETFROM:-0400
TZOFFSETTO:-0300
TZNAME:ADT
DTSTART:20190310T060000
END:DAYLIGHT
BEGIN:STANDARD
TZOFFSETFROM:-0300
TZOFFSETTO:-0400
TZNAME:AST
DTSTART:20191103T050000
END:STANDARD
BEGIN:DAYLIGHT
TZOFFSETFROM:-0400
TZOFFSETTO:-0300
TZNAME:ADT
DTSTART:20200308T060000
END:DAYLIGHT
BEGIN:STANDARD
TZOFFSETFROM:-0300
TZOFFSETTO:-0400
TZNAME:AST
DTSTART:20201101T050000
END:STANDARD
END:VTIMEZONE
BEGIN:VEVENT
DTSTART;TZID=America/Halifax:20190116T140000
DTEND;TZID=America/Halifax:20190116T150000
DTSTAMP:20260421T193059
CREATED:20181113T131400Z
LAST-MODIFIED:20190116T174926Z
UID:10001729-1547647200-1547650800@wpengine.mountainbizworks.org
SUMMARY:ScaleUp WNC Info Session (Webinar)
DESCRIPTION:Are you a founder or manager of a WNC small business with strong growth potential?\nIf so\, we invite you to join us for a live informational webinar to learn more about the 2019 ScaleUp WNC program. On this webinar\, you’ll get an overview of the program details and benefits\, will have a chance to hear from some of our program facilitators\, and can ask any burning questions you may have. You are not required to attend an info session to apply but we do encourage it as it provides an opportunity to introduce your company\, get some tips on the application process\, and to ensure the program is a good fit. \nPlease RSVP using the form below. \nYou can also find our more about the ScaleUp WNC program here. \nAnd here are the instructions to connect to the webinar: \nRECOMMENDED: To join the webinar on a computer or mobile phone: https://bluejeans.com/904076231 \nOr Dial in by phone: +1.408.317.9253\nMeeting ID: 904 076 231
URL:https://wpengine.mountainbizworks.org/event/scaleup-wnc-info-session-webinar/
LOCATION:NC\, United States
CATEGORIES:Class,Orientation Session,ScaleUp
END:VEVENT
BEGIN:VEVENT
DTSTART;TZID=America/Halifax:20190116T090000
DTEND;TZID=America/Halifax:20190116T100000
DTSTAMP:20260421T193059
CREATED:20190103T200650Z
LAST-MODIFIED:20190103T200650Z
UID:10001933-1547629200-1547632800@wpengine.mountainbizworks.org
SUMMARY:ScaleUp WNC at 1 Million Cups
DESCRIPTION:Come have coffee and hear from an esteemed panel of ScaleUp alumni and get details on the 2019 ScaleUp program\nWe’re so thrilled to be on the 1 Million Cups program for Wednesday January 16 (9-10am at the Asheville Social Hall). Several ScaleUp alum will be sharing their experiences with managing significant growth. And\, we’ll be sharing the latest details on the 2019 ScaleUp WNC program and how to apply before January 27. \nDetails on this event are available on the 1MC site here. \nYou can also find our more about the ScaleUp WNC program here.
URL:https://wpengine.mountainbizworks.org/event/scaleup-wnc-at-1-million-cups/
LOCATION:Asheville Social Hall\, 81 Broadway St.\, Asheville\, NC\, 28801\, United States
CATEGORIES:Class,ScaleUp
END:VEVENT
BEGIN:VEVENT
DTSTART;TZID=America/Halifax:20190115T173000
DTEND;TZID=America/Halifax:20190115T183000
DTSTAMP:20260421T193059
CREATED:20190103T195028Z
LAST-MODIFIED:20190103T195028Z
UID:10001929-1547573400-1547577000@wpengine.mountainbizworks.org
SUMMARY:ScaleUp WNC Info Session & Happy Hour (Canton)
DESCRIPTION:Are you a founder or manager of a WNC small business with strong growth potential?\nJoin us at the beautiful Bearwaters Brewery facility in Canton – an expansion supported by the ScaleUp program!\nIf so\, we invite you to join us for an informational session and happy hour to learn more about the 2019 ScaleUp WNC program. At this event\, you’ll get an overview of the program details and benefits\, will have a chance to meet some of our program facilitators and alumni\, and can ask any burning questions you may have. You are not required to attend an info session to apply but we do encourage it as it provides an opportunity to introduce your company\, get some tips on the application process\, and to ensure the program is a good fit. It’s also a great opportunity to connect with other growing business owners in your community. \nPlease RSVP using the form below. \nYou can also find our more about the ScaleUp WNC program here.
URL:https://wpengine.mountainbizworks.org/event/scaleup-wnc-info-session-happy-hour-canton/
LOCATION:Bearwaters Brewing\, 101 Park St\,\, Canton\, NC\, 28716\, United States
CATEGORIES:Class,ScaleUp
END:VEVENT
BEGIN:VEVENT
DTSTART;TZID=America/Halifax:20190107T160000
DTEND;TZID=America/Halifax:20190107T170000
DTSTAMP:20260421T193059
CREATED:20181210T214355Z
LAST-MODIFIED:20190103T200932Z
UID:10001741-1546876800-1546880400@wpengine.mountainbizworks.org
SUMMARY:Mountain BizWorks Information Session
DESCRIPTION:Join us for an interactive information session to discover what resources are available at Mountain BizWorks that will help you start\, grow\, and thrive in your business. This session is hosted by our Learning Services Specialist\, Kareen Boncales and is a great opportunity to learn more about Mountain BizWorks’ small business lending and learning programs. 
URL:https://wpengine.mountainbizworks.org/event/mountain-bizworks-information-session-2/
LOCATION:Mountain BizWorks Asheville Office\, 153 S Lexington Avenue\, Asheville\, NC\, 28801\, United States
CATEGORIES:Class,Orientation Session,ScaleUp
GEO:35.590696;-82.552115
X-APPLE-STRUCTURED-LOCATION;VALUE=URI;X-ADDRESS=Mountain BizWorks Asheville Office 153 S Lexington Avenue Asheville NC 28801 United States;X-APPLE-RADIUS=500;X-TITLE=153 S Lexington Avenue:geo:-82.552115,35.590696
END:VEVENT
BEGIN:VEVENT
DTSTART;TZID=America/Halifax:20181212T173000
DTEND;TZID=America/Halifax:20181212T193000
DTSTAMP:20260421T193059
CREATED:20181113T130712Z
LAST-MODIFIED:20181113T130712Z
UID:10001727-1544635800-1544643000@wpengine.mountainbizworks.org
SUMMARY:High Country Year-End Celebration & ScaleUp Info Session
DESCRIPTION:Come join us at the new Hatchet Coffee Roastery in Boone and celebrate a great 2018 for local business and entrepreneurship in the High Country. \nIn addition to connecting with other entrepreneurs\, Mountain BizWorks staff and coaches\, and partners\, the event will feature some special presentations: \n\nA presentation from a live local investment crowdfunding offering (a graduate of the first Invested course)\nInformation on the upcoming ScaleUp 2019 program\nA preview of other Mountain BizWorks and High Country plans for 2019\n\nRSVP below.
URL:https://wpengine.mountainbizworks.org/event/high-country-year-end-celebration-scaleup-info-session/
LOCATION:Hatchet Coffee\, 200 Den Mac Drive\, Boone\, 28607\, United States
CATEGORIES:Mountain BizWorks Event,Orientation Session,ScaleUp
GEO:36.2138861;-81.6366741
X-APPLE-STRUCTURED-LOCATION;VALUE=URI;X-ADDRESS=Hatchet Coffee 200 Den Mac Drive Boone 28607 United States;X-APPLE-RADIUS=500;X-TITLE=200 Den Mac Drive:geo:-81.6366741,36.2138861
END:VEVENT
BEGIN:VEVENT
DTSTART;TZID=America/Halifax:20181205T170000
DTEND;TZID=America/Halifax:20181205T190000
DTSTAMP:20260421T193059
CREATED:20181113T125621Z
LAST-MODIFIED:20181203T153532Z
UID:10001919-1544029200-1544036400@wpengine.mountainbizworks.org
SUMMARY:ScaleUp WNC Info Session & Happy Hour (Dillsboro)
DESCRIPTION:Are you a founder or manager of a WNC small business with strong growth potential?\nIf so\, we invite you to join us for an informational session and happy hour to learn more about the 2019 ScaleUp WNC program. At this event\, you’ll get an overview of the program details and benefits\, will have a chance to meet some of our program facilitators and alumni\, and can ask any burning questions you may have. You are not required to attend an info session to apply but we do encourage it as it provides an opportunity to introduce your company\, get some tips on the application process\, and to ensure the program is a good fit. \nPlease RSVP using the form below. \nYou can also find our more about the ScaleUp WNC program here.
URL:https://wpengine.mountainbizworks.org/event/scaleup-wnc-info-session-happy-hour-dillsboro/
LOCATION:Innovation Brewing Innovation Station\, 40 Depot Street\, Dillsboro\, NC\, 28725\, United States
CATEGORIES:Orientation Session,ScaleUp
END:VEVENT
BEGIN:VEVENT
DTSTART;VALUE=DATE:20170129
DTEND;VALUE=DATE:20170130
DTSTAMP:20260421T193059
CREATED:20161221T002347Z
LAST-MODIFIED:20161221T002419Z
UID:10001718-1485648000-1485734399@wpengine.mountainbizworks.org
SUMMARY:ScaleUp WNC Cohorts 5 & 6 Application Deadline
DESCRIPTION:Don’t miss your chance to apply to the 2017 ScaleUp WNC program and help your existing business reach its growth potential. ScaleUp WNC is a cohort-based program. Each participant will be part of a CEO network of roughly 15 peer business leaders and will receive tailored services to measurably advance their business and achieve significant business development milestones. Learn more and apply here.
URL:https://wpengine.mountainbizworks.org/event/scaleup-wnc-cohorts-5-6-application-deadline/
LOCATION:Mountain BizWorks Asheville Office\, 153 S Lexington Avenue\, Asheville\, NC\, 28801\, United States
CATEGORIES:Class,ScaleUp
ORGANIZER;CN="Ascent Business Network":MAILTO:info@ascentbusinessnetwork.com
GEO:35.590696;-82.552115
X-APPLE-STRUCTURED-LOCATION;VALUE=URI;X-ADDRESS=Mountain BizWorks Asheville Office 153 S Lexington Avenue Asheville NC 28801 United States;X-APPLE-RADIUS=500;X-TITLE=153 S Lexington Avenue:geo:-82.552115,35.590696
END:VEVENT
BEGIN:VEVENT
DTSTART;TZID=America/Halifax:20170125T163000
DTEND;TZID=America/Halifax:20170125T173000
DTSTAMP:20260421T193059
CREATED:20161229T161346Z
LAST-MODIFIED:20170118T205110Z
UID:10001736-1485361800-1485365400@wpengine.mountainbizworks.org
SUMMARY:MBW Orientation and Info Session
DESCRIPTION:We welcome you to join us January 25th from 4:30-5:30 pm for a free orientation and info session at Mountain BizWorks! \nOur mission is to build a vibrant and inclusive entrepreneurial community in Western North Carolina by helping small businesses start\, grow\, and thrive and Mountain BizWorks achieves this through a variety of services.  We will cover who we are\, a quick intro to our lending program\, a quick overview of our core learning programs (coaching\, Foundations\, Alpine\, ScaleUp\, Financial Tools\, etc.).  Also\, at the end we will have time for Q&A with MBW staff. \nPerfect for people who are:   \nA) Interested in starting a business and not sure where to start \nOR \nB) Want to connect with MBW for the first time and want to understand our services and our approach to developing entrepreneurs through a supportive\, entrepreneur-centered and peer-led approach. \nPlease RSVP using the form below.
URL:https://wpengine.mountainbizworks.org/event/info-session-classes-and-scale-up-wnc-2/
LOCATION:Mountain BizWorks Asheville Office\, 153 S Lexington Avenue\, Asheville\, NC\, 28801\, United States
CATEGORIES:Class,Foundations Business Planning,ScaleUp
ORGANIZER;CN="Ascent Business Network":MAILTO:info@ascentbusinessnetwork.com
GEO:35.590696;-82.552115
X-APPLE-STRUCTURED-LOCATION;VALUE=URI;X-ADDRESS=Mountain BizWorks Asheville Office 153 S Lexington Avenue Asheville NC 28801 United States;X-APPLE-RADIUS=500;X-TITLE=153 S Lexington Avenue:geo:-82.552115,35.590696
END:VEVENT
BEGIN:VEVENT
DTSTART;TZID=America/Halifax:20170119T163000
DTEND;TZID=America/Halifax:20170119T173000
DTSTAMP:20260421T193059
CREATED:20161227T163140Z
LAST-MODIFIED:20161227T180459Z
UID:10001728-1484843400-1484847000@wpengine.mountainbizworks.org
SUMMARY:ScaleUp WNC Info Session & Happy Hour (Sylva)
DESCRIPTION:Are you a founder or manager of a WNC small business with strong growth potential?\nIf so\, we invite you to join us for an informational session and happy hour to learn more about the 2017 ScaleUp WNC program. At this event\, you’ll get an overview of the program details and benefits\, will have a chance to meet some of our program facilitators and alumni\, and can ask any burning questions you may have. You are not required to attend an info session to apply but we do encourage it as it provides an opportunity to introduce your company\, get some tips on the application process\, and to ensure the program is a good fit. \nPlease RSVP using the form below. \nYou can also find our more about the ScaleUp WNC program here.
URL:https://wpengine.mountainbizworks.org/event/scaleup-wnc-info-session-happy-hour-sylva/
LOCATION:Innovation Brewing\, 414 West Main Street\, Sylva\, NC\, 28779\, United States
CATEGORIES:Class,ScaleUp
ORGANIZER;CN="Ascent Business Network":MAILTO:info@ascentbusinessnetwork.com
GEO:35.3739195;-83.2204756
X-APPLE-STRUCTURED-LOCATION;VALUE=URI;X-ADDRESS=Innovation Brewing 414 West Main Street Sylva NC 28779 United States;X-APPLE-RADIUS=500;X-TITLE=414 West Main Street:geo:-83.2204756,35.3739195
END:VEVENT
BEGIN:VEVENT
DTSTART;TZID=America/Halifax:20170118T163000
DTEND;TZID=America/Halifax:20170118T173000
DTSTAMP:20260421T193059
CREATED:20161221T182745Z
LAST-MODIFIED:20161227T160842Z
UID:10001726-1484757000-1484760600@wpengine.mountainbizworks.org
SUMMARY:ScaleUp WNC Info Session & Happy Hour (Asheville)
DESCRIPTION:Are you a founder or manager of a WNC small business with strong growth potential?\nJoin us at the beautiful new East Fork retail shop.\nIf so\, we invite you to join us for an informational session and happy hour to learn more about the 2017 ScaleUp WNC program. We’re thrilled that this session will be hosted at the new East Fork Pottery (Cohort 3) retail shop in downtown Asheville at 82 N Lexington Avenue. \nAt this event\, you’ll get an overview of the program details and benefits\, will have a chance to meet some of our program facilitators and alumni\, and can ask any burning questions you may have. You are not required to attend an info session to apply but we do encourage it as it provides an opportunity to introduce your company\, get some tips on the application process\, and to ensure the program is a good fit. \nPlease RSVP using the form below.  \nYou can also find our more about the ScaleUp WNC program here.
URL:https://wpengine.mountainbizworks.org/event/scaleup-wnc-info-session-happy-hour-asheville/
LOCATION:East Fork Pottery Asheville\, 82 N. Lexington Ave\, Asheville\, 28801\, United States
CATEGORIES:Class,ScaleUp
ORGANIZER;CN="Ascent Business Network":MAILTO:info@ascentbusinessnetwork.com
GEO:35.5976871;-82.553457
X-APPLE-STRUCTURED-LOCATION;VALUE=URI;X-ADDRESS=East Fork Pottery Asheville 82 N. Lexington Ave Asheville 28801 United States;X-APPLE-RADIUS=500;X-TITLE=82 N. Lexington Ave:geo:-82.553457,35.5976871
END:VEVENT
BEGIN:VEVENT
DTSTART;TZID=America/Halifax:20170117T163000
DTEND;TZID=America/Halifax:20170117T173000
DTSTAMP:20260421T193059
CREATED:20161220T191320Z
LAST-MODIFIED:20161227T174804Z
UID:10001716-1484670600-1484674200@wpengine.mountainbizworks.org
SUMMARY:ScaleUp WNC Info Session & Happy Hour (Boone)
DESCRIPTION:Are you a founder or manager of a WNC small business with strong growth potential?\nIf so\, we invite you to join us for an informational session and happy hour to learn more about the 2017 ScaleUp WNC program. At this event\, you’ll get an overview of the program details and benefits\, will have a chance to meet some of our program facilitators and alumni\, and can ask any burning questions you may have. This session will especially focus on our first Boone-based ScaleUp WNC cohort being planned for 2017. You are not required to attend an info session to apply but we do encourage it as it provides an opportunity to introduce your company\, get some tips on the application process\, and to ensure the program is a good fit. \nPlease RSVP using the form below.  \nYou can also find our more about the ScaleUp WNC program here.
URL:https://wpengine.mountainbizworks.org/event/scaleup-wnc-info-session-happy-hour-boone/
LOCATION:Basil’s Pasta & Booneshine Brewing\, 246 Wilson Drive\, Suite K\, Boone\, NC\, 28607\, United States
CATEGORIES:Class,High Country Classes & Workshops,ScaleUp
ORGANIZER;CN="Ascent Business Network":MAILTO:info@ascentbusinessnetwork.com
GEO:36.2014928;-81.6710349
X-APPLE-STRUCTURED-LOCATION;VALUE=URI;X-ADDRESS=Basil’s Pasta & Booneshine Brewing 246 Wilson Drive Suite K Boone NC 28607 United States;X-APPLE-RADIUS=500;X-TITLE=246 Wilson Drive\, Suite K:geo:-81.6710349,36.2014928
END:VEVENT
END:VCALENDAR