BEGIN:VCALENDAR
VERSION:2.0
PRODID:-//Mountain BizWorks - ECPv6.15.20//NONSGML v1.0//EN
CALSCALE:GREGORIAN
METHOD:PUBLISH
X-WR-CALNAME:Mountain BizWorks
X-ORIGINAL-URL:https://wpengine.mountainbizworks.org
X-WR-CALDESC:Events for Mountain BizWorks
REFRESH-INTERVAL;VALUE=DURATION:PT1H
X-Robots-Tag:noindex
X-PUBLISHED-TTL:PT1H
BEGIN:VTIMEZONE
TZID:America/Halifax
BEGIN:DAYLIGHT
TZOFFSETFROM:-0400
TZOFFSETTO:-0300
TZNAME:ADT
DTSTART:20230312T060000
END:DAYLIGHT
BEGIN:STANDARD
TZOFFSETFROM:-0300
TZOFFSETTO:-0400
TZNAME:AST
DTSTART:20231105T050000
END:STANDARD
BEGIN:DAYLIGHT
TZOFFSETFROM:-0400
TZOFFSETTO:-0300
TZNAME:ADT
DTSTART:20240310T060000
END:DAYLIGHT
BEGIN:STANDARD
TZOFFSETFROM:-0300
TZOFFSETTO:-0400
TZNAME:AST
DTSTART:20241103T050000
END:STANDARD
BEGIN:DAYLIGHT
TZOFFSETFROM:-0400
TZOFFSETTO:-0300
TZNAME:ADT
DTSTART:20250309T060000
END:DAYLIGHT
BEGIN:STANDARD
TZOFFSETFROM:-0300
TZOFFSETTO:-0400
TZNAME:AST
DTSTART:20251102T050000
END:STANDARD
END:VTIMEZONE
BEGIN:VEVENT
DTSTART;TZID=America/Halifax:20240913T100000
DTEND;TZID=America/Halifax:20240913T130000
DTSTAMP:20260423T060113
CREATED:20240728T215846Z
LAST-MODIFIED:20240904T154937Z
UID:10002724-1726221600-1726232400@wpengine.mountainbizworks.org
SUMMARY:Invested Course
DESCRIPTION:Securing funding is essential for fueling expansion\, innovation\, and sustainability. Whether you’re a startup seeking initial investment or an established business looking to scale\, navigating the capital landscape can be daunting. In our Invested Course\, we’ll review types of business capital (including debt\, equity\, and working capital) and how and when to use each. \nThe 5-session course will take place in person on the following Fridays: \n\nSeptember 13 – Session 1: 10 am – 1 pm\nSeptember 20 – Session 2: 10 am – 1 pm\nSeptember 27 – Session 3: 10 am – 1 pm\nOctober 4 – Session 4: 10 am – 1 pm\nOctober 11 – Session 5: 10 am – 1 pm\n\nKey Topics Include: \n\nUnderstanding the fundamentals of debt and equity financing.\nAssessing your business’s capital needs and financial readiness.\nExploring traditional and alternative sources of debt capital.\nLeveraging assets and collateral.\nEvaluating the pros and cons of raising investor capital.\nCrafting effective business valuations\, investment plans and investor pitches.\nNegotiating equity agreements and managing investor relations.\nExploring the importance of and different types of exit strategies.\n\nWhether you’re a solopreneur with a promising idea or a seasoned entrepreneur seeking growth opportunities\, this workshop will provide invaluable insights to help you navigate the complex landscape of small business funding. Join us and unlock the potential of your business with the right capital strategy. \nCourse participants will also have the opportunity to pitch their business at the capstone Mountain Raise event in November. \nRegister for the course. Thanks to the generous funding from the Minority Business Development Agency’s Capital Readiness grant\, the course fee is only $75 for the primary participant and $25 for additional participants from the same company.
URL:https://wpengine.mountainbizworks.org/event/invested-course-2/
LOCATION:Mountain BizWorks Asheville Office\, 153 Lexington Ave\, Asheville\, 28801\, United States
CATEGORIES:Class,Event,Invested,Online
END:VEVENT
END:VCALENDAR