BEGIN:VCALENDAR
VERSION:2.0
PRODID:-//Mountain BizWorks - ECPv6.15.20//NONSGML v1.0//EN
CALSCALE:GREGORIAN
METHOD:PUBLISH
X-WR-CALNAME:Mountain BizWorks
X-ORIGINAL-URL:https://wpengine.mountainbizworks.org
X-WR-CALDESC:Events for Mountain BizWorks
REFRESH-INTERVAL;VALUE=DURATION:PT1H
X-Robots-Tag:noindex
X-PUBLISHED-TTL:PT1H
BEGIN:VTIMEZONE
TZID:America/New_York
BEGIN:DAYLIGHT
TZOFFSETFROM:-0500
TZOFFSETTO:-0400
TZNAME:EDT
DTSTART:20250309T070000
END:DAYLIGHT
BEGIN:STANDARD
TZOFFSETFROM:-0400
TZOFFSETTO:-0500
TZNAME:EST
DTSTART:20251102T060000
END:STANDARD
BEGIN:DAYLIGHT
TZOFFSETFROM:-0500
TZOFFSETTO:-0400
TZNAME:EDT
DTSTART:20260308T070000
END:DAYLIGHT
BEGIN:STANDARD
TZOFFSETFROM:-0400
TZOFFSETTO:-0500
TZNAME:EST
DTSTART:20261101T060000
END:STANDARD
BEGIN:DAYLIGHT
TZOFFSETFROM:-0500
TZOFFSETTO:-0400
TZNAME:EDT
DTSTART:20270314T070000
END:DAYLIGHT
BEGIN:STANDARD
TZOFFSETFROM:-0400
TZOFFSETTO:-0500
TZNAME:EST
DTSTART:20271107T060000
END:STANDARD
END:VTIMEZONE
BEGIN:VEVENT
DTSTART;TZID=America/New_York:20260327T110000
DTEND;TZID=America/New_York:20260327T130000
DTSTAMP:20260421T050635
CREATED:20260112T201032Z
LAST-MODIFIED:20260112T201032Z
UID:10002897-1774609200-1774616400@wpengine.mountainbizworks.org
SUMMARY:Craft Your Commerce Connect | Grassroots Marketing for Artists
DESCRIPTION:This is marketing for people who hate schmoozing. This workshop will be focused on empowering you to choose marketing strategies that are authentic\, effective\, and sustainable for you. \nWe will focus on: \n\nEffective storytelling on the platforms of your choice\nWays to connect with your community both in-person and online\nWays to grow that community of friends and customers\n\nThis workshop will be centered around participation and sharing ideas — come ready to share what’s working and what’s not working for you! \nAbout the Instructor: \nHannah Kaminer is an artist and singer-songwriter writing songs about love\, loss\, and home. Raised in small towns in Western North Carolina\, she fuses echoes of Appalachian and country traditions with wistful\, Americana-style songwriting. She has Kickstarted and released three studio albums: Acre by Acre (2015)\, Heavy Magnolias (2018)\, and Heavy on the Vine (2024) which she produced with her band\, The Wistfuls. More info about her music is available at www.hannahkaminer.com.\nSince 2016\, Hannah has also worked in public relations and marketing\, including chapters in-house\, in the outdoor industry\, and in food and beverage. Because of a dual role in the arts and in business\, Hannah seeks to develop marketing strategy that is not only effective\, but sustainable\, authentic\, and sane. Her two favorite parts of marketing are finding the vital threads of a story and figuring out how to tell it powerfully. \n 
URL:https://wpengine.mountainbizworks.org/event/craft-your-commerce-connect-grassroots-marketing-for-artists/
LOCATION:Center for Craft\, 67 Broadway St\, Asheville\, 28801\, United States
CATEGORIES:Class,Craft Your Commerce,In-Person,Learn
END:VEVENT
END:VCALENDAR