BEGIN:VCALENDAR
VERSION:2.0
PRODID:-//Mountain BizWorks - ECPv6.15.20//NONSGML v1.0//EN
CALSCALE:GREGORIAN
METHOD:PUBLISH
X-WR-CALNAME:Mountain BizWorks
X-ORIGINAL-URL:https://wpengine.mountainbizworks.org
X-WR-CALDESC:Events for Mountain BizWorks
REFRESH-INTERVAL;VALUE=DURATION:PT1H
X-Robots-Tag:noindex
X-PUBLISHED-TTL:PT1H
BEGIN:VTIMEZONE
TZID:America/New_York
BEGIN:DAYLIGHT
TZOFFSETFROM:-0500
TZOFFSETTO:-0400
TZNAME:EDT
DTSTART:20240310T070000
END:DAYLIGHT
BEGIN:STANDARD
TZOFFSETFROM:-0400
TZOFFSETTO:-0500
TZNAME:EST
DTSTART:20241103T060000
END:STANDARD
BEGIN:DAYLIGHT
TZOFFSETFROM:-0500
TZOFFSETTO:-0400
TZNAME:EDT
DTSTART:20250309T070000
END:DAYLIGHT
BEGIN:STANDARD
TZOFFSETFROM:-0400
TZOFFSETTO:-0500
TZNAME:EST
DTSTART:20251102T060000
END:STANDARD
BEGIN:DAYLIGHT
TZOFFSETFROM:-0500
TZOFFSETTO:-0400
TZNAME:EDT
DTSTART:20260308T070000
END:DAYLIGHT
BEGIN:STANDARD
TZOFFSETFROM:-0400
TZOFFSETTO:-0500
TZNAME:EST
DTSTART:20261101T060000
END:STANDARD
END:VTIMEZONE
BEGIN:VEVENT
DTSTART;TZID=America/New_York:20251103T173000
DTEND;TZID=America/New_York:20251103T203000
DTSTAMP:20260422T201519
CREATED:20250627T173615Z
LAST-MODIFIED:20250627T173615Z
UID:10002845-1762191000-1762201800@wpengine.mountainbizworks.org
SUMMARY:Future Forward Capstone Workshop: Forward by Design; Building Your Resilience Roadmap
DESCRIPTION:This culminating session invites participants to step back and look at the full arc of their building resilience journey. Through guided reflection\, peer exchange\, and strategic planning exercises\, they will distill key takeaways from the series and build a customized Resilience Roadmap – a living plan that brings together their assessments\, strategies\, and next-step goals for long-term growth. This is more than a summary – it’s a launchpad. \nParticipants will leave feeling reenergized\, reconnected to purpose\, and equipped with a clear direction forward.
URL:https://wpengine.mountainbizworks.org/event/future-forward-capstone-workshop-forward-by-design-building-your-resilience-roadmap/
LOCATION:Mountain BizWorks Asheville Office\, 153 S Lexington Avenue\, Asheville\, NC\, 28801\, United States
CATEGORIES:Event,In-Person,Learn,Mountain BizWorks Event,Recovery Workshop
GEO:35.590696;-82.552115
X-APPLE-STRUCTURED-LOCATION;VALUE=URI;X-ADDRESS=Mountain BizWorks Asheville Office 153 S Lexington Avenue Asheville NC 28801 United States;X-APPLE-RADIUS=500;X-TITLE=153 S Lexington Avenue:geo:-82.552115,35.590696
END:VEVENT
BEGIN:VEVENT
DTSTART;TZID=America/New_York:20251105T090000
DTEND;TZID=America/New_York:20251105T100000
DTSTAMP:20260422T201519
CREATED:20231207T145656Z
LAST-MODIFIED:20231207T145656Z
UID:10002480-1762333200-1762336800@wpengine.mountainbizworks.org
SUMMARY:1 Million Cups AVL
DESCRIPTION:1 Million Cups is a Kaufman Foundation initiative intended to bring founders together so they can uplift one another\, learn from each other\, and solve problems together. 1 Million Cups AVL is our local chapter\, and Hatch Innovation Hub is its home. It offers an inclusive space for entrepreneurs to connect\, work through challenges\, and help each other grow. \nEvery Wednesday from 9am – 10am\, community members gather in Hatch’s event space for a 6-minute business presentation from a local founder followed by 20 minutes of Q&A. \nWe recommend 1 Million Cups to everyone\, especially those who are new to WNC’s entrepreneurial community.
URL:https://wpengine.mountainbizworks.org/event/1-million-cups-avl/2025-11-05/
LOCATION:Hatch Innovation Hub\, 45 S French Broad Avenue\, Asheville\, 28801\, United States
CATEGORIES:In-Person,Partner Events
END:VEVENT
BEGIN:VEVENT
DTSTART;TZID=America/New_York:20251112T090000
DTEND;TZID=America/New_York:20251112T100000
DTSTAMP:20260422T201519
CREATED:20231207T145656Z
LAST-MODIFIED:20231207T145656Z
UID:10002481-1762938000-1762941600@wpengine.mountainbizworks.org
SUMMARY:1 Million Cups AVL
DESCRIPTION:1 Million Cups is a Kaufman Foundation initiative intended to bring founders together so they can uplift one another\, learn from each other\, and solve problems together. 1 Million Cups AVL is our local chapter\, and Hatch Innovation Hub is its home. It offers an inclusive space for entrepreneurs to connect\, work through challenges\, and help each other grow. \nEvery Wednesday from 9am – 10am\, community members gather in Hatch’s event space for a 6-minute business presentation from a local founder followed by 20 minutes of Q&A. \nWe recommend 1 Million Cups to everyone\, especially those who are new to WNC’s entrepreneurial community.
URL:https://wpengine.mountainbizworks.org/event/1-million-cups-avl/2025-11-12/
LOCATION:Hatch Innovation Hub\, 45 S French Broad Avenue\, Asheville\, 28801\, United States
CATEGORIES:In-Person,Partner Events
END:VEVENT
BEGIN:VEVENT
DTSTART;TZID=America/New_York:20251117T180000
DTEND;TZID=America/New_York:20251117T190000
DTSTAMP:20260422T201519
CREATED:20250917T133933Z
LAST-MODIFIED:20250917T133949Z
UID:10002868-1763402400-1763406000@wpengine.mountainbizworks.org
SUMMARY:Orientation Session
DESCRIPTION:Join us for an information session to discover what resources are available at Mountain BizWorks that will help you start\, grow\, and thrive in your business. Hosted by our Learning Programs Manager\, Holly Rivers\, this session is a great opportunity to learn more about Mountain BizWorks’ small business lending and learning programs.
URL:https://wpengine.mountainbizworks.org/event/orientation-session-64/
LOCATION:Mountain BizWorks\, 153 S Lexington Ave\, Asheville\, NC\, 28801\, United States
CATEGORIES:Event,In-Person,Learn,Orientation Session
END:VEVENT
BEGIN:VEVENT
DTSTART;TZID=America/New_York:20251119T090000
DTEND;TZID=America/New_York:20251119T100000
DTSTAMP:20260422T201519
CREATED:20231207T145656Z
LAST-MODIFIED:20231207T145656Z
UID:10002482-1763542800-1763546400@wpengine.mountainbizworks.org
SUMMARY:1 Million Cups AVL
DESCRIPTION:1 Million Cups is a Kaufman Foundation initiative intended to bring founders together so they can uplift one another\, learn from each other\, and solve problems together. 1 Million Cups AVL is our local chapter\, and Hatch Innovation Hub is its home. It offers an inclusive space for entrepreneurs to connect\, work through challenges\, and help each other grow. \nEvery Wednesday from 9am – 10am\, community members gather in Hatch’s event space for a 6-minute business presentation from a local founder followed by 20 minutes of Q&A. \nWe recommend 1 Million Cups to everyone\, especially those who are new to WNC’s entrepreneurial community.
URL:https://wpengine.mountainbizworks.org/event/1-million-cups-avl/2025-11-19/
LOCATION:Hatch Innovation Hub\, 45 S French Broad Avenue\, Asheville\, 28801\, United States
CATEGORIES:In-Person,Partner Events
END:VEVENT
BEGIN:VEVENT
DTSTART;TZID=America/New_York:20251121T110000
DTEND;TZID=America/New_York:20251121T130000
DTSTAMP:20260422T201519
CREATED:20250718T153038Z
LAST-MODIFIED:20250718T153038Z
UID:10002856-1763722800-1763730000@wpengine.mountainbizworks.org
SUMMARY:Craft Your Commerce Connect | Taxes for Creatives\, Makers\, and Solo Businesses
DESCRIPTION:Workshop Description: \nWhat can I deduct? Do I bring receipts to my accountant? Is my creative work a business or a hobby? What is a Schedule C? How do I deduct my home studio?  Why do freelancers have to pay taxes quarterly\, and how do I do that? \nHannah will discuss the basic tax equation\, self employment tax and estimated quarterly taxes\, audit concerns for the creative person\, and other tax issues specifically relevant to creatives\, makers\, and freelancers\, followed by a question and answer period. \nInstructor Bio: \nHannah Cole is a tax expert who specializes in working with creative businesses and mission-driven solopreneurs. A long-time working artist herself\, she’s helped tens of thousands of self-employed people skill up with accessible tax and money education\, through her Money Bootcamp program\, speaking engagements from Florida to Alaska\, and on the Sunlight podcast. She is the founder of Sunlight Tax.
URL:https://wpengine.mountainbizworks.org/event/craft-your-commerce-connect-taxes-for-creatives/
LOCATION:Center for Craft\, 67 Broadway St\, Asheville\, 28801\, United States
CATEGORIES:Class,Craft Your Commerce,In-Person,Learn
END:VEVENT
BEGIN:VEVENT
DTSTART;TZID=America/New_York:20251126T090000
DTEND;TZID=America/New_York:20251126T100000
DTSTAMP:20260422T201519
CREATED:20231207T145656Z
LAST-MODIFIED:20231207T145656Z
UID:10002483-1764147600-1764151200@wpengine.mountainbizworks.org
SUMMARY:1 Million Cups AVL
DESCRIPTION:1 Million Cups is a Kaufman Foundation initiative intended to bring founders together so they can uplift one another\, learn from each other\, and solve problems together. 1 Million Cups AVL is our local chapter\, and Hatch Innovation Hub is its home. It offers an inclusive space for entrepreneurs to connect\, work through challenges\, and help each other grow. \nEvery Wednesday from 9am – 10am\, community members gather in Hatch’s event space for a 6-minute business presentation from a local founder followed by 20 minutes of Q&A. \nWe recommend 1 Million Cups to everyone\, especially those who are new to WNC’s entrepreneurial community.
URL:https://wpengine.mountainbizworks.org/event/1-million-cups-avl/2025-11-26/
LOCATION:Hatch Innovation Hub\, 45 S French Broad Avenue\, Asheville\, 28801\, United States
CATEGORIES:In-Person,Partner Events
END:VEVENT
END:VCALENDAR