BEGIN:VCALENDAR
VERSION:2.0
PRODID:-//Mountain BizWorks - ECPv6.15.20//NONSGML v1.0//EN
CALSCALE:GREGORIAN
METHOD:PUBLISH
X-WR-CALNAME:Mountain BizWorks
X-ORIGINAL-URL:https://wpengine.mountainbizworks.org
X-WR-CALDESC:Events for Mountain BizWorks
REFRESH-INTERVAL;VALUE=DURATION:PT1H
X-Robots-Tag:noindex
X-PUBLISHED-TTL:PT1H
BEGIN:VTIMEZONE
TZID:America/New_York
BEGIN:DAYLIGHT
TZOFFSETFROM:-0500
TZOFFSETTO:-0400
TZNAME:EDT
DTSTART:20240310T070000
END:DAYLIGHT
BEGIN:STANDARD
TZOFFSETFROM:-0400
TZOFFSETTO:-0500
TZNAME:EST
DTSTART:20241103T060000
END:STANDARD
BEGIN:DAYLIGHT
TZOFFSETFROM:-0500
TZOFFSETTO:-0400
TZNAME:EDT
DTSTART:20250309T070000
END:DAYLIGHT
BEGIN:STANDARD
TZOFFSETFROM:-0400
TZOFFSETTO:-0500
TZNAME:EST
DTSTART:20251102T060000
END:STANDARD
BEGIN:DAYLIGHT
TZOFFSETFROM:-0500
TZOFFSETTO:-0400
TZNAME:EDT
DTSTART:20260308T070000
END:DAYLIGHT
BEGIN:STANDARD
TZOFFSETFROM:-0400
TZOFFSETTO:-0500
TZNAME:EST
DTSTART:20261101T060000
END:STANDARD
END:VTIMEZONE
BEGIN:VEVENT
DTSTART;TZID=America/New_York:20250604T090000
DTEND;TZID=America/New_York:20250604T100000
DTSTAMP:20260423T022217
CREATED:20231207T145656Z
LAST-MODIFIED:20231207T145656Z
UID:10002458-1749027600-1749031200@wpengine.mountainbizworks.org
SUMMARY:1 Million Cups AVL
DESCRIPTION:1 Million Cups is a Kaufman Foundation initiative intended to bring founders together so they can uplift one another\, learn from each other\, and solve problems together. 1 Million Cups AVL is our local chapter\, and Hatch Innovation Hub is its home. It offers an inclusive space for entrepreneurs to connect\, work through challenges\, and help each other grow. \nEvery Wednesday from 9am – 10am\, community members gather in Hatch’s event space for a 6-minute business presentation from a local founder followed by 20 minutes of Q&A. \nWe recommend 1 Million Cups to everyone\, especially those who are new to WNC’s entrepreneurial community.
URL:https://wpengine.mountainbizworks.org/event/1-million-cups-avl/2025-06-04/
LOCATION:Hatch Innovation Hub\, 45 S French Broad Avenue\, Asheville\, 28801\, United States
CATEGORIES:In-Person,Partner Events
END:VEVENT
BEGIN:VEVENT
DTSTART;TZID=America/New_York:20250610T173000
DTEND;TZID=America/New_York:20250610T200000
DTSTAMP:20260423T022217
CREATED:20250319T170235Z
LAST-MODIFIED:20250319T171551Z
UID:10002789-1749576600-1749585600@wpengine.mountainbizworks.org
SUMMARY:Financial Series
DESCRIPTION:What is covered:\nFinancial Tools – Financial Tools will introduce you to the tools to understand the basics of business finance so you can make informed decisions on how to organize and manage your business finances. Topics discussed are record keeping; bookkeeping; accounting; creating\, understanding and using financial statements and reports. \nAccounting Software – this class uses the accounting platform Quickbooks to provide an overview of online software\, the different subscription levels\, and will teach you how to navigate the dashboard and explore the reporting feature to generate reports that can be customized to your needs. When you complete this class\, you’ll know the best ways to get around\, enter day-to-day transactions\, get the information you need out of accounting software\, and powerful report tools that’ll help your business make good decisions. \nCost: $60 \n 
URL:https://wpengine.mountainbizworks.org/event/financial-series-21/
LOCATION:Virtual\, Online — Zoom\, NC
CATEGORIES:Class,Course,Event,Financial Series,In-Person,Learn
END:VEVENT
BEGIN:VEVENT
DTSTART;TZID=America/New_York:20250611T090000
DTEND;TZID=America/New_York:20250611T100000
DTSTAMP:20260423T022217
CREATED:20231207T145656Z
LAST-MODIFIED:20231207T145656Z
UID:10002459-1749632400-1749636000@wpengine.mountainbizworks.org
SUMMARY:1 Million Cups AVL
DESCRIPTION:1 Million Cups is a Kaufman Foundation initiative intended to bring founders together so they can uplift one another\, learn from each other\, and solve problems together. 1 Million Cups AVL is our local chapter\, and Hatch Innovation Hub is its home. It offers an inclusive space for entrepreneurs to connect\, work through challenges\, and help each other grow. \nEvery Wednesday from 9am – 10am\, community members gather in Hatch’s event space for a 6-minute business presentation from a local founder followed by 20 minutes of Q&A. \nWe recommend 1 Million Cups to everyone\, especially those who are new to WNC’s entrepreneurial community.
URL:https://wpengine.mountainbizworks.org/event/1-million-cups-avl/2025-06-11/
LOCATION:Hatch Innovation Hub\, 45 S French Broad Avenue\, Asheville\, 28801\, United States
CATEGORIES:In-Person,Partner Events
END:VEVENT
BEGIN:VEVENT
DTSTART;TZID=America/New_York:20250618T090000
DTEND;TZID=America/New_York:20250618T100000
DTSTAMP:20260423T022217
CREATED:20231207T145656Z
LAST-MODIFIED:20231207T145656Z
UID:10002460-1750237200-1750240800@wpengine.mountainbizworks.org
SUMMARY:1 Million Cups AVL
DESCRIPTION:1 Million Cups is a Kaufman Foundation initiative intended to bring founders together so they can uplift one another\, learn from each other\, and solve problems together. 1 Million Cups AVL is our local chapter\, and Hatch Innovation Hub is its home. It offers an inclusive space for entrepreneurs to connect\, work through challenges\, and help each other grow. \nEvery Wednesday from 9am – 10am\, community members gather in Hatch’s event space for a 6-minute business presentation from a local founder followed by 20 minutes of Q&A. \nWe recommend 1 Million Cups to everyone\, especially those who are new to WNC’s entrepreneurial community.
URL:https://wpengine.mountainbizworks.org/event/1-million-cups-avl/2025-06-18/
LOCATION:Hatch Innovation Hub\, 45 S French Broad Avenue\, Asheville\, 28801\, United States
CATEGORIES:In-Person,Partner Events
END:VEVENT
BEGIN:VEVENT
DTSTART;TZID=America/New_York:20250625T090000
DTEND;TZID=America/New_York:20250625T100000
DTSTAMP:20260423T022217
CREATED:20231207T145656Z
LAST-MODIFIED:20231207T145656Z
UID:10002461-1750842000-1750845600@wpengine.mountainbizworks.org
SUMMARY:1 Million Cups AVL
DESCRIPTION:1 Million Cups is a Kaufman Foundation initiative intended to bring founders together so they can uplift one another\, learn from each other\, and solve problems together. 1 Million Cups AVL is our local chapter\, and Hatch Innovation Hub is its home. It offers an inclusive space for entrepreneurs to connect\, work through challenges\, and help each other grow. \nEvery Wednesday from 9am – 10am\, community members gather in Hatch’s event space for a 6-minute business presentation from a local founder followed by 20 minutes of Q&A. \nWe recommend 1 Million Cups to everyone\, especially those who are new to WNC’s entrepreneurial community.
URL:https://wpengine.mountainbizworks.org/event/1-million-cups-avl/2025-06-25/
LOCATION:Hatch Innovation Hub\, 45 S French Broad Avenue\, Asheville\, 28801\, United States
CATEGORIES:In-Person,Partner Events
END:VEVENT
BEGIN:VEVENT
DTSTART;TZID=America/New_York:20250627T110000
DTEND;TZID=America/New_York:20250627T130000
DTSTAMP:20260423T022217
CREATED:20250328T171555Z
LAST-MODIFIED:20250328T171555Z
UID:10002793-1751022000-1751029200@wpengine.mountainbizworks.org
SUMMARY:Craft Your Commerce Connect | Grow with Intention: A Skills and Strategy Workshop
DESCRIPTION:Do you need help running your business but aren’t sure what tasks to hire out? \nIn this interactive workshop\, tools are provided to help you identify what facets of your business you are most highly skilled in and what pieces make the most sense (time\, budget\, and skills wise) to outsource to others.  We will take time as a group to complete a personal skill assessment and break into smaller groups with fellow creative business owners to discuss our findings. Getting really clear about what knowledge\, skills\, and abilities to hire for makes creating job postings a breeze and helps you find candidates who are the best fit for the job. \nAbout the Presenter: \nJillian Wright\, PHR (she/her/hers) is a certified HR professional with over eighteen years of experience working in anti-racist\, anti-oppression centered people operations (aka HR) for non-profit and mission-driven workplaces. She started Begin Again HR to provide intentional\, inclusive HR support for value-driven companies that care deeply about their people. \nJillian’s passion for people-support and behavioral psychology in the workplace along with her deep personal commitment to social justice as a member of the queer community has fueled her desire to help leaders create workplaces where their people can shine. \nWhen she’s not working\, Jillian enjoys dancing\, hiking\, reading\, and building forts with her two energetic kiddos.
URL:https://wpengine.mountainbizworks.org/event/craft-your-commerce-connect-grow-with-intention/
LOCATION:Center for Craft\, 67 Broadway St\, Asheville\, 28801\, United States
CATEGORIES:Class,Craft Your Commerce,In-Person,Learn
END:VEVENT
END:VCALENDAR