BEGIN:VCALENDAR
VERSION:2.0
PRODID:-//Mountain BizWorks - ECPv6.15.20//NONSGML v1.0//EN
CALSCALE:GREGORIAN
METHOD:PUBLISH
X-WR-CALNAME:Mountain BizWorks
X-ORIGINAL-URL:https://wpengine.mountainbizworks.org
X-WR-CALDESC:Events for Mountain BizWorks
REFRESH-INTERVAL;VALUE=DURATION:PT1H
X-Robots-Tag:noindex
X-PUBLISHED-TTL:PT1H
BEGIN:VTIMEZONE
TZID:America/New_York
BEGIN:DAYLIGHT
TZOFFSETFROM:-0500
TZOFFSETTO:-0400
TZNAME:EDT
DTSTART:20240310T070000
END:DAYLIGHT
BEGIN:STANDARD
TZOFFSETFROM:-0400
TZOFFSETTO:-0500
TZNAME:EST
DTSTART:20241103T060000
END:STANDARD
BEGIN:DAYLIGHT
TZOFFSETFROM:-0500
TZOFFSETTO:-0400
TZNAME:EDT
DTSTART:20250309T070000
END:DAYLIGHT
BEGIN:STANDARD
TZOFFSETFROM:-0400
TZOFFSETTO:-0500
TZNAME:EST
DTSTART:20251102T060000
END:STANDARD
BEGIN:DAYLIGHT
TZOFFSETFROM:-0500
TZOFFSETTO:-0400
TZNAME:EDT
DTSTART:20260308T070000
END:DAYLIGHT
BEGIN:STANDARD
TZOFFSETFROM:-0400
TZOFFSETTO:-0500
TZNAME:EST
DTSTART:20261101T060000
END:STANDARD
END:VTIMEZONE
BEGIN:VTIMEZONE
TZID:UTC
BEGIN:STANDARD
TZOFFSETFROM:+0000
TZOFFSETTO:+0000
TZNAME:UTC
DTSTART:20240101T000000
END:STANDARD
END:VTIMEZONE
BEGIN:VEVENT
DTSTART;TZID=America/New_York:20250205T090000
DTEND;TZID=America/New_York:20250205T100000
DTSTAMP:20260425T143407
CREATED:20231207T145656Z
LAST-MODIFIED:20231207T145656Z
UID:10002441-1738746000-1738749600@wpengine.mountainbizworks.org
SUMMARY:1 Million Cups AVL
DESCRIPTION:1 Million Cups is a Kaufman Foundation initiative intended to bring founders together so they can uplift one another\, learn from each other\, and solve problems together. 1 Million Cups AVL is our local chapter\, and Hatch Innovation Hub is its home. It offers an inclusive space for entrepreneurs to connect\, work through challenges\, and help each other grow. \nEvery Wednesday from 9am – 10am\, community members gather in Hatch’s event space for a 6-minute business presentation from a local founder followed by 20 minutes of Q&A. \nWe recommend 1 Million Cups to everyone\, especially those who are new to WNC’s entrepreneurial community.
URL:https://wpengine.mountainbizworks.org/event/1-million-cups-avl/2025-02-05/
LOCATION:Hatch Innovation Hub\, 45 S French Broad Avenue\, Asheville\, 28801\, United States
CATEGORIES:In-Person,Partner Events
END:VEVENT
BEGIN:VEVENT
DTSTART;TZID=America/New_York:20250212T090000
DTEND;TZID=America/New_York:20250212T100000
DTSTAMP:20260425T143407
CREATED:20231207T145656Z
LAST-MODIFIED:20231207T145656Z
UID:10002442-1739350800-1739354400@wpengine.mountainbizworks.org
SUMMARY:1 Million Cups AVL
DESCRIPTION:1 Million Cups is a Kaufman Foundation initiative intended to bring founders together so they can uplift one another\, learn from each other\, and solve problems together. 1 Million Cups AVL is our local chapter\, and Hatch Innovation Hub is its home. It offers an inclusive space for entrepreneurs to connect\, work through challenges\, and help each other grow. \nEvery Wednesday from 9am – 10am\, community members gather in Hatch’s event space for a 6-minute business presentation from a local founder followed by 20 minutes of Q&A. \nWe recommend 1 Million Cups to everyone\, especially those who are new to WNC’s entrepreneurial community.
URL:https://wpengine.mountainbizworks.org/event/1-million-cups-avl/2025-02-12/
LOCATION:Hatch Innovation Hub\, 45 S French Broad Avenue\, Asheville\, 28801\, United States
CATEGORIES:In-Person,Partner Events
END:VEVENT
BEGIN:VEVENT
DTSTART;TZID=UTC:20250213T093000
DTEND;TZID=UTC:20250213T123000
DTSTAMP:20260425T143407
CREATED:20241210T232346Z
LAST-MODIFIED:20250130T211640Z
UID:10002765-1739439000-1739449800@wpengine.mountainbizworks.org
SUMMARY:FULL - Foundations Business Planning Class
DESCRIPTION:Our Foundations business planning class helps guide ideas from concept to reality in a participatory\, supportive learning environment.\nJoin a cohort of aspiring and existing entrepreneurs to gain an aerial perspective of your vision and the comprehensive business skills necessary to help bring your visions into reality. Participants will gain a clear aerial perspective of their business operations\, financials\, research and development\, and marketing strategies. They will leave the course with a comprehensive business plan\, a clear vision for their business\, and concrete tasks for future work. \nThroughout the class\, emphasis will be placed on developing the social capital of the group. Participants will be encouraged to gather feedback from their peers\, creating a strong network of deep support and synergy. For more info\, visit the Foundations Business Planning overview page. \nFor questions\, contact Holly Rivers\, holly@mountainbizworks.org. \nRegistration\nComplete our online registration form to hold your seat in the class of your choice.  We will follow up with you within a few days. You are welcome to contact us with any follow-up questions or ask about the status of your request. \n 
URL:https://wpengine.mountainbizworks.org/event/foundations-business-planning-class-avl-3/
LOCATION:Mountain BizWorks Asheville Office\, 153 S Lexington Avenue\, Asheville\, NC\, 28801\, United States
CATEGORIES:Course,Foundations Business Planning,In-Person,Learn
GEO:35.590696;-82.552115
X-APPLE-STRUCTURED-LOCATION;VALUE=URI;X-ADDRESS=Mountain BizWorks Asheville Office 153 S Lexington Avenue Asheville NC 28801 United States;X-APPLE-RADIUS=500;X-TITLE=153 S Lexington Avenue:geo:-82.552115,35.590696
END:VEVENT
BEGIN:VEVENT
DTSTART;TZID=America/New_York:20250218T173000
DTEND;TZID=America/New_York:20250218T200000
DTSTAMP:20260425T143407
CREATED:20241212T205843Z
LAST-MODIFIED:20241216T182146Z
UID:10002767-1739899800-1739908800@wpengine.mountainbizworks.org
SUMMARY:Financial Series
DESCRIPTION:What is covered:\nFinancial Tools – Financial Tools will introduce you to the tools to understand the basics of business finance so you can make informed decisions on how to organize and manage your business finances. Topics discussed are record keeping; bookkeeping; accounting; creating\, understanding and using financial statements and reports.  \nAccounting Software – this class uses the accounting platform Quickbooks to provide an overview of online software\, the different subscription levels\, and will teach you how to navigate the dashboard and explore the reporting feature to generate reports that can be customized to your needs. When you complete this class\, you’ll know the best ways to get around\, enter day-to-day transactions\, get the information you need out of accounting software\, and powerful report tools that’ll help your business make good decisions.  \nCost: $60 \n 
URL:https://wpengine.mountainbizworks.org/event/financial-series-virtual-7/
LOCATION:Virtual\, Online — Zoom\, NC
CATEGORIES:Course,Event,Financial Series,In-Person,Learn
END:VEVENT
BEGIN:VEVENT
DTSTART;TZID=America/New_York:20250219T090000
DTEND;TZID=America/New_York:20250219T100000
DTSTAMP:20260425T143407
CREATED:20231207T145656Z
LAST-MODIFIED:20231207T145656Z
UID:10002443-1739955600-1739959200@wpengine.mountainbizworks.org
SUMMARY:1 Million Cups AVL
DESCRIPTION:1 Million Cups is a Kaufman Foundation initiative intended to bring founders together so they can uplift one another\, learn from each other\, and solve problems together. 1 Million Cups AVL is our local chapter\, and Hatch Innovation Hub is its home. It offers an inclusive space for entrepreneurs to connect\, work through challenges\, and help each other grow. \nEvery Wednesday from 9am – 10am\, community members gather in Hatch’s event space for a 6-minute business presentation from a local founder followed by 20 minutes of Q&A. \nWe recommend 1 Million Cups to everyone\, especially those who are new to WNC’s entrepreneurial community.
URL:https://wpengine.mountainbizworks.org/event/1-million-cups-avl/2025-02-19/
LOCATION:Hatch Innovation Hub\, 45 S French Broad Avenue\, Asheville\, 28801\, United States
CATEGORIES:In-Person,Partner Events
END:VEVENT
BEGIN:VEVENT
DTSTART;TZID=America/New_York:20250221T110000
DTEND;TZID=America/New_York:20250221T130000
DTSTAMP:20260425T143407
CREATED:20250130T174327Z
LAST-MODIFIED:20250130T174327Z
UID:10002774-1740135600-1740142800@wpengine.mountainbizworks.org
SUMMARY:Craft Your Commerce Connect: Website Framework and Best Practices with Cami Leisk
DESCRIPTION:This 2-hour session with website strategist Cami Leisk will help you create a more effective and user-friendly website and ecommerce layout. Cami will cover key principles of navigation and website flow\, giving you a solid framework to design or redesign your online presence. \nThe session includes opportunities for partnered discussions\, where you’ll exchange ideas and gain clarity on what you want for your website. Whether you’re starting fresh or refining an existing site\, this workshop will equip you with practical tools to make your website work better for your business.
URL:https://wpengine.mountainbizworks.org/event/craft-your-commerce-connect-website-framework-and-best-practices-with-cami-leisk/
LOCATION:Center for Craft\, 67 Broadway St\, Asheville\, 28801\, United States
CATEGORIES:Class,Craft Your Commerce,In-Person,Learn
END:VEVENT
BEGIN:VEVENT
DTSTART;TZID=America/New_York:20250226T090000
DTEND;TZID=America/New_York:20250226T100000
DTSTAMP:20260425T143407
CREATED:20231207T145656Z
LAST-MODIFIED:20231207T145656Z
UID:10002444-1740560400-1740564000@wpengine.mountainbizworks.org
SUMMARY:1 Million Cups AVL
DESCRIPTION:1 Million Cups is a Kaufman Foundation initiative intended to bring founders together so they can uplift one another\, learn from each other\, and solve problems together. 1 Million Cups AVL is our local chapter\, and Hatch Innovation Hub is its home. It offers an inclusive space for entrepreneurs to connect\, work through challenges\, and help each other grow. \nEvery Wednesday from 9am – 10am\, community members gather in Hatch’s event space for a 6-minute business presentation from a local founder followed by 20 minutes of Q&A. \nWe recommend 1 Million Cups to everyone\, especially those who are new to WNC’s entrepreneurial community.
URL:https://wpengine.mountainbizworks.org/event/1-million-cups-avl/2025-02-26/
LOCATION:Hatch Innovation Hub\, 45 S French Broad Avenue\, Asheville\, 28801\, United States
CATEGORIES:In-Person,Partner Events
END:VEVENT
END:VCALENDAR