BEGIN:VCALENDAR
VERSION:2.0
PRODID:-//Mountain BizWorks - ECPv6.15.20//NONSGML v1.0//EN
CALSCALE:GREGORIAN
METHOD:PUBLISH
X-WR-CALNAME:Mountain BizWorks
X-ORIGINAL-URL:https://wpengine.mountainbizworks.org
X-WR-CALDESC:Events for Mountain BizWorks
REFRESH-INTERVAL;VALUE=DURATION:PT1H
X-Robots-Tag:noindex
X-PUBLISHED-TTL:PT1H
BEGIN:VTIMEZONE
TZID:America/New_York
BEGIN:DAYLIGHT
TZOFFSETFROM:-0500
TZOFFSETTO:-0400
TZNAME:EDT
DTSTART:20250309T070000
END:DAYLIGHT
BEGIN:STANDARD
TZOFFSETFROM:-0400
TZOFFSETTO:-0500
TZNAME:EST
DTSTART:20251102T060000
END:STANDARD
BEGIN:DAYLIGHT
TZOFFSETFROM:-0500
TZOFFSETTO:-0400
TZNAME:EDT
DTSTART:20260308T070000
END:DAYLIGHT
BEGIN:STANDARD
TZOFFSETFROM:-0400
TZOFFSETTO:-0500
TZNAME:EST
DTSTART:20261101T060000
END:STANDARD
BEGIN:DAYLIGHT
TZOFFSETFROM:-0500
TZOFFSETTO:-0400
TZNAME:EDT
DTSTART:20270314T070000
END:DAYLIGHT
BEGIN:STANDARD
TZOFFSETFROM:-0400
TZOFFSETTO:-0500
TZNAME:EST
DTSTART:20271107T060000
END:STANDARD
END:VTIMEZONE
BEGIN:VEVENT
DTSTART;TZID=America/New_York:20260424T110000
DTEND;TZID=America/New_York:20260424T130000
DTSTAMP:20260421T064553
CREATED:20260326T174547Z
LAST-MODIFIED:20260326T174547Z
UID:10002911-1777028400-1777035600@wpengine.mountainbizworks.org
SUMMARY:Craft Your Commerce Connect | Financial Strategy in Crayon
DESCRIPTION:Financial Strategy unlike you’ve probably experienced before. Instead of teaching formulas\, we’re going to look at how your business actually works – because financial strategy is already there\, whether you’ve named it or not. \nMost creative entrepreneurs think their financial challenges come from not knowing enough numbers. In reality\, the numbers aren’t the problem – it’s what’s shaping them. We’re going to give the numbers color. \nUsing a playful “financial strategy in crayon” approach\, we’ll map your business with color\, sketches\, and simple patterns—no spreadsheets\, no jargon\, no shame (but still numbers!). You’ll look at your business as a set of flows: where money comes in\, where it goes\, and what supports or drains. \nWe’ll look at real business scenarios (“financial decisions in the wild”) to show how assumptions\, patterns\, flow and constraints—not math—drive financial strategy. \nBy the end\, you’ll walk away with a visual map of your business you can actually understand\, a clearer sense of what’s driving your current results\, and a way to make financial decisions in the future. \n  \nInstructor Bio: Amanda Bell is a business strategist\, financial systems thinker\, and co-founder of Thrive Strategy LAB. She blends data-driven financial diagnostics with human-centered coaching to help creative entrepreneurs understand their numbers\, clarify their direction\, and make decisions that feel sustainable. Amanda works across product\, service\, and retail-based businesses throughout Western North Carolina\, building custom financial models\, capacity plans\, and operational strategies that support growth without burnout. Her approach centers clarity\, practicality\, and the belief that business decisions should make sense both on paper and in a person’s nervous system.
URL:https://wpengine.mountainbizworks.org/event/craft-your-commerce-connect-financial-strategy-in-crayon/
LOCATION:Center for Craft\, 67 Broadway St\, Asheville\, 28801\, United States
CATEGORIES:Class,Craft Your Commerce,In-Person,Learn
END:VEVENT
END:VCALENDAR