BEGIN:VCALENDAR
VERSION:2.0
PRODID:-//Mountain BizWorks - ECPv6.15.20//NONSGML v1.0//EN
CALSCALE:GREGORIAN
METHOD:PUBLISH
X-WR-CALNAME:Mountain BizWorks
X-ORIGINAL-URL:https://wpengine.mountainbizworks.org
X-WR-CALDESC:Events for Mountain BizWorks
REFRESH-INTERVAL;VALUE=DURATION:PT1H
X-Robots-Tag:noindex
X-PUBLISHED-TTL:PT1H
BEGIN:VTIMEZONE
TZID:America/Halifax
BEGIN:DAYLIGHT
TZOFFSETFROM:-0400
TZOFFSETTO:-0300
TZNAME:ADT
DTSTART:20150308T060000
END:DAYLIGHT
BEGIN:STANDARD
TZOFFSETFROM:-0300
TZOFFSETTO:-0400
TZNAME:AST
DTSTART:20151101T050000
END:STANDARD
BEGIN:DAYLIGHT
TZOFFSETFROM:-0400
TZOFFSETTO:-0300
TZNAME:ADT
DTSTART:20160313T060000
END:DAYLIGHT
BEGIN:STANDARD
TZOFFSETFROM:-0300
TZOFFSETTO:-0400
TZNAME:AST
DTSTART:20161106T050000
END:STANDARD
BEGIN:DAYLIGHT
TZOFFSETFROM:-0400
TZOFFSETTO:-0300
TZNAME:ADT
DTSTART:20170312T060000
END:DAYLIGHT
BEGIN:STANDARD
TZOFFSETFROM:-0300
TZOFFSETTO:-0400
TZNAME:AST
DTSTART:20171105T050000
END:STANDARD
BEGIN:DAYLIGHT
TZOFFSETFROM:-0400
TZOFFSETTO:-0300
TZNAME:ADT
DTSTART:20180311T060000
END:DAYLIGHT
BEGIN:STANDARD
TZOFFSETFROM:-0300
TZOFFSETTO:-0400
TZNAME:AST
DTSTART:20181104T050000
END:STANDARD
BEGIN:DAYLIGHT
TZOFFSETFROM:-0400
TZOFFSETTO:-0300
TZNAME:ADT
DTSTART:20190310T060000
END:DAYLIGHT
BEGIN:STANDARD
TZOFFSETFROM:-0300
TZOFFSETTO:-0400
TZNAME:AST
DTSTART:20191103T050000
END:STANDARD
END:VTIMEZONE
BEGIN:VEVENT
DTSTART;TZID=America/Halifax:20180607T084500
DTEND;TZID=America/Halifax:20180607T100000
DTSTAMP:20260421T100258
CREATED:20180606T130831Z
LAST-MODIFIED:20180606T131136Z
UID:10001843-1528361100-1528365600@wpengine.mountainbizworks.org
SUMMARY:Filling in the Business Planning Gaps (Part 1)
DESCRIPTION:Join us for a series of small group learning sessions to take a deeper dive into business planning\, farm financials and recordkeeping topics. Each session will include both an in-person small group discussion and a follow up web based portion for Appalachian Grown farmers.  \nThere is no cost to attend. Read the descriptions and then use the link below to sign up online. We ask you to commit to both the in person and web based components. \nThursday\, June 7  8:45 am – 10 am \nA time to integrate mission\, cash flow projections and long-term branding into the business plan for one or more of your farm enterprises. \nSign up: click here  \nFor more information about these group sessions please contact Emma Hutchens at emma@mountainbizworks.org.
URL:https://wpengine.mountainbizworks.org/event/filling-in-the-business-planning-gaps-part-1/
LOCATION:Mountain BizWorks Asheville Office\, 153 S Lexington Avenue\, Asheville\, NC\, 28801\, United States
CATEGORIES:Class,Local Food & Farming Initiatives
GEO:35.590696;-82.552115
X-APPLE-STRUCTURED-LOCATION;VALUE=URI;X-ADDRESS=Mountain BizWorks Asheville Office 153 S Lexington Avenue Asheville NC 28801 United States;X-APPLE-RADIUS=500;X-TITLE=153 S Lexington Avenue:geo:-82.552115,35.590696
END:VEVENT
BEGIN:VEVENT
DTSTART;TZID=America/Halifax:20180605T090000
DTEND;TZID=America/Halifax:20180605T111500
DTSTAMP:20260421T100258
CREATED:20180606T131650Z
LAST-MODIFIED:20180606T133922Z
UID:10001845-1528189200-1528197300@wpengine.mountainbizworks.org
SUMMARY:Digging Deeper Into Profit Margins (Part 1)
DESCRIPTION:Join us for a series of small group learning sessions to take a deeper dive into business planning\, farm financials and recordkeeping topics. Each session will include both an in-person small group discussion and a follow up web based portion for Appalachian Grown farmers.  \nThere is no cost to attend. Read the descriptions and then use the link below to sign up online. We ask you to commit to both the in person and web based components. \n  \nTuesday\, June 5  \nFarmer facilitated session looking at early and mid-season loss calculations and how to factor them into recordkeeping. \nSign up: click here  \n  \nFor more information about these group sessions please contact Emma Hutchens at emma@mountainbizworks.org.
URL:https://wpengine.mountainbizworks.org/event/digging-deeper-into-profit-margins/
LOCATION:Boone MBW Office\, 164 Depot Street\, Boone\, 28607\, United States
CATEGORIES:Class,Local Food & Farming Initiatives
GEO:36.2179616;-81.6848375
X-APPLE-STRUCTURED-LOCATION;VALUE=URI;X-ADDRESS=Boone MBW Office 164 Depot Street Boone 28607 United States;X-APPLE-RADIUS=500;X-TITLE=164 Depot Street:geo:-81.6848375,36.2179616
END:VEVENT
BEGIN:VEVENT
DTSTART;TZID=America/Halifax:20180605T090000
DTEND;TZID=America/Halifax:20180605T111500
DTSTAMP:20260421T100258
CREATED:20180605T153727Z
LAST-MODIFIED:20180605T153727Z
UID:10001842-1528189200-1528197300@wpengine.mountainbizworks.org
SUMMARY:DIGGING DEEPER INTO PROFIT MARGINS  (Two part session)
DESCRIPTION:DIGGING DEEPER INTO PROFIT MARGINS  (Two part session) \nJoin us for a series of small group learning sessions to take a deeper dive into business planning\, farm financials and record keeping topics. Each session will include both an in-person small group discussion and a follow up web based portion for Appalachian Grown farmers.  \nThere is no cost to attend. Read the descriptions and then use the link below to sign up online. We ask you to commit to both the in person and web based components. \n  \nPART 1: Mountain BizWorks Boone Office (164 Depot St.\, Boone)\nTuesday\,  June 5th \n9 am to 11:15 am        \nDeep dive into profit margin analysis using various enterprise models. Participate with a cohort of farmers who are calculating profit margin utilizing various decision-making inputs.\n    \nPART 2: Webinar\nMonday\, June 18\n9 am to 11:15 am        \nFarmer facilitated session looking at early and mid-season loss calculations and how to factor them into recordkeeping. \n \nSign up: click here \n \nFor more information about these group sessions please contact Emma Hutchens at emma@mountainbizworks.org
URL:https://wpengine.mountainbizworks.org/event/digging-deeper-into-profit-margins-two-part-session/
LOCATION:Boone MBW Office\, 164 Depot Street\, Boone\, 28607\, United States
CATEGORIES:Class,Local Food & Farming Initiatives
GEO:36.2179616;-81.6848375
X-APPLE-STRUCTURED-LOCATION;VALUE=URI;X-ADDRESS=Boone MBW Office 164 Depot Street Boone 28607 United States;X-APPLE-RADIUS=500;X-TITLE=164 Depot Street:geo:-81.6848375,36.2179616
END:VEVENT
BEGIN:VEVENT
DTSTART;TZID=America/Halifax:20180327T090000
DTEND;TZID=America/Halifax:20180327T130000
DTSTAMP:20260421T100258
CREATED:20180312T204732Z
LAST-MODIFIED:20180312T204732Z
UID:10001678-1522141200-1522155600@wpengine.mountainbizworks.org
SUMMARY:March 27th 9am to 1pm Farm Succession Planning Workshop @ Saint Paul Mountain Vineyards
DESCRIPTION:Farmers start\, grow and exit their enterprises through the integrity\, sweat\, and care for their family and the land. What happens when it is time to move on from the everyday work of the farm enterprise and it must produce a different kind of yield? In this half day Farm Succession Planning Workshop we will work through three models for transitioning your farm enterprise and how to get the best return on investment from the business. Join us on March 27\, 2018 from 9am to 1pm at Saint Paul Mountain Vineyards in Hendersonville\, NC. Hear from farmers who are in the process of planning to transfer their land and business\, alongside other professionals who offer business and legal expertise to consider when determining which model may be a fit for your farm. \nDate: Tuesday\, March 27\, 9-1 pm\nLocation: Saint Paul Mountain Vineyards\, 588 Chestnut Gap Rd\, Hendersonville\, NC\nCost: $20 per person\, includes lunch \nPresenters: \nAndrew Branan\, Agricultural Attorney – Legal considerations before\, during and after farm succession planning\nSuzanna Denison\, WNC Farm Link – covering multiple considerations in farm succession planning\nJillian Hishaw\, F.A.R.M.S – covering Raising Capital with and without heirs as a succession model\nKimberly Hunter\, Mountain BizWorks – farm enterprise evaluation\nWilliam Yeager\, Real Estate Broker\, covering Internal Rate of Returns and Land Development Partnerships\n \nRegister online or call 828-236-1282 to register over the phone.
URL:https://wpengine.mountainbizworks.org/event/march-27th-9am-to-1pm-farm-succession-planning-workshop-saint-paul-mountain-vineyards/
LOCATION:Saint Paul Mountain Vineyards\, 588 Chestnut Gap Rd.\, Hendersonville\, NC\, 28792\, United States
CATEGORIES:Class,Local Food & Farming Initiatives
GEO:35.3561679;-82.4081251
X-APPLE-STRUCTURED-LOCATION;VALUE=URI;X-ADDRESS=Saint Paul Mountain Vineyards 588 Chestnut Gap Rd. Hendersonville NC 28792 United States;X-APPLE-RADIUS=500;X-TITLE=588 Chestnut Gap Rd.:geo:-82.4081251,35.3561679
END:VEVENT
BEGIN:VEVENT
DTSTART;TZID=America/Halifax:20180224T080000
DTEND;TZID=America/Halifax:20180224T170000
DTSTAMP:20260421T100258
CREATED:20171113T205242Z
LAST-MODIFIED:20180131T154445Z
UID:10001778-1519459200-1519491600@wpengine.mountainbizworks.org
SUMMARY:ASAP’s 15th Annual Business of Farming Conference
DESCRIPTION:ASAP’s Annual Business of Farming Conference is a day of learning and networking for beginning and established farmers\, as well as those seriously considering farming as a profession. The conference is one of the region’s premier events dedicated to providing professional farmers with tools\, skills\, and information to operate and build viable farm businesses. At the conference\, farmers\,  learn about marketing\, business planning\, and management from regional experts and innovative farmers. \nThe conference also includes: \nLunch-time Grower-Buyer Meeting \n“As a Lawyer” legal sessions \nOne-to-one business and marketing consulting \nExhibitor hall \nLocally sourced lunch and breakfast \nAmple time to network with other farmers and professionals from the Southeast \nRegister on ASAP’s website here
URL:https://wpengine.mountainbizworks.org/event/asaps-15th-annual-business-of-farming-conference/
LOCATION:A-B Tech/ Mission Health Conference Center\, 16 Fernihurst Dr.\, Asheville\, NC\, 28801\, United States
CATEGORIES:Class,Local Food & Farming Initiatives
GEO:35.571745;-82.555673
X-APPLE-STRUCTURED-LOCATION;VALUE=URI;X-ADDRESS=A-B Tech/ Mission Health Conference Center 16 Fernihurst Dr. Asheville NC 28801 United States;X-APPLE-RADIUS=500;X-TITLE=16 Fernihurst Dr.:geo:-82.555673,35.571745
END:VEVENT
BEGIN:VEVENT
DTSTART;TZID=America/Halifax:20180223T090000
DTEND;TZID=America/Halifax:20180223T130000
DTSTAMP:20260421T100258
CREATED:20180131T152642Z
LAST-MODIFIED:20180131T154307Z
UID:10001818-1519376400-1519390800@wpengine.mountainbizworks.org
SUMMARY:February 23\, 9am-1pm: Farm Succession Planning Workshop
DESCRIPTION:A Pre-Business of Farming Conference Half-Day Workshop\nMountain BizWorks is partnering with ASAP to offer a great half-day workshop the day before the Business of Farming Conference. This workshop is $20 per person and can be added to Business of Farming Conference registration or purchased as a standalone workshop.  \nFeb 23\, 9 am-1 pm: Farm Succession Planning Workshop Led by Kimberly Hunter\nA good time to start thinking about farm succession planning is when you have determined that running a farm operation will be your primary form of wealth building towards retirement. Whether you would like to shift your business model\, transfer the farm to your children\, or sell your operation intact\, join area experts to learn more about your options. This half-day workshop will cover key aspects of developing a well-thought-out farm succession plan\, including tangible and intangible asset development\, covenants and conservation easements\, enterprise valuations\, and the role of attorneys\, CPAs\, and financial advisers. \n\n RSVP on ASAP’s website here
URL:https://wpengine.mountainbizworks.org/event/february-23-9am-1pm-farm-succession-planning-workshop/
LOCATION:Saint Paul Mountain Vineyards\, 588 Chestnut Gap Rd.\, Hendersonville\, NC\, 28792\, United States
CATEGORIES:Class,Local Food & Farming Initiatives
GEO:35.3561679;-82.4081251
X-APPLE-STRUCTURED-LOCATION;VALUE=URI;X-ADDRESS=Saint Paul Mountain Vineyards 588 Chestnut Gap Rd. Hendersonville NC 28792 United States;X-APPLE-RADIUS=500;X-TITLE=588 Chestnut Gap Rd.:geo:-82.4081251,35.3561679
END:VEVENT
BEGIN:VEVENT
DTSTART;TZID=America/Halifax:20180213T113000
DTEND;TZID=America/Halifax:20180213T130000
DTSTAMP:20260421T100258
CREATED:20180131T160604Z
LAST-MODIFIED:20180131T160614Z
UID:10001820-1518521400-1518526800@wpengine.mountainbizworks.org
SUMMARY:February 13\, 11:30am-1 pm Farm Recordkeeping Webinar
DESCRIPTION:Join ASAP\, Mountain BizWorks\, and FSA for a free lunch hour training to help you plan for success this growing season. \n\nWhere does your money go? Every farm and business needs accurate recordkeeping to be able to keep up with tax requirements and serve as a guide for planning. This workshop is an overview to the world of record keeping\, bookkeeping and accounting for farm business owners designed to demystify the subject and serve as a guide to getting started or improving the systems you have in place. Included will be examples of record keeping practices and strategies in place by Jason Roehrig of Tumbling Shoals Farm that they use to gather important information about the profitability of crops and enterprises. \nRegister for Farm Recordkeeping here
URL:https://wpengine.mountainbizworks.org/event/february-13-1130am-1-pm-farm-recordkeeping-webinar/
LOCATION:Online
CATEGORIES:Class,Local Food & Farming Initiatives
END:VEVENT
BEGIN:VEVENT
DTSTART;TZID=America/Halifax:20180206T110000
DTEND;TZID=America/Halifax:20180206T130000
DTSTAMP:20260421T100258
CREATED:20180131T152258Z
LAST-MODIFIED:20180131T160235Z
UID:10001802-1517914800-1517922000@wpengine.mountainbizworks.org
SUMMARY:February 6\, 11am-1pm: Farm Business Financials Webinar
DESCRIPTION:Join ASAP\, Mountain BizWorks\, and FSA for a series of lunch hour trainings to help you plan for success this growing season. \n\nWhether it be determining your cash flow needs\, deciding which areas of your business to scale\, or assessing options to reduce your risks\, this series will help you be more deliberate about your planning. Working through real farm examples with Jason Roehrig of Tumbling Shoals Farm\, you will also learn more about available resources and programs to support your farm business. Webinars are free to attend. Sign up for one session or both. Must register separately for each session. \nFarm Business Financials (February 6\, Part A: 11am-12pm\, Part B: 12pm-1pm)\nFinancial success in business rarely comes by accident\, this session focuses on introducing basic business financial planning and analysis techniques that are vital in creating profitability for farming enterprises.  We will look at topics such as determining your cost structure\, evaluating revenue streams and creating break-even analysis. \nPart A is a general overview of farm business financial management principles and practice.\n\nRegister for Farm Business Financials  Part A here \nPart B will look at specific examples of methods in place at Tumbling Shoals Farms to glean important financial information such as sales by product classes. \n\nRegister for Farm Business Financials Part B here \n 
URL:https://wpengine.mountainbizworks.org/event/planning-for-success-webinar-series/
LOCATION:Online
CATEGORIES:Class,Local Food & Farming Initiatives
END:VEVENT
BEGIN:VEVENT
DTSTART;TZID=America/Halifax:20171212T160000
DTEND;TZID=America/Halifax:20171212T190000
DTSTAMP:20260421T100258
CREATED:20171113T203702Z
LAST-MODIFIED:20171113T203702Z
UID:10001666-1513094400-1513105200@wpengine.mountainbizworks.org
SUMMARY:Pricing for Profit - A Workshop for Farm & Food Businesses
DESCRIPTION:Financial success in business rarely comes by accident\, this seminar focuses on learning and using basic business financial planning and analysis techniques that are vital in creating profitability for farming enterprises. We will learn and apply techniques\, such as determining your cost structure\, evaluating revenue streams\, creating break-even analysis’ and factors to take into consideration when pricing your products. Most of all we will learn how digging into the numbers can be enlightening and fun! Led by Barry Gupton\, Mountain Bizworks Financial Planning Coach. \n$20 per person\, includes a light meal \nRegister on ASAP’s website here 
URL:https://wpengine.mountainbizworks.org/event/pricing-for-profit-a-workshop-for-farm-food-businesses/
LOCATION:ASAP Headquarters\, 306 West Haywood Street\, Asheville\, NC\, 28801\, United States
CATEGORIES:Class,Financial Series,Local Food & Farming Initiatives
ORGANIZER;CN="Ascent Business Network":MAILTO:info@ascentbusinessnetwork.com
GEO:35.5916321;-82.563762
X-APPLE-STRUCTURED-LOCATION;VALUE=URI;X-ADDRESS=ASAP Headquarters 306 West Haywood Street Asheville NC 28801 United States;X-APPLE-RADIUS=500;X-TITLE=306 West Haywood Street:geo:-82.563762,35.5916321
END:VEVENT
BEGIN:VEVENT
DTSTART;TZID=America/Halifax:20171209T090000
DTEND;TZID=America/Halifax:20171209T130000
DTSTAMP:20260421T100258
CREATED:20171113T203107Z
LAST-MODIFIED:20171204T172700Z
UID:10001664-1512810000-1512824400@wpengine.mountainbizworks.org
SUMMARY:Planning for Profit + High Country Grower-Buyer Meeting
DESCRIPTION:Join ASAP and Mountain BizWorks for a morning workshop and networking lunch designed to help you determine which financial aspects of your farm enterprise have worked this season and how to strategically plan for the future. Business professionals and innovative farmers will cover direct market and wholesale opportunities in the region\, current marketing trends\, and strategies for using your farm records for planning and decision making. Stay for lunch and meet with a variety of local buyers during our Grower-Buyer Meeting\, or take advantage of individual business and marketing consulting. \nRegister on ASAP’s website here  \nSpeakers: Molly Nicholie of ASAP\, and Madelyn Hjertmann of Valle Crucis Lavender House & Mountain BizWorks
URL:https://wpengine.mountainbizworks.org/event/planning-for-profit-high-country-grower-buyer-meeting/
LOCATION:Boondocks Brewing\, 108 S Jefferson Ave\, West Jefferson\, NC\, 28694\, United States
CATEGORIES:Class,High Country Classes & Workshops,Local Food & Farming Initiatives
ORGANIZER;CN="Ascent Business Network":MAILTO:info@ascentbusinessnetwork.com
GEO:36.400784;-81.492077
X-APPLE-STRUCTURED-LOCATION;VALUE=URI;X-ADDRESS=Boondocks Brewing 108 S Jefferson Ave West Jefferson NC 28694 United States;X-APPLE-RADIUS=500;X-TITLE=108 S Jefferson Ave:geo:-81.492077,36.400784
END:VEVENT
BEGIN:VEVENT
DTSTART;TZID=America/Halifax:20170131T160000
DTEND;TZID=America/Halifax:20170131T190000
DTSTAMP:20260421T100258
CREATED:20161227T205618Z
LAST-MODIFIED:20170124T221021Z
UID:10001730-1485878400-1485889200@wpengine.mountainbizworks.org
SUMMARY:Pricing for Profit - A Workshop for Farm & Food Businesses
DESCRIPTION:Mountain BizWorks is pleased to be kicking off a 2017 farm business training series with the great folks at the Appalachian Sustainable Agriculture Project. \n\n\nInstructors:  Barry Gupton\, Mountain BizWorks Financial Planning Coach & William Lyons\, Bluebird Farm \nSpace is limited\, so REGISTER HERE today or call ASAP at (828) 236-1282 to register by phone. \nJanuary 31\, 2017  from 4-7 PM @ the ASAP office\, Asheville\, NC \n$20 per person\, includes a light meal \nFinancial success in business rarely comes by accident\, this seminar focuses on learning and using basic business financial planning and analysis techniques that are vital in creating profitability for farming enterprises.  We will learn and apply techniques\, such as determining your cost structure\, evaluating revenue streams\, creating break-even analysis’ and factors to take into consideration when pricing your products.  Most of all we will learn how digging into the numbers can be enlightening and fun! \nFor more information about classes and training opportunities for ASAP click here \n  \n                                           \n\n\nPhoto courtesy of ASAPor farm enterprise or are considering starting one\, we invite you to join us for the first workshop: Pricing your Farm Enterprise for Profit.\n 
URL:https://wpengine.mountainbizworks.org/event/pricing-your-farm-enterprise-for-profit-workshop/
LOCATION:ASAP Headquarters\, 306 West Haywood Street\, Asheville\, NC\, 28801\, United States
CATEGORIES:Class,Local Food & Farming Initiatives
ORGANIZER;CN="Ascent Business Network":MAILTO:info@ascentbusinessnetwork.com
GEO:35.5916321;-82.563762
X-APPLE-STRUCTURED-LOCATION;VALUE=URI;X-ADDRESS=ASAP Headquarters 306 West Haywood Street Asheville NC 28801 United States;X-APPLE-RADIUS=500;X-TITLE=306 West Haywood Street:geo:-82.563762,35.5916321
END:VEVENT
BEGIN:VEVENT
DTSTART;TZID=America/Halifax:20161017T180000
DTEND;TZID=America/Halifax:20161017T210000
DTSTAMP:20260421T100258
CREATED:20160912T153152Z
LAST-MODIFIED:20160912T153152Z
UID:10001604-1476727200-1476738000@wpengine.mountainbizworks.org
SUMMARY:Identifying Markets & Sales Avenues for Ag-Based Businesses “CrashPad” Workshop
DESCRIPTION:Learn how to identify your business market and sales avenues with Tumbling Shoals farms! Tumbling Shoals Farm is owned and operated by Shiloh Avery and Jason Roehrig.  They grow certified organic vegetables and fruit. They have been farming since returning from Peace Corps service as agriculture volunteers in Madagascar in 2002. \nThe course is part of Mountain BizWorks’ 2016-17 High Country training series offered in partnership with Ascent Business Network and with funding support from USDA Rural Development and Appalachian Regional Commission. \nCost: FREE\nWhen: Monday\, October 17th – 6 pm to 9 pm\nWhere: BREMCO community room\n2375 NC Hwy. 163. West Jefferson\, NC 28694 \nClick here to register
URL:https://wpengine.mountainbizworks.org/event/identifying-markets-sales-avenues-for-ag-based-businesses-crashpad-workshop/
LOCATION:BREMCO community room\, 2375 NC Hwy. 163\, West Jefferson\, NC\, 28694 \, United States
CATEGORIES:Class,High Country Classes & Workshops,Local Food & Farming Initiatives
GEO:36.376765;-81.472172
X-APPLE-STRUCTURED-LOCATION;VALUE=URI;X-ADDRESS=BREMCO community room 2375 NC Hwy. 163 West Jefferson NC 28694  United States;X-APPLE-RADIUS=500;X-TITLE=2375 NC Hwy. 163:geo:-81.472172,36.376765
END:VEVENT
BEGIN:VEVENT
DTSTART;TZID=America/Halifax:20160929T180000
DTEND;TZID=America/Halifax:20160929T210000
DTSTAMP:20260421T100258
CREATED:20160912T151209Z
LAST-MODIFIED:20160912T151519Z
UID:10001598-1475172000-1475182800@wpengine.mountainbizworks.org
SUMMARY:Fundamentals of Agribusiness "CrashPad" Workshop
DESCRIPTION:The discussion will focus on visioning your agriculturally based business in a financially sustainable way. Whether you have an idea for a business or want to expand an existing business\, all are welcome to attend. This Crashpad will be facilitated by Carol Coulter\, owner of Heritage Homestead Goat Dairy and executive director of Blue Ridge Women in Agriculture. \nThe course is part of Mountain BizWorks’ 2016-17 High Country training series offered in partnership with Ascent Business Network and with funding support from USDA Rural Development and Appalachian Regional Commission. \nCost: FREE\nWhen: Thursday\, September 29th – 6 pm to 9 pm\nWhere: BREMCO community room\n2375 NC Hwy. 163. West Jefferson\, NC 28694 \nClick here to register
URL:https://wpengine.mountainbizworks.org/event/fundamentals-of-agribusiness-crashpad-workshop/
LOCATION:BREMCO community room\, 2375 NC Hwy. 163\, West Jefferson\, NC\, 28694 \, United States
CATEGORIES:Class,High Country Classes & Workshops,Local Food & Farming Initiatives
GEO:36.376765;-81.472172
X-APPLE-STRUCTURED-LOCATION;VALUE=URI;X-ADDRESS=BREMCO community room 2375 NC Hwy. 163 West Jefferson NC 28694  United States;X-APPLE-RADIUS=500;X-TITLE=2375 NC Hwy. 163:geo:-81.472172,36.376765
END:VEVENT
END:VCALENDAR