BEGIN:VCALENDAR
VERSION:2.0
PRODID:-//Mountain BizWorks - ECPv6.15.20//NONSGML v1.0//EN
CALSCALE:GREGORIAN
METHOD:PUBLISH
X-WR-CALNAME:Mountain BizWorks
X-ORIGINAL-URL:https://wpengine.mountainbizworks.org
X-WR-CALDESC:Events for Mountain BizWorks
REFRESH-INTERVAL;VALUE=DURATION:PT1H
X-Robots-Tag:noindex
X-PUBLISHED-TTL:PT1H
BEGIN:VTIMEZONE
TZID:America/Halifax
BEGIN:DAYLIGHT
TZOFFSETFROM:-0400
TZOFFSETTO:-0300
TZNAME:ADT
DTSTART:20180311T060000
END:DAYLIGHT
BEGIN:STANDARD
TZOFFSETFROM:-0300
TZOFFSETTO:-0400
TZNAME:AST
DTSTART:20181104T050000
END:STANDARD
BEGIN:DAYLIGHT
TZOFFSETFROM:-0400
TZOFFSETTO:-0300
TZNAME:ADT
DTSTART:20190310T060000
END:DAYLIGHT
BEGIN:STANDARD
TZOFFSETFROM:-0300
TZOFFSETTO:-0400
TZNAME:AST
DTSTART:20191103T050000
END:STANDARD
BEGIN:DAYLIGHT
TZOFFSETFROM:-0400
TZOFFSETTO:-0300
TZNAME:ADT
DTSTART:20200308T060000
END:DAYLIGHT
BEGIN:STANDARD
TZOFFSETFROM:-0300
TZOFFSETTO:-0400
TZNAME:AST
DTSTART:20201101T050000
END:STANDARD
BEGIN:DAYLIGHT
TZOFFSETFROM:-0400
TZOFFSETTO:-0300
TZNAME:ADT
DTSTART:20210314T060000
END:DAYLIGHT
BEGIN:STANDARD
TZOFFSETFROM:-0300
TZOFFSETTO:-0400
TZNAME:AST
DTSTART:20211107T050000
END:STANDARD
END:VTIMEZONE
BEGIN:VEVENT
DTSTART;TZID=America/Halifax:20200421T103000
DTEND;TZID=America/Halifax:20200421T113000
DTSTAMP:20260421T155020
CREATED:20200417T153251Z
LAST-MODIFIED:20200417T153326Z
UID:10002091-1587465000-1587468600@wpengine.mountainbizworks.org
SUMMARY:Webinar: Navigating the Shelby1Fund Application Process
DESCRIPTION:Are You a Business Owner Based in Shelby\, NC that has been Affected by COVID-19? Need Help? Got Questions? During this one-hour\, free and interactive webinar\, Mountain BizWorks and City of Shelby staff will provide an overview of the Shelby1Fund and show you how to navigate the Loan Application process by going through the application form line by line and then answer any other outstanding questions you may have.  \nPlease sign up below\, space is limited! \nContinue to the Webinar Registration Form »\n \nPlease check your email after you’ve registered for information on how to join the webinar.
URL:https://wpengine.mountainbizworks.org/event/webinar-navigating-the-shelby1fund-application-process/
LOCATION:Mountain BizWorks Asheville Office\, 153 S Lexington Avenue\, Asheville\, NC\, 28801\, United States
CATEGORIES:Class,Coronavirus Response,Foothills Launch
GEO:35.590696;-82.552115
X-APPLE-STRUCTURED-LOCATION;VALUE=URI;X-ADDRESS=Mountain BizWorks Asheville Office 153 S Lexington Avenue Asheville NC 28801 United States;X-APPLE-RADIUS=500;X-TITLE=153 S Lexington Avenue:geo:-82.552115,35.590696
END:VEVENT
BEGIN:VEVENT
DTSTART;TZID=America/Halifax:20200225T180000
DTEND;TZID=America/Halifax:20200225T210000
DTSTAMP:20260421T155020
CREATED:20191211T163112Z
LAST-MODIFIED:20200206T171115Z
UID:10002043-1582653600-1582664400@wpengine.mountainbizworks.org
SUMMARY:Polk County - PM Foundations Business Planning Class w/ Steve Modlin: February 25 - April 7 (Tuesday Evenings)
DESCRIPTION:Class meets for six sessions over seven weeks\, with no class on March 17. \nJoin a cohort of aspiring and existing entrepreneurs to gain an aerial perspective of your vision and the comprehensive business skills necessary to help bring your visions into reality. \nIn 18 hours over 6 weekly sessions\, participants will gain a clear aerial perspective of their business operations\, financials\, research and development\, and marketing strategies. They will leave the course with a comprehensive business plan\, a clear vision for their business\, and concrete tasks for future work. \n\nWeek 1: Gaining Perspective: We start by viewing our business concepts from a high altitude\, in order to define our visions and get a good look at the main topics to be addressed.\nWeek 2: Laying the Foundation: Next\, we return to the ground level to define our lines of business and analyze financial essentials\, from overhead costs to break-even points.\nWeek 3: Getting into the Flow: In the third session\, we’ll cover the financial bases of cash flow\, sales forecasting\, and financial documents.\nWeek 4: Mission & Markets: Then\, we’ll revisit our mission\, discuss market research\, and identify competitors in order to align with our target markets.\nWeek 5: Get the Word Out: Next\, we’ll discuss creative marketing strategies and give peer feedback on marketing materials.\nWeek 6: Goodbye & Good Luck: Finally\, we’ll present our business plans\, share final pitches\, and plan for next steps.\n\nThroughout the class\, emphasis will be placed on developing the social capital of the group. Participants will be encouraged to gather feedback from their peers\, creating a strong network of deep support and synergy. \nFacilitator Bio \n \nSteve and his wife reside in the Mill Spring community of Polk County\, NC. They are the founders and owners of The Old Mule Company\, producing their own line of gourmet sauces on their family farm. In addition\, they maintain a sheep livestock operation. Their family built company has been in business for over 25 years. \nCourse Pricing \nThe Foundations course fee is $375; however through the Foothills Launch! initiative with support from USDA Rural Development and the Isothermal Planning & Development Commission\,  we are able to offer this course for only $75 per participant. To redeem this special reduced price\, please use the scholarship code “FOOTHILLS-LAUNCH” when registering. The total is due upon enrollment to reserve your seat and a payment link will be included in your registration confirmation email. \nScholarship Info \nSee above for the special reduced price details for this course. \nClass Schedule \nClass will begin on the start date and will meet on the same weekday and time every week. Some classes have a built-in bye week for a holiday or inclement weather make up class. Attendance for all classes is recommended to not fall behind in any of the material. Week 1 is required\, but if you have a scheduling conflict where you would miss any other classes\, please let us know. Additional support may be available for any missed class material.  This is a PM class and will be held 6-9pm. To inquire about adding your name to a waiting list for FULL classes\, contact Millie Smith\, millie@mountainbizworks.org (828) 253-2834 ext. 10 \nRegistration \nComplete our online registration form to hold your seat in the class of your choice.  We will follow up with you within a few days. You are welcome to contact us with any follow-up questions or ask about the status of your request. \nContinue to the Foundations Registration Form »\n\nOne-On-One Business Coaching \nDuring or following the course\, One-On-One Business Coaching may be a great way to reinforce and deepen your understanding of the topics you learn in class and relate them to your business concept. To submit an application for coaching Click Here.
URL:https://wpengine.mountainbizworks.org/event/polk-county-pm-foundations-business-planning-class-w-steve-modlin-february-25-april-7-tuesday-evenings/
LOCATION:The Depot Room\, 22 Depot St\, Tryon\, NC\, 28782\, United States
CATEGORIES:Class,Foothills Launch,Foundations Business Planning
END:VEVENT
BEGIN:VEVENT
DTSTART;TZID=America/Halifax:20191003T180000
DTEND;TZID=America/Halifax:20191003T210000
DTSTAMP:20260421T155020
CREATED:20190703T013419Z
LAST-MODIFIED:20190703T135955Z
UID:10001990-1570125600-1570136400@wpengine.mountainbizworks.org
SUMMARY:Polk County: Foundations Business Planning Class w/ Steve Modlin. October 03 - November 14 (Thursday Evenings)
DESCRIPTION:**Location TBD** \nClass meets for six sessions over seven weeks\, with no class on Thursday\, October 31. \nJoin a cohort of aspiring and existing entrepreneurs to gain an aerial perspective of your vision and the comprehensive business skills necessary to help bring your visions into reality. \nIn 18 hours over 6 weekly sessions\, participants will gain a clear aerial perspective of their business operations\, financials\, research and development\, and marketing strategies. They will leave the course with a comprehensive business plan\, a clear vision for their business\, and concrete tasks for future work. \n\nWeek 1: Gaining Perspective: We start by viewing our business concepts from a high altitude\, in order to define our visions and get a good look at the main topics to be addressed.\nWeek 2: Laying the Foundation: Next\, we return to the ground level to define our lines of business and analyze financial essentials\, from overhead costs to break-even points.\nWeek 3: Getting into the Flow: In the third session\, we’ll cover the financial bases of cash flow\, sales forecasting\, and financial documents.\nWeek 4: Mission & Markets: Then\, we’ll revisit our mission\, discuss market research\, and identify competitors in order to align with our target markets.\nWeek 5: Get the Word Out: Next\, we’ll discuss creative marketing strategies and give peer feedback on marketing materials.\nWeek 6: Goodbye & Good Luck: Finally\, we’ll present our business plans\, share final pitches\, and plan for next steps.\n\nThroughout the class\, emphasis will be placed on developing the social capital of the group. Participants will be encouraged to gather feedback from their peers\, creating a strong network of deep support and synergy. \nFacilitator Bio \n \nSteve and his wife reside in the Mill Spring community of Polk County\, NC. They are the founders and owners of The Old Mule Company\, producing their own line of gourmet sauces on their family farm. In addition\, they maintain a sheep livestock operation. Their family built company has been in business for over 25 years. \nCourse Pricing \nThe Foundations course fee is $375; however through the Foothills Launch! initiative with support from USDA Rural Development and the Isothermal Planning & Development Commission\,  we are able to offer this course for only $75 per participant. To redeem this special reduced price\, please use the scholarship code “FOOTHILLS-LAUNCH” when registering. The total is due upon enrollment to reserve your seat and a payment link will be included in your registration confirmation email. \nScholarship Info \nSee above for the special reduced price details for this course. \nClass Schedule \nClass will begin on the start date and will meet on the same weekday and time every week. Some classes have a built-in bye week for a holiday or inclement weather make up class. Attendance for all classes is recommended to not fall behind in any of the material.  Week 1 is required\, but if you have a scheduling conflict where you would miss any other classes\, please let Kareen know.  Additional support may be available for any missed class material.  This is a PM class and will be held 6-9pm. To inquire about adding your name to a waiting list for FULL classes\, contact Kareen Boncales\,  kareen@mountainbizworks.org (828) 253-2834 ext. 27 \nRegistration \nComplete our online registration form to hold your seat in the class of your choice.  We will follow up with you within a few days. You are welcome to contact us with any follow-up questions or ask about the status of your request. \nContinue to the Foundations Registration Form »\n\nOne-On-One Business Coaching \nDuring or following the course\, One-On-One Business Coaching may be a great way to reinforce and deepen your understanding of the topics you learn in class and relate them to your business concept. To submit an application for coaching Click Here.
URL:https://wpengine.mountainbizworks.org/event/polk-county-foundations-business-planning-class-w-steve-modlin-thursday-evenings/
LOCATION:Polk County TBD\, NC\, United States
CATEGORIES:Class,Foothills Launch,Foundations Business Planning
END:VEVENT
BEGIN:VEVENT
DTSTART;TZID=America/Halifax:20190409T173000
DTEND;TZID=America/Halifax:20190409T203000
DTSTAMP:20260421T155020
CREATED:20190130T180424Z
LAST-MODIFIED:20190307T223558Z
UID:10001939-1554831000-1554841800@wpengine.mountainbizworks.org
SUMMARY:In Shelby: Foundations Business Planning Class w/ Madison Webber (Tuesday Evenings)
DESCRIPTION:Class meets for six sessions\, every Tuesday evening from 5:30pm-8:30 pm from April 9th – May 14th. \nThis class is part of our FOOTHILLS LAUNCH! Expanding Small Business Access to Capital in the Isothermal Region collaborative project with Isothermal Planning and Development Commission (IPDC) in order to increase CDFI small business lending and entrepreneurial training in the Isothermal Region (Cleveland\, McDowell\, Polk\, and Rutherford counties).  \nJoin a cohort of aspiring and existing entrepreneurs to gain an aerial perspective of your vision and the comprehensive business skills necessary to help bring your visions into reality. \nThe “Foundations” Business Planning Class helps aspiring entrepreneurs and existing business owners to create comprehensive business plans in order to start-up\, expand\, or enhance their businesses. \nDelivered to thousands of entrepreneurs over 20 years at Mountain BizWorks\, Foundations has been honored to help entrepreneurs build a solid strategy for business startup and growth. Our partnership with Birds Eye Business Planning & Adventures ensures that the curriculum is continually refreshed and made even more efficient and effective. \nOur Foundations business planning class helps guide ideas from concept to reality in a participatory\, supportive learning environment. \nIn 18 hours over 6 weekly sessions\, participants will gain a clear aerial perspective of their business operations\, financials\, research and development\, and marketing strategies. They will leave the course with a comprehensive business plan\, a clear vision for their business\, and concrete tasks for future work. \n\nWeek 1: Gaining Perspective:We start by viewing our business concepts from a high altitude\, in order to define our visions and get a good look at the main topics to be addressed.\nWeek 2: Laying the Foundation:Next\, we return to the ground level to define our lines of business and analyze financial essentials\, from overhead costs to break-even points.\nWeek 3: Getting into the Flow:In the third session\, we’ll cover the financial bases of cash flow\, sales forecasting\, and financial documents.\nWeek 4: Mission & Markets:Then\, we’ll revisit our mission\, discuss market research\, and identify competitors in order to align with our target markets.\nWeek 5: Get the Word Out:Next\, we’ll discuss creative marketing strategies and give peer feedback on marketing materials.\nWeek 6: Goodbye & Good Luck:Finally\, we’ll present our business plans\, share final pitches\, and plan for next steps.\n\nThroughout the class\, emphasis will be placed on developing the social capital of the group. Participants will be encouraged to gather feedback from their peers\, creating a strong network of deep support and synergy. \nFacilitator Bio \n \nMadison Webber\, co-owner of J-Bird’s Deli & Ales\, is a native of Shelby. While Madison was in college at UNC Charlotte earning her Master’s degree in counseling\, she began spending a great deal of time exploring the things that city life had to offer. She developed a passion for food and craft beer. While still working as a counselor\, the idea for J-Bird’s Deli & Ales was born in Madison’s living room. She is familiar with the ups and downs that come with opening a business but she believes there is no greater reward than seeing hard work come to fruition in entrepreneurship. Her business has been open for going on 3 years and has recently expanded to offer catering services. Madison is overjoyed to see how her business has grown in the last 3 years and how much she has grown in the process \nCourse Pricing \nThe Foundations course fee is $375; however through the Foothills Launch! initiative with support from USDA Rural Development\, the Isothermal Planning & Development Commission\, and the city of Shelby\, we are able to offer this course for only $75 per participant. To redeem this special reduced price\, please use the scholarship code “FOOTHILLS-LAUNCH” when registering. The total is due upon enrollment to reserve your seat and a payment link will be included in your registration confirmation email. \nScholarship Info \nSee above for the special reduced price details for this course. \nClass Schedule \nThis Foundations class will be held in the city of Shelby\, NC with the venue to be determined. Class will begin on the start date and will meet on the same weekday and time every week for six weeks. Some classes have a built-in bye week for an inclement weather make up class. Attendance for all classes is recommended to not fall behind in any of the material.  Week 1 is required\, but if you have a scheduling conflict where you would miss any other classes\, please let us know.  Additional support may be available for any missed class material.  This is a PM class and will be held 5:30 – 8:30 pm. To inquire about adding your name to a waiting list for FULL classes\, contact Kareen Boncales\,  kareen@mountainbizworks.org (828) 253-2834 ext. 27 \nRegistration \nComplete our online registration form to hold your seat in the class of your choice.  We will follow up with you within a few days. You are welcome to contact us with any follow-up questions or ask about the status of your request. \nContinue to the Foundations Registration Form »\n\nOne-On-One Business Coaching \nDuring or following the course\, One-On-One Business Coaching may be a great way to reinforce and deepen your understanding of the topics you learn in class and relate them to your business concept. To submit an application for coaching Click Here.
URL:https://wpengine.mountainbizworks.org/event/in-shelby-foundations-business-planning-class-w-madison-webber-tuesday-evenings/
LOCATION:Shelby\, 203 S. Washington St.\, Shelby\, NC\, 28150\, United States
CATEGORIES:Class,Foothills Launch,Foundations Business Planning
END:VEVENT
BEGIN:VEVENT
DTSTART;TZID=America/Halifax:20190327T153000
DTEND;TZID=America/Halifax:20190327T163000
DTSTAMP:20260421T155020
CREATED:20190307T224042Z
LAST-MODIFIED:20190320T195142Z
UID:10001968-1553700600-1553704200@wpengine.mountainbizworks.org
SUMMARY:Foothills Launch: Mountain BizWorks Orientation in Boiling Springs
DESCRIPTION:Join us at Kind Coffee in Boiling Springs for an interactive information session to discover what resources are available at Mountain BizWorks Pop-Up Office in Cleveland County that will help you start\, grow\, and thrive in your business. This session will be led by our Business Coaching Manager\, Jill Kichefski and Learning Services Specialist\, Kareen Boncales. This will be a great opportunity to learn more about Mountain BizWorks’ small business lending and learning programs throughout the Isothermal Region. 
URL:https://wpengine.mountainbizworks.org/event/foothills-launch-mountain-bizworks-orientation-in-boiling-springs/
LOCATION:Kind Coffee\, 105 S Main St\, Boiling Springs\, NC\, 28107\, United States
CATEGORIES:Class,Foothills Launch,Orientation Session
ATTACH;FMTTYPE=image/png:https://wpengine.mountainbizworks.org/wp-content/uploads/2019/03/Foothills-Launch-Logo.png
END:VEVENT
BEGIN:VEVENT
DTSTART;TZID=America/Halifax:20190327T130000
DTEND;TZID=America/Halifax:20190327T140000
DTSTAMP:20260421T155020
CREATED:20190307T224426Z
LAST-MODIFIED:20190320T195220Z
UID:10001970-1553691600-1553695200@wpengine.mountainbizworks.org
SUMMARY:Foothills Launch: Mountain BizWorks Orientation in Kings Mountain
DESCRIPTION:Join us at the Mauney Memorial Library in Kings Mountain for an interactive information session to discover what resources are available at Mountain BizWorks Pop-Up Office in Cleveland County that will help you start\, grow\, and thrive in your business. This session will be led by our Business Coaching Manager\, Jill Kichefski and Learning Services Specialist\, Kareen Boncales. This will be a great opportunity to learn more about Mountain BizWorks’ small business lending and learning programs throughout the Isothermal Region. 
URL:https://wpengine.mountainbizworks.org/event/foothills-launch-mountain-bizworks-orientation-in-kings-mountain/
LOCATION:Mauney Memorial Library\, 100 S Piedmont Ave\, Kings Mountain\, NC\, 28086\, United States
CATEGORIES:Class,Foothills Launch,Orientation Session
ATTACH;FMTTYPE=image/png:https://wpengine.mountainbizworks.org/wp-content/uploads/2019/03/Foothills-Launch-Logo.png
END:VEVENT
END:VCALENDAR