BEGIN:VCALENDAR
VERSION:2.0
PRODID:-//Mountain BizWorks - ECPv6.15.20//NONSGML v1.0//EN
CALSCALE:GREGORIAN
METHOD:PUBLISH
X-WR-CALNAME:Mountain BizWorks
X-ORIGINAL-URL:https://wpengine.mountainbizworks.org
X-WR-CALDESC:Events for Mountain BizWorks
REFRESH-INTERVAL;VALUE=DURATION:PT1H
X-Robots-Tag:noindex
X-PUBLISHED-TTL:PT1H
BEGIN:VTIMEZONE
TZID:America/New_York
BEGIN:DAYLIGHT
TZOFFSETFROM:-0500
TZOFFSETTO:-0400
TZNAME:EDT
DTSTART:20210314T070000
END:DAYLIGHT
BEGIN:STANDARD
TZOFFSETFROM:-0400
TZOFFSETTO:-0500
TZNAME:EST
DTSTART:20211107T060000
END:STANDARD
BEGIN:DAYLIGHT
TZOFFSETFROM:-0500
TZOFFSETTO:-0400
TZNAME:EDT
DTSTART:20220313T070000
END:DAYLIGHT
BEGIN:STANDARD
TZOFFSETFROM:-0400
TZOFFSETTO:-0500
TZNAME:EST
DTSTART:20221106T060000
END:STANDARD
BEGIN:DAYLIGHT
TZOFFSETFROM:-0500
TZOFFSETTO:-0400
TZNAME:EDT
DTSTART:20230312T070000
END:DAYLIGHT
BEGIN:STANDARD
TZOFFSETFROM:-0400
TZOFFSETTO:-0500
TZNAME:EST
DTSTART:20231105T060000
END:STANDARD
BEGIN:DAYLIGHT
TZOFFSETFROM:-0500
TZOFFSETTO:-0400
TZNAME:EDT
DTSTART:20240310T070000
END:DAYLIGHT
BEGIN:STANDARD
TZOFFSETFROM:-0400
TZOFFSETTO:-0500
TZNAME:EST
DTSTART:20241103T060000
END:STANDARD
BEGIN:DAYLIGHT
TZOFFSETFROM:-0500
TZOFFSETTO:-0400
TZNAME:EDT
DTSTART:20250309T070000
END:DAYLIGHT
BEGIN:STANDARD
TZOFFSETFROM:-0400
TZOFFSETTO:-0500
TZNAME:EST
DTSTART:20251102T060000
END:STANDARD
BEGIN:DAYLIGHT
TZOFFSETFROM:-0500
TZOFFSETTO:-0400
TZNAME:EDT
DTSTART:20260308T070000
END:DAYLIGHT
BEGIN:STANDARD
TZOFFSETFROM:-0400
TZOFFSETTO:-0500
TZNAME:EST
DTSTART:20261101T060000
END:STANDARD
END:VTIMEZONE
BEGIN:VTIMEZONE
TZID:America/Halifax
BEGIN:DAYLIGHT
TZOFFSETFROM:-0400
TZOFFSETTO:-0300
TZNAME:ADT
DTSTART:20170312T060000
END:DAYLIGHT
BEGIN:STANDARD
TZOFFSETFROM:-0300
TZOFFSETTO:-0400
TZNAME:AST
DTSTART:20171105T050000
END:STANDARD
BEGIN:DAYLIGHT
TZOFFSETFROM:-0400
TZOFFSETTO:-0300
TZNAME:ADT
DTSTART:20180311T060000
END:DAYLIGHT
BEGIN:STANDARD
TZOFFSETFROM:-0300
TZOFFSETTO:-0400
TZNAME:AST
DTSTART:20181104T050000
END:STANDARD
BEGIN:DAYLIGHT
TZOFFSETFROM:-0400
TZOFFSETTO:-0300
TZNAME:ADT
DTSTART:20190310T060000
END:DAYLIGHT
BEGIN:STANDARD
TZOFFSETFROM:-0300
TZOFFSETTO:-0400
TZNAME:AST
DTSTART:20191103T050000
END:STANDARD
BEGIN:DAYLIGHT
TZOFFSETFROM:-0400
TZOFFSETTO:-0300
TZNAME:ADT
DTSTART:20200308T060000
END:DAYLIGHT
BEGIN:STANDARD
TZOFFSETFROM:-0300
TZOFFSETTO:-0400
TZNAME:AST
DTSTART:20201101T050000
END:STANDARD
BEGIN:DAYLIGHT
TZOFFSETFROM:-0400
TZOFFSETTO:-0300
TZNAME:ADT
DTSTART:20210314T060000
END:DAYLIGHT
BEGIN:STANDARD
TZOFFSETFROM:-0300
TZOFFSETTO:-0400
TZNAME:AST
DTSTART:20211107T050000
END:STANDARD
BEGIN:DAYLIGHT
TZOFFSETFROM:-0400
TZOFFSETTO:-0300
TZNAME:ADT
DTSTART:20220313T060000
END:DAYLIGHT
BEGIN:STANDARD
TZOFFSETFROM:-0300
TZOFFSETTO:-0400
TZNAME:AST
DTSTART:20221106T050000
END:STANDARD
BEGIN:DAYLIGHT
TZOFFSETFROM:-0400
TZOFFSETTO:-0300
TZNAME:ADT
DTSTART:20230312T060000
END:DAYLIGHT
BEGIN:STANDARD
TZOFFSETFROM:-0300
TZOFFSETTO:-0400
TZNAME:AST
DTSTART:20231105T050000
END:STANDARD
END:VTIMEZONE
BEGIN:VEVENT
DTSTART;TZID=America/New_York:20251010T120000
DTEND;TZID=America/New_York:20251010T133000
DTSTAMP:20260421T100045
CREATED:20250916T183436Z
LAST-MODIFIED:20250916T183436Z
UID:10002867-1760097600-1760103000@wpengine.mountainbizworks.org
SUMMARY:Own Your Building: Commercial Real Estate Financing
DESCRIPTION:Are you interested in purchasing commercial real estate\, but have questions about financing? Is business going well\, but you feel a down payment is still out of reach? \nWe are hosting a free Lunch and Learn (lunch provided) with guests from Partners in Equity to answer all your questions about purchasing a building\, including down payments and financing options. \nWith Partners in Equity\, Mountain BizWorks is expanding the pathway for local businesses to own their location. \n\n\n\n\n\n\n\n\n\n\n\n\n\n\n\n\n\n\n\n\n\n\n\n\n\n 
URL:https://wpengine.mountainbizworks.org/event/own-your-building-commercial-real-estate-financing/
LOCATION:Mountain BizWorks Asheville Office\, 153 S Lexington Avenue\, Asheville\, NC\, 28801\, United States
CATEGORIES:Event,Expanding Ownership,In-Person,Learn,Legal Workshop,Workshop
GEO:35.590696;-82.552115
X-APPLE-STRUCTURED-LOCATION;VALUE=URI;X-ADDRESS=Mountain BizWorks Asheville Office 153 S Lexington Avenue Asheville NC 28801 United States;X-APPLE-RADIUS=500;X-TITLE=153 S Lexington Avenue:geo:-82.552115,35.590696
END:VEVENT
BEGIN:VEVENT
DTSTART;TZID=America/New_York:20240718T180000
DTEND;TZID=America/New_York:20240718T210000
DTSTAMP:20260421T100045
CREATED:20240620T160425Z
LAST-MODIFIED:20240620T175635Z
UID:10002701-1721325600-1721336400@wpengine.mountainbizworks.org
SUMMARY:Understanding Owner-Occupied Commercial Real Estate: A Guide to Buying Your Building
DESCRIPTION:Do you want to own the building where your business operates? This class aims to provide participants with an introductory understanding of owner-occupied commercial real estate\, empowering you to make informed decisions when considering purchasing a building for your business. By the end of the course\, participants will learn the fundamentals of commercial real estate and enable you to take the first steps toward connecting with the specialists that can help make strategic decisions about purchasing a building.
URL:https://wpengine.mountainbizworks.org/event/understanding-owner-occupied-commercial-real-estate-a-guide-to-buying-your-building-2/
LOCATION:Virtual\, Online — Zoom\, NC
CATEGORIES:Class,Course,Expanding Ownership,Workshop
END:VEVENT
BEGIN:VEVENT
DTSTART;TZID=America/New_York:20231003T173000
DTEND;TZID=America/New_York:20231003T190000
DTSTAMP:20260421T100045
CREATED:20230503T224723Z
LAST-MODIFIED:20230822T172307Z
UID:10002339-1696354200-1696359600@wpengine.mountainbizworks.org
SUMMARY:Cooperatives and Employee Ownership 101 (Asheville)
DESCRIPTION:Mountain BizWorks has partnered with national leaders in the field of worker ownership\, The Industrial Commons. Whether you’re interested in transitioning your business into a cooperative workplace or planning for your succession by selling to the employees\, this interactive workshop is a great place to start. Participants will explore how a sale to employees can improve sustainability\, retention\, and a business’s financial performance. Learn how to conduct a feasibility study and gain insight into employee-owned companies’ power to transform communities and build better businesses.
URL:https://wpengine.mountainbizworks.org/event/cooperatives-and-employee-ownership-101-asheville/
LOCATION:Mountain BizWorks Asheville Office\, 153 S Lexington Avenue\, Asheville\, NC\, 28801\, United States
CATEGORIES:B Local Asheville & WNC,Event,Expanding Ownership,In-Person,Learn,Partner Events,Workshop
GEO:35.590696;-82.552115
X-APPLE-STRUCTURED-LOCATION;VALUE=URI;X-ADDRESS=Mountain BizWorks Asheville Office 153 S Lexington Avenue Asheville NC 28801 United States;X-APPLE-RADIUS=500;X-TITLE=153 S Lexington Avenue:geo:-82.552115,35.590696
END:VEVENT
BEGIN:VEVENT
DTSTART;TZID=America/New_York:20230609T100000
DTEND;TZID=America/New_York:20230609T110000
DTSTAMP:20260421T100045
CREATED:20230427T152034Z
LAST-MODIFIED:20230427T183742Z
UID:10002336-1686304800-1686308400@wpengine.mountainbizworks.org
SUMMARY:Commercial Leasing 101: Empowering Tenants through Lease Negotiation
DESCRIPTION:Join us for this one-hour\, virtual workshop on commercial leasing. Chad Halliday\, attorney at McGuire Wood & Bissette\, will walk participants through a standard commercial lease agreement and demystify the process from both the tenant and landlord’s perspectives.
URL:https://wpengine.mountainbizworks.org/event/commercial-leasing-101-empowering-tenants-through-lease-negotiation/
LOCATION:Virtual\, Online — Zoom\, NC
CATEGORIES:Event,Expanding Ownership,Learn,Legal Workshop,Online,Online Learning,Partner Events,Workshop
END:VEVENT
BEGIN:VEVENT
DTSTART;TZID=America/New_York:20230608T100000
DTEND;TZID=America/New_York:20230608T110000
DTSTAMP:20260421T100045
CREATED:20230421T165048Z
LAST-MODIFIED:20230427T184102Z
UID:10002335-1686218400-1686222000@wpengine.mountainbizworks.org
SUMMARY:Commercial Real Estate 101: From Contracts to Closings
DESCRIPTION:Would you like to own your building? Join us for this one-hour\, virtual workshop on commercial real estate. Learn basic terms\, processes\, red flags\, and pro-tips from Chad Halliday\, attorney at McGuire Wood & Bissette. Participants will walk away with an understanding of commercial real estate transactions from contract to closing. 
URL:https://wpengine.mountainbizworks.org/event/commercial-real-estate-101/
LOCATION:Virtual\, Online — Zoom\, NC
CATEGORIES:Event,Expanding Ownership,Learn,Legal Workshop,Online,Online Learning,Partner Events,Workshop
END:VEVENT
BEGIN:VEVENT
DTSTART;TZID=America/New_York:20230523T090000
DTEND;TZID=America/New_York:20230523T110000
DTSTAMP:20260421T100045
CREATED:20230427T160305Z
LAST-MODIFIED:20230515T185121Z
UID:10002338-1684832400-1684839600@wpengine.mountainbizworks.org
SUMMARY:Commercial Real Estate: Financing for BIPOC Entrepreneurs (Hendersonville)
DESCRIPTION: Attention entrepreneurs of color! Are you interested in purchasing commercial real estate\, but have questions about financing? We’re hosting workshops with guests from Partners in Equity to answer all your questions about purchasing a building\, including down payments and financing options available specifically for BIPOC business owners. 
URL:https://wpengine.mountainbizworks.org/event/commercial-real-estate-financing-for-bipoc-entrepreneurs-hendersonville/
LOCATION:Daddy D’s Suber Soulfood\, 411 7th Ave. East\, Hendersonville\, NC\, 28792\, United States
CATEGORIES:Event,Expanding Ownership,In-Person,Learn,Legal Workshop,Workshop
END:VEVENT
BEGIN:VEVENT
DTSTART;TZID=America/New_York:20230522T170000
DTEND;TZID=America/New_York:20230522T190000
DTSTAMP:20260421T100045
CREATED:20230427T154307Z
LAST-MODIFIED:20230515T185138Z
UID:10002337-1684774800-1684782000@wpengine.mountainbizworks.org
SUMMARY:Commercial Real Estate: Financing for BIPOC Entrepreneurs (Asheville)
DESCRIPTION: Attention entrepreneurs of color! Are you interested in purchasing commercial real estate\, but have questions about financing? We’re hosting workshops with guests from Partners in Equity to answer all your questions about purchasing a building\, including down payments and financing options available specifically for BIPOC business owners.  \n 
URL:https://wpengine.mountainbizworks.org/event/financing-for-bipoc-entrepreneurs-asheville/
LOCATION:Black Wall Street\, 8 River Arts Place\, Asheville\, NC\, 28801\, United States
CATEGORIES:Event,Expanding Ownership,In-Person,Learn,Legal Workshop,Workshop
END:VEVENT
BEGIN:VEVENT
DTSTART;TZID=America/Halifax:20220901T140000
DTEND;TZID=America/Halifax:20220901T160000
DTSTAMP:20260421T100045
CREATED:20220615T191816Z
LAST-MODIFIED:20220725T130502Z
UID:10002005-1662040800-1662048000@wpengine.mountainbizworks.org
SUMMARY:Invested Course: An Investment Crowdfunding Learning Journey
DESCRIPTION:The State of North Carolina recently passed legislation (NC PACES) making it possible to take on non-accredited investors for your small business. This allows you to raise funds from your friends\, family\, and broader community and to offer them a stake in – and a return on – the success that they are helping you to build. \nInvested: An Investment Crowdfunding Learning Journey will assist a small cohort of interested business owners who are currently experiencing growth opportunities in preparing for\, designing\, and launching an investment crowdfunding campaign. The full course will entail five 2.5-hour sessions starting Thursday\, September 1st and running through October 6th. \nThe 9th Cohort of our Invested Course is coming up! The 5-session VIRTUAL COURSE will take place on the following dates: \n\nSeptember 01 – Session 1: 2-4pm\nSeptember 08 – Session 2: 2-4pm\nSeptember 15 – Session 3: 2-4pm\nSeptember 22 – Session 4: 2-4pm\nOctober 06 – Session 5: 2-4pm\n\nIn between classes\, the Invested program includes several one on one technical sessions with facilitators. Following the course\, those that decide to execute investment crowdfunding campaigns will move into launch with the assistance of our BizWorks team and specialist partners.  \nRegister for the course. The fee is $100 and $25 for additional participants from the same company. We also have an interest list for potential investors (those of us that may want to participate in a local crowdfunding campaign and attend one of the Invested course pitch events) that you can sign up for here. \nA big thanks to our partners Jake Farrar (Van Winkle Law Firm)\, Annie Milroy Price (Birds Eye)\, and Jeffrey Scott (Metamorphic) who have assisted in developing and delivering this course.
URL:https://wpengine.mountainbizworks.org/event/invested-course-an-investment-crowdfunding-learning-journey-4/
LOCATION:Virtual\, Online — Zoom\, NC
CATEGORIES:Class,Crowdfunding,Event,Expanding Ownership,Growth Initiative,Invested,Online
END:VEVENT
BEGIN:VEVENT
DTSTART;TZID=America/Halifax:20220526T140000
DTEND;TZID=America/Halifax:20220526T160000
DTSTAMP:20260421T100045
CREATED:20220315T015741Z
LAST-MODIFIED:20220422T180937Z
UID:10002260-1653573600-1653580800@wpengine.mountainbizworks.org
SUMMARY:Invested Course: An Investment Crowdfunding Learning Journey
DESCRIPTION:The State of North Carolina recently passed legislation (NC PACES) making it possible to take on non-accredited investors for your small business. This allows you to raise funds from your friends\, family\, and broader community and to offer them a stake in – and a return on – the success that they are helping you to build. \nInvested: An Investment Crowdfunding Learning Journey will assist a small cohort of interested business owners who are currently experiencing growth opportunities in preparing for\, designing\, and launching an investment crowdfunding campaign. The full course will entail five 2.5-hour sessions starting Thursday\, May 26th and running through June 23rd. \nThe 8th Cohort of our Invested Course is coming up! The 5-session VIRTUAL COURSE will take place on the following dates:\n\nMay 26 – Session 1: 2-4pm\nJune 02 – Session 2: 2-4pm\nJune 09 – Session 3: 2-4pm\nJune 16 – Session 4: 2-4pm\nJune 23 – Session 5: 2-4pm\n\nIn between classes\, the Invested program includes several one on one technical sessions with facilitators. Following the course\, those that decide to execute investment crowdfunding campaigns will move into launch with the assistance of our BizWorks team and specialist partners.  \nAdd your name to the Cohort 8 Interest Form\, and we will follow up with a brief consultation and informative call on specifications for the course. The course fee is $100 and $25 for additional participants from the same company. We also have an interest list for potential investors (those of us that may want to participate in a local crowdfunding campaign and attend one of the Invested course pitch events) that you can sign up for here. \nA big thanks to our partners Jake Farrar (Van Winkle Law Firm)\, Annie Milroy Price (Birds Eye)\, and Jeffrey Scott (Metamorphic) who have assisted in developing and delivering this course.
URL:https://wpengine.mountainbizworks.org/event/invested-course-an-investment-crowdfunding-learning-journey-3/
LOCATION:Virtual\, Online — Zoom\, NC
CATEGORIES:Class,Crowdfunding,Event,Expanding Ownership,Growth Initiative,Invested,Online
END:VEVENT
BEGIN:VEVENT
DTSTART;TZID=America/New_York:20220408T190000
DTEND;TZID=America/New_York:20220408T220000
DTSTAMP:20260421T100045
CREATED:20220228T204938Z
LAST-MODIFIED:20220228T205108Z
UID:10002253-1649444400-1649455200@wpengine.mountainbizworks.org
SUMMARY:WNC Black Business Expo
DESCRIPTION:The WNC Minority Business Association is having its inaugural WNC Black Business Expo – a networking and learning event focusing on minority-owned businesses and entrepreneurs. Scheduled for April 8-10\, at the Crowne Plaza Hotel & Resort in Asheville\, NC. The three-day event is expected to attract upwards of 1\,000 attendees from across the region\, with an overarching theme of “Inspiring and Motivating the Next Generation of Entrepreneurs.” The event will feature visionary guest speakers\, educational workshops\, panel discussions\, networking sessions\, a trade show\, and food and entertainment. A high-profile keynote speaker is expected to be announced before the event.
URL:https://wpengine.mountainbizworks.org/event/wnc-black-business-expo/
LOCATION:Crowne Plaza Hotels & Resorts Asheville\, 1 Resort Drive\, Asheville\, NC\, 28806\, United States
CATEGORIES:Conference,Event,Expanding Ownership,Growth Initiative,Opportunity Asheville & WNC,Partner Events
END:VEVENT
BEGIN:VEVENT
DTSTART;TZID=America/Halifax:20190912T173000
DTEND;TZID=America/Halifax:20190912T193000
DTSTAMP:20260421T100045
CREATED:20190814T203513Z
LAST-MODIFIED:20190819T141344Z
UID:10001783-1568309400-1568316600@wpengine.mountainbizworks.org
SUMMARY:Cooperatives 102 Workshop - Asheville
DESCRIPTION:Join Molly Hemstreet of The Industrial Commons as she leads an exploration into the variety of ways businesses can democratize ownership. Whether you’re interested in starting a cooperative business\, joining a coop\, or transitioning your business into a cooperative workplace\, this is a great place to start. Gain an understanding of the power that cooperatives have to transform communities and build better businesses. \n$12/ person \nPlease RSVP below
URL:https://wpengine.mountainbizworks.org/event/cooperatives-102-workshop-asheville/
LOCATION:Mountain BizWorks Asheville Office\, 153 S Lexington Avenue\, Asheville\, NC\, 28801\, United States
CATEGORIES:Class,Expanding Ownership,Mountain BizWorks Event
GEO:35.590696;-82.552115
X-APPLE-STRUCTURED-LOCATION;VALUE=URI;X-ADDRESS=Mountain BizWorks Asheville Office 153 S Lexington Avenue Asheville NC 28801 United States;X-APPLE-RADIUS=500;X-TITLE=153 S Lexington Avenue:geo:-82.552115,35.590696
END:VEVENT
BEGIN:VEVENT
DTSTART;TZID=America/Halifax:20190326T170000
DTEND;TZID=America/Halifax:20190326T200000
DTSTAMP:20260421T100045
CREATED:20190222T160825Z
LAST-MODIFIED:20190223T193731Z
UID:10001961-1553619600-1553630400@wpengine.mountainbizworks.org
SUMMARY:Cooperatives 101 Workshop - Asheville
DESCRIPTION:Join Molly Hemstreet and Aaron Dawson of The Industrial Commons as they lead an exploration into the variety of ways businesses can democratize ownership. Whether you’re interested in starting a cooperative business\, joining a coop\, or transitioning your business into a cooperative workplace\, this is a great place to start. Gain an understanding of the power that cooperatives have to transform communities and build better businesses. \n$12/ person \nPlease RSVP below
URL:https://wpengine.mountainbizworks.org/event/cooperatives-101-workshop-asheville/
LOCATION:Mountain BizWorks Asheville Office\, 153 S Lexington Avenue\, Asheville\, NC\, 28801\, United States
CATEGORIES:Class,Expanding Ownership
GEO:35.590696;-82.552115
X-APPLE-STRUCTURED-LOCATION;VALUE=URI;X-ADDRESS=Mountain BizWorks Asheville Office 153 S Lexington Avenue Asheville NC 28801 United States;X-APPLE-RADIUS=500;X-TITLE=153 S Lexington Avenue:geo:-82.552115,35.590696
END:VEVENT
BEGIN:VEVENT
DTSTART;TZID=America/Halifax:20180724T173000
DTEND;TZID=America/Halifax:20180724T193000
DTSTAMP:20260421T100045
CREATED:20180618T135355Z
LAST-MODIFIED:20180618T142825Z
UID:10001865-1532453400-1532460600@wpengine.mountainbizworks.org
SUMMARY:Employee-Owned Enterprise 201 with Molly Hemstreet\, Hilary Abell\, & Franzi Charen
DESCRIPTION:The Industrial Commons & Mountain BizWorks would like to welcome you to join us for:\nPresenters: \n\n\n\n\nMolly Hemstreet from The Industrial Commons and Opportunity Threads\n\n\n\n\n\n\nHilary Abell from Project Equity\n\n\n\n\n\n\nFranzi Charen from The Industrial Commons and Asheville Grown Business Alliance\n\n\n\n\n\n\n \n\n\n\n\n\n\nJoin us for a 2-hour session focused on the process of converting a business to an employee or worker-owned enterprise covering these topics:\n\n\n\n\n\n\n\n\n\n\n\n\n\nBurning questions\n\nWe will conduct a brief review of our first session and answer any questions you have and connect you to the resources and case studies that can address your questions\, concerns\, and ideas.\n\n\n\n\n\n\n\n\n\n\n\n\nCase studies\nFeasibility\n\nWe will discuss where to obtain a feasibility study for business owners interested in converting and go over tools that can help you understand this process.\n\n\nTimeline and next steps\n\n\n\n\n\n\n\n\nTogether we’ll explore the roadmap to conversion and outline a plan for moving forward with each business owner that feels eager to pursue this with their employees.\n\n\n\n\n\n\n\n\n\n\n\nPrior to the gathering\, we will ask participants to brainstorm and bring a list of questions you have about the overall process\, technical questions and procedural inquiries in addition to questions that relate specifically to your business or field of interest. \n\n\n\n\n\n\n \n\n\n\n\n\n\nPlease register by July 20\, 2018 to secure your space.
URL:https://wpengine.mountainbizworks.org/event/employee-owned-enterprise-201-530pm-730pm-with-molly-hemstreet-hilary-abell-franzi-charen/
LOCATION:Mountain BizWorks Asheville Office\, 153 S Lexington Avenue\, Asheville\, NC\, 28801\, United States
CATEGORIES:Class,Expanding Ownership
GEO:35.590696;-82.552115
X-APPLE-STRUCTURED-LOCATION;VALUE=URI;X-ADDRESS=Mountain BizWorks Asheville Office 153 S Lexington Avenue Asheville NC 28801 United States;X-APPLE-RADIUS=500;X-TITLE=153 S Lexington Avenue:geo:-82.552115,35.590696
END:VEVENT
BEGIN:VEVENT
DTSTART;TZID=America/Halifax:20180221T173000
DTEND;TZID=America/Halifax:20180221T193000
DTSTAMP:20260421T100045
CREATED:20171128T173239Z
LAST-MODIFIED:20180221T224356Z
UID:10001779-1519234200-1519241400@wpengine.mountainbizworks.org
SUMMARY:Employee Ownership 101
DESCRIPTION:Wednesday Feb. 21\, 2018\n5:30pm – 7:30pm\nAdmission: $10\n \n \nJoin The Industrial Commons co-directors’ Molly Hemstreet and Franzi Charen as they lead an exploration into the variety of ways businesses can democratize ownership. Whether you’re interested in transitioning your business into a cooperative workplace or planning for your succession by selling to the employees\, this lab is a great place to start. Gain an understanding of the power that employee-owned companies have to transform communities and build better businesses.\n \n \n      \n \n \n \n \n \n \n \n 
URL:https://wpengine.mountainbizworks.org/event/employee-ownership-101/
LOCATION:Mountain BizWorks Asheville Office\, 153 S Lexington Avenue\, Asheville\, NC\, 28801\, United States
CATEGORIES:Class,Expanding Ownership,Partner Events
ORGANIZER;CN="Ascent Business Network":MAILTO:info@ascentbusinessnetwork.com
GEO:35.590696;-82.552115
X-APPLE-STRUCTURED-LOCATION;VALUE=URI;X-ADDRESS=Mountain BizWorks Asheville Office 153 S Lexington Avenue Asheville NC 28801 United States;X-APPLE-RADIUS=500;X-TITLE=153 S Lexington Avenue:geo:-82.552115,35.590696
END:VEVENT
END:VCALENDAR