BEGIN:VCALENDAR
VERSION:2.0
PRODID:-//Mountain BizWorks - ECPv6.15.20//NONSGML v1.0//EN
CALSCALE:GREGORIAN
METHOD:PUBLISH
X-WR-CALNAME:Mountain BizWorks
X-ORIGINAL-URL:https://wpengine.mountainbizworks.org
X-WR-CALDESC:Events for Mountain BizWorks
REFRESH-INTERVAL;VALUE=DURATION:PT1H
X-Robots-Tag:noindex
X-PUBLISHED-TTL:PT1H
BEGIN:VTIMEZONE
TZID:America/New_York
BEGIN:DAYLIGHT
TZOFFSETFROM:-0500
TZOFFSETTO:-0400
TZNAME:EDT
DTSTART:20250309T070000
END:DAYLIGHT
BEGIN:STANDARD
TZOFFSETFROM:-0400
TZOFFSETTO:-0500
TZNAME:EST
DTSTART:20251102T060000
END:STANDARD
BEGIN:DAYLIGHT
TZOFFSETFROM:-0500
TZOFFSETTO:-0400
TZNAME:EDT
DTSTART:20260308T070000
END:DAYLIGHT
BEGIN:STANDARD
TZOFFSETFROM:-0400
TZOFFSETTO:-0500
TZNAME:EST
DTSTART:20261101T060000
END:STANDARD
BEGIN:DAYLIGHT
TZOFFSETFROM:-0500
TZOFFSETTO:-0400
TZNAME:EDT
DTSTART:20270314T070000
END:DAYLIGHT
BEGIN:STANDARD
TZOFFSETFROM:-0400
TZOFFSETTO:-0500
TZNAME:EST
DTSTART:20271107T060000
END:STANDARD
END:VTIMEZONE
BEGIN:VEVENT
DTSTART;TZID=America/New_York:20260422T090000
DTEND;TZID=America/New_York:20260422T100000
DTSTAMP:20260421T004735
CREATED:20231207T145656Z
LAST-MODIFIED:20231207T145656Z
UID:10002504-1776848400-1776852000@wpengine.mountainbizworks.org
SUMMARY:1 Million Cups AVL
DESCRIPTION:1 Million Cups is a Kaufman Foundation initiative intended to bring founders together so they can uplift one another\, learn from each other\, and solve problems together. 1 Million Cups AVL is our local chapter\, and Hatch Innovation Hub is its home. It offers an inclusive space for entrepreneurs to connect\, work through challenges\, and help each other grow. \nEvery Wednesday from 9am – 10am\, community members gather in Hatch’s event space for a 6-minute business presentation from a local founder followed by 20 minutes of Q&A. \nWe recommend 1 Million Cups to everyone\, especially those who are new to WNC’s entrepreneurial community.
URL:https://wpengine.mountainbizworks.org/event/1-million-cups-avl/2026-04-22/
LOCATION:Hatch Innovation Hub\, 45 S French Broad Avenue\, Asheville\, 28801\, United States
CATEGORIES:In-Person,Partner Events
END:VEVENT
BEGIN:VEVENT
DTSTART;TZID=America/New_York:20260429T090000
DTEND;TZID=America/New_York:20260429T100000
DTSTAMP:20260421T004735
CREATED:20231207T145656Z
LAST-MODIFIED:20231207T145656Z
UID:10002505-1777453200-1777456800@wpengine.mountainbizworks.org
SUMMARY:1 Million Cups AVL
DESCRIPTION:1 Million Cups is a Kaufman Foundation initiative intended to bring founders together so they can uplift one another\, learn from each other\, and solve problems together. 1 Million Cups AVL is our local chapter\, and Hatch Innovation Hub is its home. It offers an inclusive space for entrepreneurs to connect\, work through challenges\, and help each other grow. \nEvery Wednesday from 9am – 10am\, community members gather in Hatch’s event space for a 6-minute business presentation from a local founder followed by 20 minutes of Q&A. \nWe recommend 1 Million Cups to everyone\, especially those who are new to WNC’s entrepreneurial community.
URL:https://wpengine.mountainbizworks.org/event/1-million-cups-avl/2026-04-29/
LOCATION:Hatch Innovation Hub\, 45 S French Broad Avenue\, Asheville\, 28801\, United States
CATEGORIES:In-Person,Partner Events
END:VEVENT
END:VCALENDAR