BEGIN:VCALENDAR
VERSION:2.0
PRODID:-//Mountain BizWorks - ECPv6.15.20//NONSGML v1.0//EN
CALSCALE:GREGORIAN
METHOD:PUBLISH
X-WR-CALNAME:Mountain BizWorks
X-ORIGINAL-URL:https://wpengine.mountainbizworks.org
X-WR-CALDESC:Events for Mountain BizWorks
REFRESH-INTERVAL;VALUE=DURATION:PT1H
X-Robots-Tag:noindex
X-PUBLISHED-TTL:PT1H
BEGIN:VTIMEZONE
TZID:America/New_York
BEGIN:DAYLIGHT
TZOFFSETFROM:-0500
TZOFFSETTO:-0400
TZNAME:EDT
DTSTART:20190310T070000
END:DAYLIGHT
BEGIN:STANDARD
TZOFFSETFROM:-0400
TZOFFSETTO:-0500
TZNAME:EST
DTSTART:20191103T060000
END:STANDARD
BEGIN:DAYLIGHT
TZOFFSETFROM:-0500
TZOFFSETTO:-0400
TZNAME:EDT
DTSTART:20200308T070000
END:DAYLIGHT
BEGIN:STANDARD
TZOFFSETFROM:-0400
TZOFFSETTO:-0500
TZNAME:EST
DTSTART:20201101T060000
END:STANDARD
BEGIN:DAYLIGHT
TZOFFSETFROM:-0500
TZOFFSETTO:-0400
TZNAME:EDT
DTSTART:20210314T070000
END:DAYLIGHT
BEGIN:STANDARD
TZOFFSETFROM:-0400
TZOFFSETTO:-0500
TZNAME:EST
DTSTART:20211107T060000
END:STANDARD
BEGIN:DAYLIGHT
TZOFFSETFROM:-0500
TZOFFSETTO:-0400
TZNAME:EDT
DTSTART:20220313T070000
END:DAYLIGHT
BEGIN:STANDARD
TZOFFSETFROM:-0400
TZOFFSETTO:-0500
TZNAME:EST
DTSTART:20221106T060000
END:STANDARD
BEGIN:DAYLIGHT
TZOFFSETFROM:-0500
TZOFFSETTO:-0400
TZNAME:EDT
DTSTART:20230312T070000
END:DAYLIGHT
BEGIN:STANDARD
TZOFFSETFROM:-0400
TZOFFSETTO:-0500
TZNAME:EST
DTSTART:20231105T060000
END:STANDARD
BEGIN:DAYLIGHT
TZOFFSETFROM:-0500
TZOFFSETTO:-0400
TZNAME:EDT
DTSTART:20240310T070000
END:DAYLIGHT
BEGIN:STANDARD
TZOFFSETFROM:-0400
TZOFFSETTO:-0500
TZNAME:EST
DTSTART:20241103T060000
END:STANDARD
BEGIN:DAYLIGHT
TZOFFSETFROM:-0500
TZOFFSETTO:-0400
TZNAME:EDT
DTSTART:20250309T070000
END:DAYLIGHT
BEGIN:STANDARD
TZOFFSETFROM:-0400
TZOFFSETTO:-0500
TZNAME:EST
DTSTART:20251102T060000
END:STANDARD
BEGIN:DAYLIGHT
TZOFFSETFROM:-0500
TZOFFSETTO:-0400
TZNAME:EDT
DTSTART:20260308T070000
END:DAYLIGHT
BEGIN:STANDARD
TZOFFSETFROM:-0400
TZOFFSETTO:-0500
TZNAME:EST
DTSTART:20261101T060000
END:STANDARD
END:VTIMEZONE
BEGIN:VTIMEZONE
TZID:America/Halifax
BEGIN:DAYLIGHT
TZOFFSETFROM:-0400
TZOFFSETTO:-0300
TZNAME:ADT
DTSTART:20190310T060000
END:DAYLIGHT
BEGIN:STANDARD
TZOFFSETFROM:-0300
TZOFFSETTO:-0400
TZNAME:AST
DTSTART:20191103T050000
END:STANDARD
BEGIN:DAYLIGHT
TZOFFSETFROM:-0400
TZOFFSETTO:-0300
TZNAME:ADT
DTSTART:20200308T060000
END:DAYLIGHT
BEGIN:STANDARD
TZOFFSETFROM:-0300
TZOFFSETTO:-0400
TZNAME:AST
DTSTART:20201101T050000
END:STANDARD
BEGIN:DAYLIGHT
TZOFFSETFROM:-0400
TZOFFSETTO:-0300
TZNAME:ADT
DTSTART:20210314T060000
END:DAYLIGHT
BEGIN:STANDARD
TZOFFSETFROM:-0300
TZOFFSETTO:-0400
TZNAME:AST
DTSTART:20211107T050000
END:STANDARD
BEGIN:DAYLIGHT
TZOFFSETFROM:-0400
TZOFFSETTO:-0300
TZNAME:ADT
DTSTART:20220313T060000
END:DAYLIGHT
BEGIN:STANDARD
TZOFFSETFROM:-0300
TZOFFSETTO:-0400
TZNAME:AST
DTSTART:20221106T050000
END:STANDARD
BEGIN:DAYLIGHT
TZOFFSETFROM:-0400
TZOFFSETTO:-0300
TZNAME:ADT
DTSTART:20230312T060000
END:DAYLIGHT
BEGIN:STANDARD
TZOFFSETFROM:-0300
TZOFFSETTO:-0400
TZNAME:AST
DTSTART:20231105T050000
END:STANDARD
BEGIN:DAYLIGHT
TZOFFSETFROM:-0400
TZOFFSETTO:-0300
TZNAME:ADT
DTSTART:20240310T060000
END:DAYLIGHT
BEGIN:STANDARD
TZOFFSETFROM:-0300
TZOFFSETTO:-0400
TZNAME:AST
DTSTART:20241103T050000
END:STANDARD
END:VTIMEZONE
BEGIN:VEVENT
DTSTART;VALUE=DATE:20250915
DTEND;VALUE=DATE:20250919
DTSTAMP:20260425T110251
CREATED:20231213T201925Z
LAST-MODIFIED:20250218T163413Z
UID:10002645-1757894400-1758239999@wpengine.mountainbizworks.org
SUMMARY:Outdoor Economy Conference
DESCRIPTION:Outdoor Economy Conference returns to Cherokee\, NC this September 15-18. The 2024 event was postponed due to the impacts of Hurricane Helene\, so the theme of this year’s event will feature nationwide expertise on “Investing in the Outdoor Recreation Ecosystem”. Early Bird tickets are now available at outdooreconomy.org.
URL:https://wpengine.mountainbizworks.org/event/outdoor-economy-conference-2/
LOCATION:Harrah’s Cherokee Conference Center\, 777 Casino Dr.\, Cherokee\, 28719
CATEGORIES:Class,Learn,Outdoor Economy,Outdoors
END:VEVENT
BEGIN:VEVENT
DTSTART;VALUE=DATE:20230918
DTEND;VALUE=DATE:20230922
DTSTAMP:20260425T110251
CREATED:20221213T222117Z
LAST-MODIFIED:20221213T222419Z
UID:10002315-1694995200-1695340799@wpengine.mountainbizworks.org
SUMMARY:2023 Outdoor Economy Conference
DESCRIPTION:Save the Date! \nThe 5th Annual Outdoor Economy Conference is September 18-21\, 2023 in Cherokee\, NC.  \nTickets are on sale in spring 2023. Click here for more information.
URL:https://wpengine.mountainbizworks.org/event/2023-outdoor-economy-conference/
LOCATION:Harrah’s Cherokee Conference Center\, 777 Casino Dr.\, Cherokee\, 28719
CATEGORIES:Class,Outdoor Economy,Outdoors,Partner Events
ATTACH;FMTTYPE=image/png:https://wpengine.mountainbizworks.org/wp-content/uploads/2022/12/save-the-date-outdoor-economy-conference.png
END:VEVENT
BEGIN:VEVENT
DTSTART;TZID=America/New_York:20220408T190000
DTEND;TZID=America/New_York:20220408T220000
DTSTAMP:20260425T110251
CREATED:20220228T204938Z
LAST-MODIFIED:20220228T205108Z
UID:10002253-1649444400-1649455200@wpengine.mountainbizworks.org
SUMMARY:WNC Black Business Expo
DESCRIPTION:The WNC Minority Business Association is having its inaugural WNC Black Business Expo – a networking and learning event focusing on minority-owned businesses and entrepreneurs. Scheduled for April 8-10\, at the Crowne Plaza Hotel & Resort in Asheville\, NC. The three-day event is expected to attract upwards of 1\,000 attendees from across the region\, with an overarching theme of “Inspiring and Motivating the Next Generation of Entrepreneurs.” The event will feature visionary guest speakers\, educational workshops\, panel discussions\, networking sessions\, a trade show\, and food and entertainment. A high-profile keynote speaker is expected to be announced before the event.
URL:https://wpengine.mountainbizworks.org/event/wnc-black-business-expo/
LOCATION:Crowne Plaza Hotels & Resorts Asheville\, 1 Resort Drive\, Asheville\, NC\, 28806\, United States
CATEGORIES:Conference,Event,Expanding Ownership,Growth Initiative,Opportunity Asheville & WNC,Partner Events
END:VEVENT
BEGIN:VEVENT
DTSTART;TZID=America/New_York:20210916T120000
DTEND;TZID=America/New_York:20210916T130000
DTSTAMP:20260425T110251
CREATED:20210902T144907Z
LAST-MODIFIED:20210902T144907Z
UID:10002222-1631793600-1631797200@wpengine.mountainbizworks.org
SUMMARY:Waypoint Accelerator Information Session
DESCRIPTION:  \nInterested in learning about the Waypoint Accelerator and possibly applying? If so\, we invite you to join us and other area entrepreneurs at our virtual informational session where we’ll: \n\nprovide details on the program and how to prepare a strong application\nhave an opportunity to hear everyone’s exciting new opportunities\nnetwork with industry peers\n\nAttending this info session is not required to apply but we do encourage it so you’ll have a fuller understanding of the program.
URL:https://wpengine.mountainbizworks.org/event/waypoint-accelerator-virtual-info-session-cohort-3/
LOCATION:Virtual\, Online — Zoom\, NC
CATEGORIES:Class,Outdoor Economy,Waypoint Acclerator
ATTACH;FMTTYPE=image/jpeg:https://wpengine.mountainbizworks.org/wp-content/uploads/2021/08/WP-Post-Header.jpg
END:VEVENT
BEGIN:VEVENT
DTSTART;TZID=America/Halifax:20201029T120000
DTEND;TZID=America/Halifax:20201029T160000
DTSTAMP:20260425T110251
CREATED:20200107T171408Z
LAST-MODIFIED:20200914T160400Z
UID:10001816-1603972800-1603987200@wpengine.mountainbizworks.org
SUMMARY:2020 Outdoor Economy Conference
DESCRIPTION:The Outdoor Economy Conference connects\, educates\, and inspires leaders and doers working to grow the outdoor industry and craft an economy that’s intimately tied to the well-being of their places and communities. \nIn its third year\, the conference will be held online as a series of workshops from 12-4 EST every Thursday in October. \nWith the outdoors more essential than ever\, this year’s conference will bring together outdoor leaders from around the country to advance 5 timely topics and ensure a better future for the outdoor economy\, and for the people and places that it serves. \n10/1: Healthy Communities Through Recreation\n10/8: Growth Through Diversity\, Equity\, and Inclusion\n10/15: Outdoor Innovation + Entrepreneurship\n10/22: Next Generation Outdoors\n10/29: Building Outdoor Communities \nJoin hundreds of your peers to take action together and grow an outdoor economy that works for all! \nFind more details and get your tickets now at outdooreconomy.org.
URL:https://wpengine.mountainbizworks.org/event/save-the-date-2020-outdoor-economy-conference/2020-10-29/
LOCATION:Online
CATEGORIES:Class,Outdoor Economy,Partner Events
END:VEVENT
BEGIN:VEVENT
DTSTART;TZID=America/New_York:20201023T130000
DTEND;TZID=America/New_York:20201023T140000
DTSTAMP:20260425T110251
CREATED:20201015T134529Z
LAST-MODIFIED:20201015T151231Z
UID:10001877-1603458000-1603461600@wpengine.mountainbizworks.org
SUMMARY:Waypoint Accelerator Virtual Info Session
DESCRIPTION:Interested in learning about the Waypoint Accelerator and possibly applying? If so\, we invite you to join us and other area entrepreneurs at our virtual informational session where we’ll a) provide details on the program and how to prepare a strong application\, b) have an opportunity to hear everyone’s exciting new opportunities\, and c) network with industry peers. Attending this info session is not required to apply but we do encourage it so you’ll have a fuller understanding of the program. \nRegister for this free event here.
URL:https://wpengine.mountainbizworks.org/event/waypoint-accelerator-virtual-info-session/
LOCATION:153 South Lexington Ave\, Asheville\, NC\, 28801\, United States
CATEGORIES:Class,Outdoor Economy,Waypoint Acclerator
END:VEVENT
BEGIN:VEVENT
DTSTART;TZID=America/Halifax:20201022T120000
DTEND;TZID=America/Halifax:20201022T160000
DTSTAMP:20260425T110251
CREATED:20200107T171408Z
LAST-MODIFIED:20200914T160400Z
UID:10001815-1603368000-1603382400@wpengine.mountainbizworks.org
SUMMARY:2020 Outdoor Economy Conference
DESCRIPTION:The Outdoor Economy Conference connects\, educates\, and inspires leaders and doers working to grow the outdoor industry and craft an economy that’s intimately tied to the well-being of their places and communities. \nIn its third year\, the conference will be held online as a series of workshops from 12-4 EST every Thursday in October. \nWith the outdoors more essential than ever\, this year’s conference will bring together outdoor leaders from around the country to advance 5 timely topics and ensure a better future for the outdoor economy\, and for the people and places that it serves. \n10/1: Healthy Communities Through Recreation\n10/8: Growth Through Diversity\, Equity\, and Inclusion\n10/15: Outdoor Innovation + Entrepreneurship\n10/22: Next Generation Outdoors\n10/29: Building Outdoor Communities \nJoin hundreds of your peers to take action together and grow an outdoor economy that works for all! \nFind more details and get your tickets now at outdooreconomy.org.
URL:https://wpengine.mountainbizworks.org/event/save-the-date-2020-outdoor-economy-conference/2020-10-22/
LOCATION:Online
CATEGORIES:Class,Outdoor Economy,Partner Events
END:VEVENT
BEGIN:VEVENT
DTSTART;TZID=America/Halifax:20201015T120000
DTEND;TZID=America/Halifax:20201015T160000
DTSTAMP:20260425T110251
CREATED:20200107T171408Z
LAST-MODIFIED:20200914T160400Z
UID:10001814-1602763200-1602777600@wpengine.mountainbizworks.org
SUMMARY:2020 Outdoor Economy Conference
DESCRIPTION:The Outdoor Economy Conference connects\, educates\, and inspires leaders and doers working to grow the outdoor industry and craft an economy that’s intimately tied to the well-being of their places and communities. \nIn its third year\, the conference will be held online as a series of workshops from 12-4 EST every Thursday in October. \nWith the outdoors more essential than ever\, this year’s conference will bring together outdoor leaders from around the country to advance 5 timely topics and ensure a better future for the outdoor economy\, and for the people and places that it serves. \n10/1: Healthy Communities Through Recreation\n10/8: Growth Through Diversity\, Equity\, and Inclusion\n10/15: Outdoor Innovation + Entrepreneurship\n10/22: Next Generation Outdoors\n10/29: Building Outdoor Communities \nJoin hundreds of your peers to take action together and grow an outdoor economy that works for all! \nFind more details and get your tickets now at outdooreconomy.org.
URL:https://wpengine.mountainbizworks.org/event/save-the-date-2020-outdoor-economy-conference/2020-10-15/
LOCATION:Online
CATEGORIES:Class,Outdoor Economy,Partner Events
END:VEVENT
BEGIN:VEVENT
DTSTART;TZID=America/Halifax:20201008T120000
DTEND;TZID=America/Halifax:20201008T160000
DTSTAMP:20260425T110251
CREATED:20200107T171408Z
LAST-MODIFIED:20200914T160400Z
UID:10001813-1602158400-1602172800@wpengine.mountainbizworks.org
SUMMARY:2020 Outdoor Economy Conference
DESCRIPTION:The Outdoor Economy Conference connects\, educates\, and inspires leaders and doers working to grow the outdoor industry and craft an economy that’s intimately tied to the well-being of their places and communities. \nIn its third year\, the conference will be held online as a series of workshops from 12-4 EST every Thursday in October. \nWith the outdoors more essential than ever\, this year’s conference will bring together outdoor leaders from around the country to advance 5 timely topics and ensure a better future for the outdoor economy\, and for the people and places that it serves. \n10/1: Healthy Communities Through Recreation\n10/8: Growth Through Diversity\, Equity\, and Inclusion\n10/15: Outdoor Innovation + Entrepreneurship\n10/22: Next Generation Outdoors\n10/29: Building Outdoor Communities \nJoin hundreds of your peers to take action together and grow an outdoor economy that works for all! \nFind more details and get your tickets now at outdooreconomy.org.
URL:https://wpengine.mountainbizworks.org/event/save-the-date-2020-outdoor-economy-conference/2020-10-08/
LOCATION:Online
CATEGORIES:Class,Outdoor Economy,Partner Events
END:VEVENT
BEGIN:VEVENT
DTSTART;TZID=America/Halifax:20201001T120000
DTEND;TZID=America/Halifax:20201001T160000
DTSTAMP:20260425T110251
CREATED:20200107T171408Z
LAST-MODIFIED:20200914T160400Z
UID:10001812-1601553600-1601568000@wpengine.mountainbizworks.org
SUMMARY:2020 Outdoor Economy Conference
DESCRIPTION:The Outdoor Economy Conference connects\, educates\, and inspires leaders and doers working to grow the outdoor industry and craft an economy that’s intimately tied to the well-being of their places and communities. \nIn its third year\, the conference will be held online as a series of workshops from 12-4 EST every Thursday in October. \nWith the outdoors more essential than ever\, this year’s conference will bring together outdoor leaders from around the country to advance 5 timely topics and ensure a better future for the outdoor economy\, and for the people and places that it serves. \n10/1: Healthy Communities Through Recreation\n10/8: Growth Through Diversity\, Equity\, and Inclusion\n10/15: Outdoor Innovation + Entrepreneurship\n10/22: Next Generation Outdoors\n10/29: Building Outdoor Communities \nJoin hundreds of your peers to take action together and grow an outdoor economy that works for all! \nFind more details and get your tickets now at outdooreconomy.org.
URL:https://wpengine.mountainbizworks.org/event/save-the-date-2020-outdoor-economy-conference/2020-10-01/
LOCATION:Online
CATEGORIES:Class,Outdoor Economy,Partner Events
END:VEVENT
END:VCALENDAR