BEGIN:VCALENDAR
VERSION:2.0
PRODID:-//Mountain BizWorks - ECPv6.15.20//NONSGML v1.0//EN
CALSCALE:GREGORIAN
METHOD:PUBLISH
X-WR-CALNAME:Mountain BizWorks
X-ORIGINAL-URL:https://wpengine.mountainbizworks.org
X-WR-CALDESC:Events for Mountain BizWorks
REFRESH-INTERVAL;VALUE=DURATION:PT1H
X-Robots-Tag:noindex
X-PUBLISHED-TTL:PT1H
BEGIN:VTIMEZONE
TZID:America/New_York
BEGIN:DAYLIGHT
TZOFFSETFROM:-0500
TZOFFSETTO:-0400
TZNAME:EDT
DTSTART:20250309T070000
END:DAYLIGHT
BEGIN:STANDARD
TZOFFSETFROM:-0400
TZOFFSETTO:-0500
TZNAME:EST
DTSTART:20251102T060000
END:STANDARD
BEGIN:DAYLIGHT
TZOFFSETFROM:-0500
TZOFFSETTO:-0400
TZNAME:EDT
DTSTART:20260308T070000
END:DAYLIGHT
BEGIN:STANDARD
TZOFFSETFROM:-0400
TZOFFSETTO:-0500
TZNAME:EST
DTSTART:20261101T060000
END:STANDARD
BEGIN:DAYLIGHT
TZOFFSETFROM:-0500
TZOFFSETTO:-0400
TZNAME:EDT
DTSTART:20270314T070000
END:DAYLIGHT
BEGIN:STANDARD
TZOFFSETFROM:-0400
TZOFFSETTO:-0500
TZNAME:EST
DTSTART:20271107T060000
END:STANDARD
END:VTIMEZONE
BEGIN:VEVENT
DTSTART;TZID=America/New_York:20260504T173000
DTEND;TZID=America/New_York:20260504T200000
DTSTAMP:20260421T050740
CREATED:20260123T201519Z
LAST-MODIFIED:20260123T205817Z
UID:10002903-1777915800-1777924800@wpengine.mountainbizworks.org
SUMMARY:Financial Series
DESCRIPTION:What is covered:\nFinancial Tools – Financial Tools will introduce you to the tools to understand the basics of business finance so you can make informed decisions on how to organize and manage your business finances. Topics discussed are record keeping; bookkeeping; accounting; creating\, understanding and using financial statements and reports. \nAccounting Software – this class uses the accounting platform Quickbooks to provide an overview of online software\, the different subscription levels\, and will teach you how to navigate the dashboard and explore the reporting feature to generate reports that can be customized to your needs. When you complete this class\, you’ll know the best ways to get around\, enter day-to-day transactions\, get the information you need out of accounting software\, and powerful report tools that’ll help your business make good decisions. \nCost: $60 \n 
URL:https://wpengine.mountainbizworks.org/event/financial-series-28/
LOCATION:Virtual\, Online — Zoom\, NC
CATEGORIES:Class,Course,Event,Financial Series,Learn,Online
END:VEVENT
BEGIN:VEVENT
DTSTART;TZID=America/New_York:20260506T090000
DTEND;TZID=America/New_York:20260506T100000
DTSTAMP:20260421T050740
CREATED:20231207T145656Z
LAST-MODIFIED:20231207T145656Z
UID:10002506-1778058000-1778061600@wpengine.mountainbizworks.org
SUMMARY:1 Million Cups AVL
DESCRIPTION:1 Million Cups is a Kaufman Foundation initiative intended to bring founders together so they can uplift one another\, learn from each other\, and solve problems together. 1 Million Cups AVL is our local chapter\, and Hatch Innovation Hub is its home. It offers an inclusive space for entrepreneurs to connect\, work through challenges\, and help each other grow. \nEvery Wednesday from 9am – 10am\, community members gather in Hatch’s event space for a 6-minute business presentation from a local founder followed by 20 minutes of Q&A. \nWe recommend 1 Million Cups to everyone\, especially those who are new to WNC’s entrepreneurial community.
URL:https://wpengine.mountainbizworks.org/event/1-million-cups-avl/2026-05-06/
LOCATION:Hatch Innovation Hub\, 45 S French Broad Avenue\, Asheville\, 28801\, United States
CATEGORIES:In-Person,Partner Events
END:VEVENT
BEGIN:VEVENT
DTSTART;TZID=America/New_York:20260511T093000
DTEND;TZID=America/New_York:20260511T123000
DTSTAMP:20260421T050740
CREATED:20260224T173808Z
LAST-MODIFIED:20260224T180507Z
UID:10002907-1778491800-1778502600@wpengine.mountainbizworks.org
SUMMARY:Foundations Business Planning Course
DESCRIPTION:Our Foundations business planning course helps guide ideas from concept to reality in a participatory\, supportive learning environment.\nJoin a cohort of aspiring and existing entrepreneurs to gain an aerial perspective of your vision and the comprehensive business skills necessary to help bring your visions into reality. Participants will gain a clear aerial perspective of their business operations\, financials\, research and development\, and marketing strategies and you have the opportunity to leave the course with a business plan\, a clear vision for your business\, and concrete tasks for your future work. \nThroughout the course\, emphasis will be placed on developing the social capital of the group. Participants will be encouraged to gather feedback from their peers\, creating a strong network of deep support and synergy. For more info\, visit the Foundations Business Planning overview page. \nIf you have any questions please contact our team\,  classes@mountainbizworks.org. \nRegistration\nComplete the online registration form to hold your seat.  We will follow up with you within a few days. You are welcome to contact us with any follow-up questions or ask about the status of your request. \n 
URL:https://wpengine.mountainbizworks.org/event/foundations-business-planning-course-21/
LOCATION:Virtual\, Online — Zoom\, NC
CATEGORIES:Course,Event,Foundations Business Planning,Learn,Online,Online Learning
END:VEVENT
BEGIN:VEVENT
DTSTART;TZID=America/New_York:20260513T090000
DTEND;TZID=America/New_York:20260513T100000
DTSTAMP:20260421T050740
CREATED:20231207T145656Z
LAST-MODIFIED:20231207T145656Z
UID:10002507-1778662800-1778666400@wpengine.mountainbizworks.org
SUMMARY:1 Million Cups AVL
DESCRIPTION:1 Million Cups is a Kaufman Foundation initiative intended to bring founders together so they can uplift one another\, learn from each other\, and solve problems together. 1 Million Cups AVL is our local chapter\, and Hatch Innovation Hub is its home. It offers an inclusive space for entrepreneurs to connect\, work through challenges\, and help each other grow. \nEvery Wednesday from 9am – 10am\, community members gather in Hatch’s event space for a 6-minute business presentation from a local founder followed by 20 minutes of Q&A. \nWe recommend 1 Million Cups to everyone\, especially those who are new to WNC’s entrepreneurial community.
URL:https://wpengine.mountainbizworks.org/event/1-million-cups-avl/2026-05-13/
LOCATION:Hatch Innovation Hub\, 45 S French Broad Avenue\, Asheville\, 28801\, United States
CATEGORIES:In-Person,Partner Events
END:VEVENT
BEGIN:VEVENT
DTSTART;TZID=America/New_York:20260520T090000
DTEND;TZID=America/New_York:20260520T100000
DTSTAMP:20260421T050740
CREATED:20231207T145656Z
LAST-MODIFIED:20231207T145656Z
UID:10002508-1779267600-1779271200@wpengine.mountainbizworks.org
SUMMARY:1 Million Cups AVL
DESCRIPTION:1 Million Cups is a Kaufman Foundation initiative intended to bring founders together so they can uplift one another\, learn from each other\, and solve problems together. 1 Million Cups AVL is our local chapter\, and Hatch Innovation Hub is its home. It offers an inclusive space for entrepreneurs to connect\, work through challenges\, and help each other grow. \nEvery Wednesday from 9am – 10am\, community members gather in Hatch’s event space for a 6-minute business presentation from a local founder followed by 20 minutes of Q&A. \nWe recommend 1 Million Cups to everyone\, especially those who are new to WNC’s entrepreneurial community.
URL:https://wpengine.mountainbizworks.org/event/1-million-cups-avl/2026-05-20/
LOCATION:Hatch Innovation Hub\, 45 S French Broad Avenue\, Asheville\, 28801\, United States
CATEGORIES:In-Person,Partner Events
END:VEVENT
BEGIN:VEVENT
DTSTART;TZID=America/New_York:20260527T090000
DTEND;TZID=America/New_York:20260527T100000
DTSTAMP:20260421T050740
CREATED:20231207T145656Z
LAST-MODIFIED:20231207T145656Z
UID:10002509-1779872400-1779876000@wpengine.mountainbizworks.org
SUMMARY:1 Million Cups AVL
DESCRIPTION:1 Million Cups is a Kaufman Foundation initiative intended to bring founders together so they can uplift one another\, learn from each other\, and solve problems together. 1 Million Cups AVL is our local chapter\, and Hatch Innovation Hub is its home. It offers an inclusive space for entrepreneurs to connect\, work through challenges\, and help each other grow. \nEvery Wednesday from 9am – 10am\, community members gather in Hatch’s event space for a 6-minute business presentation from a local founder followed by 20 minutes of Q&A. \nWe recommend 1 Million Cups to everyone\, especially those who are new to WNC’s entrepreneurial community.
URL:https://wpengine.mountainbizworks.org/event/1-million-cups-avl/2026-05-27/
LOCATION:Hatch Innovation Hub\, 45 S French Broad Avenue\, Asheville\, 28801\, United States
CATEGORIES:In-Person,Partner Events
END:VEVENT
BEGIN:VEVENT
DTSTART;TZID=America/New_York:20260528T100000
DTEND;TZID=America/New_York:20260528T110000
DTSTAMP:20260421T050740
CREATED:20260123T190417Z
LAST-MODIFIED:20260409T191343Z
UID:10002899-1779962400-1779966000@wpengine.mountainbizworks.org
SUMMARY:Orientation Session
DESCRIPTION:Join us for an information session to discover what resources are available at Mountain BizWorks that will help you start\, grow\, and thrive in your business. Hosted by our Learning Programs Manager\, Holly Rivers\, this session is a great opportunity to learn more about Mountain BizWorks’ small business lending and learning programs.
URL:https://wpengine.mountainbizworks.org/event/orientation-session-71/
LOCATION:Mountain BizWorks\, 153 S Lexington Ave\, Asheville\, NC\, 28801\, United States
CATEGORIES:Event,In-Person,Learn,Orientation Session
END:VEVENT
END:VCALENDAR