BEGIN:VCALENDAR
VERSION:2.0
PRODID:-//Mountain BizWorks - ECPv6.15.20//NONSGML v1.0//EN
CALSCALE:GREGORIAN
METHOD:PUBLISH
X-WR-CALNAME:Mountain BizWorks
X-ORIGINAL-URL:https://wpengine.mountainbizworks.org
X-WR-CALDESC:Events for Mountain BizWorks
REFRESH-INTERVAL;VALUE=DURATION:PT1H
X-Robots-Tag:noindex
X-PUBLISHED-TTL:PT1H
BEGIN:VTIMEZONE
TZID:America/New_York
BEGIN:DAYLIGHT
TZOFFSETFROM:-0500
TZOFFSETTO:-0400
TZNAME:EDT
DTSTART:20240310T070000
END:DAYLIGHT
BEGIN:STANDARD
TZOFFSETFROM:-0400
TZOFFSETTO:-0500
TZNAME:EST
DTSTART:20241103T060000
END:STANDARD
BEGIN:DAYLIGHT
TZOFFSETFROM:-0500
TZOFFSETTO:-0400
TZNAME:EDT
DTSTART:20250309T070000
END:DAYLIGHT
BEGIN:STANDARD
TZOFFSETFROM:-0400
TZOFFSETTO:-0500
TZNAME:EST
DTSTART:20251102T060000
END:STANDARD
BEGIN:DAYLIGHT
TZOFFSETFROM:-0500
TZOFFSETTO:-0400
TZNAME:EDT
DTSTART:20260308T070000
END:DAYLIGHT
BEGIN:STANDARD
TZOFFSETFROM:-0400
TZOFFSETTO:-0500
TZNAME:EST
DTSTART:20261101T060000
END:STANDARD
BEGIN:DAYLIGHT
TZOFFSETFROM:-0500
TZOFFSETTO:-0400
TZNAME:EDT
DTSTART:20270314T070000
END:DAYLIGHT
BEGIN:STANDARD
TZOFFSETFROM:-0400
TZOFFSETTO:-0500
TZNAME:EST
DTSTART:20271107T060000
END:STANDARD
END:VTIMEZONE
BEGIN:VEVENT
DTSTART;TZID=America/New_York:20250624T173000
DTEND;TZID=America/New_York:20260624T193000
DTSTAMP:20260421T004631
CREATED:20250523T200530Z
LAST-MODIFIED:20250523T200530Z
UID:10002822-1750786200-1782329400@wpengine.mountainbizworks.org
SUMMARY:El Grupo de Crecimiento Catalizador
DESCRIPTION:El Grupo de Crecimiento Catalizador es una forma constructiva de invertir en ti mismo y en tu negocio mediante una búsqueda cohesiva y unificada del éxito. \nEste programa une conocimiento y esfuerzo en un espíritu de armonía entre un grupo de emprendedores que buscan alcanzar una meta definida. \nCon esto en mente\, es importante recordar que este programa se basa en la idea: “¡Cuanto más damos\, más recibimos!” \nPara postularte\, completa la solicitud antes del 9 de junio. \nSi tienes alguna pregunta o inquietud\, no dudes en contactar con la gerente del programa en jenny@mountainbizworks.org.
URL:https://wpengine.mountainbizworks.org/event/el-grupo-de-crecimiento-catalizador/
LOCATION:NC
CATEGORIES:Catalizador,En Espanol
END:VEVENT
BEGIN:VEVENT
DTSTART;TZID=America/New_York:20261102T090000
DTEND;TZID=America/New_York:20261102T120000
DTSTAMP:20260421T004631
CREATED:20251205T205807Z
LAST-MODIFIED:20260202T165447Z
UID:10002892-1793610000-1793620800@wpengine.mountainbizworks.org
SUMMARY:CUPO LLENO – Fundaciones Planeación de Negocios
DESCRIPTION:¡Planifique\, Crezca y Administre su Negocio con nuestro Curso de Planeación de Negocios\, Fundaciones!\nSesión de Orientación en Persona:Únase a nosotros para una sesión de orientación e información en persona para este curso el 15 de enero de 5:30pm a 6:30pm en Hola Carolina\, Hendersonville. Durante la orientación\, podrá registrarse y pagar en efectivo. \nFechas y Horario del Curso:Este curso se reúne todos los miércoles de 9:00am a 12:00pm\, a partir del 11 de febrero. \nUbicación:Hola Carolina\, Hendersonville \nCosto del Curso:El costo del curso es de $225\, con un depósito mínimo del 50% requerido al momento de la inscripción para reservar su lugar. \nAyuda Financiera:La ayuda financiera está disponible para todos nuestros programas de aprendizaje a través del Programa de Becas WNC Strong: Recover Forward. Solicite una beca dentro del formulario de inscripción en línea de Fundaciones si vive en Western North Carolina. \nEnvíe un correo electrónico a scholarships@mountainbizworks.org con una identificación con foto válida y comprobante de ingresos del hogar (declaración de impuestos más reciente\, W2\, talones de pago consecutivos o similar). Una vez aprobada su beca\, recibirá un enlace de pago en línea para completar su inscripción antes del inicio de clases el 11 de febrero. \nBeneficios de la Beca: \n\n\nUn mínimo del 80% de descuento en todas las clases y talleres \n\n\nUn mínimo de 10 horas de asesoramiento empresarial 1 a 1 gratuito \n\n\nElegibilidad para cualquier persona en WNC\, en cualquier etapa de su negocio \n\n\nCompromiso de que nadie será excluido por falta de fondos \n\n\n¿Preguntas? Envíe un correo a scholarships@mountainbizworks.org. \nAsistencia y Políticas de Clase: \n\n\nLlegue temprano cada semana para las siete semanas de clase. \n\n\nLa asistencia a las primeras dos sesiones es obligatoria. \n\n\nSi tiene un conflicto de horario que le impida asistir a otra clase\, notifíquelo a Jenny con anticipación. \n\n\nSi pierde alguna clase\, se le proporcionarán los materiales para que pueda ponerse al día con las tareas y estar listo para la siguiente sesión. \n\n\nApoyo Adicional:Si no tiene acceso a una computadora\, Mountain BizWorks puede prestarle una laptop para el curso. Para solicitar una laptop\, envíe un correo a jenny@mountainbizworks.org.
URL:https://wpengine.mountainbizworks.org/event/fundaciones-planeacion-de-negocios-11/
LOCATION:Hola Carolina\, 801 4th avenue\, East Hendersonville\, NC\, 28792
CATEGORIES:Course,En Espanol,Event,Fundaciones,In-Person,Learn
END:VEVENT
END:VCALENDAR